Workbook

Sheet Invoer
A1: Map | B1: Naam project | C1: Gebied | D1: defx | E1: Inlezen | F1: Locations | G1: Surfacelines/char | H1: Soilprofiles | I1: Bijzonderheden | J1: Inlezen | K1: Damx | L1: Opmerkingen
A2: Invoer1 | B2: RPS-STBI | C2: Delfland | D2: Actualisatie | E2: Toets/Reg | F2: csv&shape | G2: RD | H2: 1D | I2: stress tables | J2: ok | K2: Actualisatie
A3: Invoer1 | B3: RPS-STBU | C3: Delfland | D3: Actualisatie | E3: Ontwerp/Reg | F3: csv&shape | G3: RD | H3: 1D | I3: stress tables | J3: ok | K3: Actualisatie | L3: Grid naar handmatig gezet
A4: Invoer2 | B4: Tutorial Design | C4: HSSK | D4: DAM Tutorial Design | E4: Ontwerp/Prim | F4: csv | G4: lokaal | H4: 2D | J4: ok | K4: DAM Tutorial Design | L4: Let op: Use slope top shouder op FALSE zetten
A5: Invoer3 | B5: DeltaDijk normal | C5: Friesland | D5: DeltaDijk normal | E5: Ontwerp/Prim | F5: csv | G5: lokaal | H5: 1D | J5: ok | K5: DeltaDijk normal
A6: Invoer4 | B6: HHNK All | C6: HHNK | D6: HHNK | E6: Toets/Reg | F6: csv | G6: RD | H6: 1D | I6: 45 trajecten | J6: ok (Balgzandkanaal) | K6: Balgzandkanaal | L6: 230, 890, 980 en 1080 kunnen niet rekenen.
A7: Invoer5 | B7: Rijnland | C7: Rijnland -Testset 1 | D7: binnenwaarts | E7: Ontwerp/Reg | F7: csv | G7: lokaal | H7: 2D | J7: ok | K7: binnenwaarts
A8: Invoer5 | B8: Rijnland | C8: Rijnland -Testset 2 | D8: buitenwaarts | E8: Ontwerp/Reg | F8: csv | G8: lokaal | H8: 2D | J8: ok | K8: buitenwaarts
A9: Invoer6 | B9: Rijnland | C9: Rijnland | D9: Piping.defx | E9: Ontwerp/Prim | F9: csv | G9: lokaal | H9: 2D | I9: Piping/2D | J9: ok | K9: piping | L9: Piping met 2D niet mogelijk check op foutmelding. NB damx openen veroorzaakt crash
A10: Invoer7 | B10: Tutorial - Toetsing | C10: HHNK | D10: Voorbeeldtraject1 | E10: Toets/Reg | F10: csv&shape | G10: RD | H10: 1D | I10: vanaf bestaande damx | J10: ok | K10: Voorbeeldtraject1
A11: Invoer8 | B11: Tutorial - Waterspanningen | D11: CIP_waterspanningen | E11: Ontwerp/Prim | F11: csv | G11: lokaal | H11: 2D | J11: ok | K11: CIP_waterspanningen | L11: The dike has an improper shape (p.e. dike top below dike toe) -223-17
A12: Invoer9 | B12: Groningen | C12: Groningen | D12: Groningen | E12: Ontwerp/Prim | F12: csv | G12: RD | H12: 2D | J12: ok | K12: Groningen

Sheet Gerekend
A1: =Invoer!A1 -> Map | B1: =Invoer!B1 -> Naam project | C1: =Invoer!C1 -> Gebied | D1: =Invoer!E1 -> Inlezen | E1: =Invoer!K1 -> Damx | F1: =Invoer!L1 -> Opmerkingen | G1: Geometrieaanpassing | H1: Systeem type faalmechanisme | I1: Berekeningsmethode | J1: Log | K1: Rekentijd
A2: Gerekend1 | B2: =Invoer!B2 -> RPS-STBI | C2: =Invoer!C2 -> Delfland | D2: =Invoer!E2 -> Toets/Reg | E2: =Invoer!K2 -> Actualisatie | F2: =Invoer!L2 -> 0 | G2: nvt | H2: VNK-spec1m-Automatic | I2: div | J2: Cannot generate scenarios: Level (-2.32 m) should NOT be higher than surface line (-2.46)) | K2: 30 min
A3: Gerekend1 | B3: =Invoer!B3 -> RPS-STBU | C3: =Invoer!C3 -> Delfland | D3: =Invoer!E3 -> Ontwerp/Reg | E3: =Invoer!K3 -> Actualisatie | F3: =Invoer!L3 -> Grid naar handmatig gezet | G3: nee | H3: 4F-bound-spec | I3: Bishop | J3: Het aanpassen van de helling van het dijkprofiel is mislukt. Waarschijnlijk is de nieuwe helling te steil of te flauw. RK215-830 en RK215-830 | K3: 9 min
A4: Gerekend2 | B4: =Invoer!B4 -> Tutorial Design | C4: =Invoer!C4 -> HSSK | D4: =Invoer!E4 -> Ontwerp/Prim | E4: =Invoer!K4 -> DAM Tutorial Design | F4: =Invoer!L4 -> Let op: Use slope top shouder op FALSE zetten | G4: ja | H4: Binnenwaartse stabiliteit | I4: Bishop | J4: DWP_13, scenario 1, DWP_13.sti FAIL: De nieuwe hoogte van de berm met afschot is groter dan de maximaal toegestane hoogte. DWP_14, scenario 1, DWP_14.sti FAIL: De nieuwe hoogte van de berm met afschot is groter dan de maximaal toegestane hoogte. DWP_16, scenario 1, DWP_16.sti FAIL: De nieuwe hoogte van de berm met afschot is groter dan de maximaal toegestane hoogte. DWP_22, scenario 1, DWP_22.sti FAIL: De nieuwe hoogte van de berm met afschot is groter dan de maximaal toegestane hoogte. DWP_15, scenario 1, DWP_15.sti FAIL: De nieuwe hoogte van de berm met afschot is groter dan de maximaal toegestane hoogte. DWP_9, scenario 1, DWP_9.sti FAIL: De nieuwe hoogte van de berm met afschot is groter dan de maximaal toegestane hoogte. DWP_8, scenario 1, DWP_8.sti FAIL: De nieuwe hoogte van de berm met afschot is groter dan de maximaal toegestane hoogte. | K4: 4 min
A5: Gerekend3 | B5: =Invoer!B5 -> DeltaDijk normal | C5: =Invoer!C5 -> Friesland | D5: =Invoer!E5 -> Ontwerp/Prim | E5: =Invoer!K5 -> DeltaDijk normal | F5: =Invoer!L5 -> 0 | G5: ja | H5: Binnenwaartse stabiliteit | K5: 24min
A6: Gerekend4 | B6: =Invoer!B6 -> HHNK All | C6: =Invoer!C6 -> HHNK | D6: =Invoer!E6 -> Toets/Reg | E6: =Invoer!K6 -> Balgzandkanaal | F6: =Invoer!L6 -> 230, 890, 980 en 1080 kunnen niet rekenen. | G6: nvt | H6: nvt toetsing | K6: nog rekenen
A7: Gerekend5 | B7: =Invoer!B7 -> Rijnland | C7: =Invoer!C7 -> Rijnland -Testset 1 | D7: =Invoer!E7 -> Ontwerp/Reg | E7: =Invoer!K7 -> binnenwaarts | F7: =Invoer!L7 -> 0 | G7: ja | H7: Binnenwaartse stabiliteit
A8: Gerekend5 | B8: =Invoer!B8 -> Rijnland | C8: =Invoer!C8 -> Rijnland -Testset 2 | D8: =Invoer!E8 -> Ontwerp/Reg | E8: =Invoer!K8 -> buitenwaarts | F8: =Invoer!L8 -> 0 | G8: ja | H8: Binnenwaartse stabiliteit
A9: Gerekend6 | B9: =Invoer!B9 -> Rijnland | C9: =Invoer!C9 -> Rijnland | D9: =Invoer!E9 -> Ontwerp/Prim | E9: =Invoer!K9 -> piping | F9: =Invoer!L9 -> Piping met 2D niet mogelijk check op foutmelding. NB damx openen veroorzaakt crash | G9: ja | H9: Piping | I9: Sellmeijer4krachten | K9: nvt
A10: Gerekend7 | B10: =Invoer!B10 -> Tutorial - Toetsing | C10: =Invoer!C10 -> HHNK | D10: =Invoer!E10 -> Toets/Reg | E10: TPL_STARNMEER_BINNEN | F10: =Invoer!L11 -> The dike has an improper shape (p.e. dike top below dike toe) -223-17 | G10: nvt | H10: nvt toetsing | J10: Cannot generate scenarios: Level (-0.15 m) should NOT be higher than surface line (-0.40)) | K10: 1u22
A11: Gerekend8 | B11: =Invoer!B11 -> Tutorial - Waterspanningen | C11: =Invoer!C11 -> 0 | D11: =Invoer!E11 -> Ontwerp/Prim | E11: =Invoer!K12 -> Groningen | F11: =Invoer!L4 -> Let op: Use slope top shouder op FALSE zetten | G11: ja | K11: 1u00
A12: Gerekend9 | B12: =Invoer!B12 -> Groningen | C12: =Invoer!C12 -> Groningen | D12: =Invoer!E12 -> Ontwerp/Prim | E12: =Invoer!K13 -> 0 | F12: =Invoer!L13 -> 0 | G12: ja

Sheet Oude projecten
A1: Map | B1: Naam | C1: dijktype | D1: calc type | E1: faalmechanisem | F1: aantal locaties | G1: 1D/2D | H1: shapes | I1: Opmerking 1 | J1: Opmerking 2 | K1: Bishop | L1: LiftVan | M1: Bishop/Liftvan | N1: Bligh | O1: Sellmeijer (4 forces | P1: VNK
A2: DamEngineTestProjects | B2: Larenstein_AaenMaas/Rechter Diezedijk | C2: regionaal | D2: ontwerp | E2: piping | F2: 64 | G2: 1D | H2: ja | K2: nvt | L2: nvt | M2: _BishopLiftvan.damx | N2: _bligh.damx
A3: DamEngineTestProjects | B3: Larenstein_AaenMaas/Rechter Diezedijk_stab | C3: regionaal | D3: ontwerp | E3: stabiliteit | F3: 64 | G3: 1D | H3: ja | I3: geeft onverwachte fout bij Liftvan voor locaties 29,30,99,100 | K3: nvt | L3: op rekennode WCF226 | M3: nvt | N3: nvt | O3: nvt | P3: nvt
A4: DamEngineTestProjects | B4: DAM Tutorial Design | C4: primair | D4: ontwerp | E4: stabiliteit | F4: 23 | G4: 2D | H4: nee
A5: DamEngineTestProjects | B5: Delfland_DSM_toets | C5: regionaal | D5: toets | E5: stabiliteit | F5: 26 | G5: 1D | H5: ja | I5: Surfacelines in RD coordinaten | J5: SigmaTau curves
A6: DamEngineTestProjects | B6: HHNK_WILMKEBREEK | C6: regionaal | D6: ontwerp | E6: stabiliteit | F6: 29 | G6: 2D | H6: ja | I6: ophoogmateriaal handmatig toegevoegd aan DAMX
A7: DamEngineTestProjects | B7: Delfland_DSM_ontw_BU | C7: regionaal | D7: ontwerp | E7: stabiliteit | F7: 26 | G7: 1D | H7: ja | I7: idem toets, maar dan buitenwaartsc | J7: handmatig grid binnen grenzen van geometrie zetten
A9: DamEngineTestProjects | B9: HHNK_STARNMEER | C9: regionaal | D9: toets | F9: 70 | I9: geeft nog fouten, niet ingecheckt (irene, 24 okt)

Sheet Todo
A1: Onderwerp
A2: rekenen met CU calculated in DAM
