Workbook

Sheet loc_id
A1: location_id
A2: 002_042_00001
A3: 002_042_00003
A4: 002_042_00004
A5: 002_042_00005
A6: 002_042_00006
A7: 002_042_00007
A8: 002_042_00011
A9: 002_042_00012
A10: 002_042_00018
A11: 002_042_00023
A12: 002_042_00024
... A319: 242_042_00044

Sheet surf_in
A1: id | B1: Profielnaam;X_GridPoint;Y_GridPoint;ScenarioClusterID;X1;Y1;Z1;.....;Xn;Yn;Zn;(Profiel);;;;;;;;;;;;;;;;;;;;;;;;;;;;;;;;;;;;;;;;;;;;;;;;;;;;;;;;;;;;;;;;;;;;;;;;;;;;;;;;;;;;;;;;;;;;;;;;;;;;;;;;;;;;;;;;;;;;;;;;;;;;;;;;;;;;;;;;;;;;;;;;;;;;;;;;;;;;;;;;;;;;;;;;;;;;;;;;;;;;;;;;;;;;;;;;;;;;;;;;;;;;;;;;;;;;;;;;;;;;;;;;;;;;;;;;;;;;;;;;;;;;;;;;;;;;;;;;;;;;;;;;;;;;;;;;;;;;;;;;;;;;;;;;;;;;;;;;;;;;;;;;;;;;;;;;;;;;;;;;;;;;;;;;;;;;;;;;;;;;;;;;;;;;;;;;;;;;;;;;;;;;;;;;;;;;;;;;;;;;;;;;;;;;;;;;;;;;;;;;;;;;;;;;;;;;;;;;;;;;;;;;;;;;;;;;;;;;;;;;;;;;;;;;;;;;;;;;;;;;;;;;;;;;;;;;;;;;;;;;;;;;;;;;;;;;;;;;;;;;;;;;;;;;;;;;;;
A2: =LEFT(B2,13) -> 002_042_00042 | B2: 002_042_00042;10.5;0;1;0;0;-3.1;1.25;0;-3.1;2.424;0;-2.62;3.998;0;-1.976;4.709;0;-1.734;5.389;0;-1.463;5.838;0;-1.311;6.98;0;-0.944;7.214;0;-0.84;7.5;0;-0.6;8;0;-0.42;8.5;0;-0.17;9;0;-0.14;9.5;0;-0.04;10;0;-0.12;10.5;0;-0.21;10.875;0;-0.42;11;0;-0.49;11.5;0;-0.63;12;0;-0.79;12.5;0;-1.1;13;0;-1.2;13.5;0;-1.28;14;0;-1.39;14.5;0;-1.47;15;0;-1.5;15.5;0;-1.53;16;0;-1.58;16.5;0;-1.58;17;0;-1.54;17.5;0;-1.96;17.571;0;-2.03;18.5;0;-2.95;25;0;-2.95;;;;;;;;;;;;;;;;;;;;;;;;;;;;;;;;;;;;;;;;;;;;;;;;;;;;;;;;;;;;;;;;;;;;;;;;;;;;;;;;;;;;;;;;;;;;;;;;;;;;;;;;;;;;;;;;;;;;;;;;;;;;;;;;;;;;;;;;;;;;;;;;;;;;;;;;;;;;;;;;;;;;;;;;;;;;;;;;;;;;;;;;;;;;;;;;;;;;;;;;;;;;;;;;;;;;;;;;;;;;;;;;;;;;;;;;;;;;;;;;;;;;;;;;;;;;;;;;;;;;;;;;;;;;;;;;;;;;;;;;;;;;;;;;;;;;;;;;;;;;;;;;;;;;;;;;;;;;;;;;;;;;;;;;;;;;;;;;;;;;;;;;;;;;;;;;;;;;;;;;;;;;;;;;;;;;;;;;;;;;;;;;;;;;;;;;;;;;;;;;;;;;;;;;;;;;;;;;;;;;
A3: =LEFT(B3,13) -> 002_042_00041 | B3: 002_042_00041;10;0;19;0;0;-1.8;1.97;0;-1.8;2.44;0;-1.617;2.637;0;-1.58;3.44;0;-1.429;4.65;0;-1.129;4.74;0;-0.6;5;0;-0.34;5.5;0;-0.2;6;0;-0.16;6.5;0;-0.16;7;0;-0.4;7.5;0;-0.47;8;0;-0.52;8.5;0;-0.51;9;0;-0.51;9.5;0;-0.51;10;0;-0.56;10.5;0;-0.58;11;0;-0.67;11.5;0;-0.86;12;0;-0.97;12.5;0;-1.15;13;0;-1.25;13.5;0;-1.43;13.941;0;-1.58;14;0;-1.6;14.5;0;-1.686;15;0;-1.72;15.5;0;-1.72;16;0;-1.97;16.5;0;-1.96;17.456;0;-2.45;21.5;0;-2.45;;;;;;;;;;;;;;;;;;;;;;;;;;;;;;;;;;;;;;;;;;;;;;;;;;;;;;;;;;;;;;;;;;;;;;;;;;;;;;;;;;;;;;;;;;;;;;;;;;;;;;;;;;;;;;;;;;;;;;;;;;;;;;;;;;;;;;;;;;;;;;;;;;;;;;;;;;;;;;;;;;;;;;;;;;;;;;;;;;;;;;;;;;;;;;;;;;;;;;;;;;;;;;;;;;;;;;;;;;;;;;;;;;;;;;;;;;;;;;;;;;;;;;;;;;;;;;;;;;;;;;;;;;;;;;;;;;;;;;;;;;;;;;;;;;;;;;;;;;;;;;;;;;;;;;;;;;;;;;;;;;;;;;;;;;;;;;;;;;;;;;;;;;;;;;;;;;;;;;;;;;;;;;;;;;;;;;;;;;;;;;;;;;;;;;;;;;;;;;;;;;;;;;;;;;;;;;;;;;;;
A4: =LEFT(B4,13) -> 002_042_00040 | B4: 002_042_00040;13;0;2;0;0;-0.344;0.504;0;-0.378;1.003;0;-0.6;2.021;0;-1.063;2.632;0;-1.423;3.407;0;-1.595;4.207;0;-1.653;5.113;0;-1.699;6.01;0;-1.671;6.786;0;-1.573;7.725;0;-1.277;8.298;0;-0.913;9;0;-0.671;9.5;0;-0.572;10;0;-0.466;10.5;0;-0.272;11;0;-0.144;11.5;0;-0.112;12;0;-0.163;12.5;0;-0.181;13;0;-0.21;13.5;0;-0.407;14;0;-0.614;14.5;0;-1.042;15;0;-1.729;15.295;0;-2.31;15.493;0;-2.45;26;0;-2.45;;;;;;;;;;;;;;;;;;;;;;;;;;;;;;;;;;;;;;;;;;;;;;;;;;;;;;;;;;;;;;;;;;;;;;;;;;;;;;;;;;;;;;;;;;;;;;;;;;;;;;;;;;;;;;;;;;;;;;;;;;;;;;;;;;;;;;;;;;;;;;;;;;;;;;;;;;;;;;;;;;;;;;;;;;;;;;;;;;;;;;;;;;;;;;;;;;;;;;;;;;;;;;;;;;;;;;;;;;;;;;;;;;;;;;;;;;;;;;;;;;;;;;;;;;;;;;;;;;;;;;;;;;;;;;;;;;;;;;;;;;;;;;;;;;;;;;;;;;;;;;;;;;;;;;;;;;;;;;;;;;;;;;;;;;;;;;;;;;;;;;;;;;;;;;;;;;;;;;;;;;;;;;;;;;;;;;;;;;;;;;;;;;;;;;;;;;;;;;;;;;;;;;;;;;;;;;;;;;;;;;;;;;;;;;;;;;;;;;
A5: =LEFT(B5,13) -> 002_042_00039 | B5: 002_042_00039;20.5;0;21;0;0;-4.2;0.847;0;-4.127;1.628;0;-4.194;2.289;0;-4.185;2.961;0;-4.096;3.622;0;-3.997;4.306;0;-4.006;4.969;0;-3.974;5.663;0;-3.728;6.387;0;-3.667;7.077;0;-3.391;7.824;0;-3.095;8.515;0;-2.838;9.237;0;-2.442;9.336;0;-1.45;9.42;0;-0.6;9.47;0;-0.55;9.5;0;-0.52;10;0;-0.129;10.5;0;-0.129;11;0;0.097;11.5;0;0.202;12;0;0.291;12.5;0;0.291;13;0;0.217;13.5;0;0.25;14;0;0.251;14.5;0;0.261;15;0;0.272;15.5;0;0.278;16;0;0.307;16.5;0;0.311;17;0;0.325;17.5;0;0.269;18;0;0.265;18.5;0;0.256;19;0;0.287;19.5;0;0.279;20;0;0.221;20.5;0;0.168;21;0;-0.187;21.228;0;-0.55;21.793;0;-1.45;22.701;0;-2.45;28;0;-2.45;;;;;;;;;;;;;;;;;;;;;;;;;;;;;;;;;;;;;;;;;;;;;;;;;;;;;;;;;;;;;;;;;;;;;;;;;;;;;;;;;;;;;;;;;;;;;;;;;;;;;;;;;;;;;;;;;;;;;;;;;;;;;;;;;;;;;;;;;;;;;;;;;;;;;;;;;;;;;;;;;;;;;;;;;;;;;;;;;;;;;;;;;;;;;;;;;;;;;;;;;;;;;;;;;;;;;;;;;;;;;;;;;;;;;;;;;;;;;;;;;;;;;;;;;;;;;;;;;;;;;;;;;;;;;;;;;;;;;;;;;;;;;;;;;;;;;;;;;;;;;;;;;;;;;;;;;;;;;;;;;;;;;;;;;;;;;;;;;;;;;;;;;;;;;;;;;;;;;;;;;;;;;;;;;;;;;;;;;;;;;;;;;;;
A6: =LEFT(B6,13) -> 002_042_00036 | B6: 002_042_00036;11;0;22;0;0;-1.8;2.436;0;-1.8;2.669;0;-1.45;3.236;0;-0.6;3.286;0;-0.55;3.5;0;-0.336;4;0;-0.336;4.5;0;-0.186;5;0;-0.074;5.5;0;-0.03;6;0;-0.015;6.5;0;-0.01;7;0;0.034;7.5;0;0.028;8;0;0.028;8.5;0;0.04;9;0;0.047;9.5;0;0.015;10;0;-0.002;10.5;0;-0.023;11;0;-0.062;11.5;0;-0.156;12;0;-0.305;12.425;0;-0.55;12.5;0;-0.593;13;0;-0.814;13.489;0;-1.45;14.324;0;-2.2;15.324;0;-2.2;16.167;0;-1.45;16.5;0;-0.907;17;0;-0.79;17.5;0;-0.58;17.955;0;-0.55;18;0;-0.547;18.5;0;-0.502;19;0;-0.462;19.5;0;-0.404;20;0;-0.404;20.5;0;-0.394;21;0;-0.381;21.5;0;-0.346;22;0;-0.371;22.5;0;-0.359;25;0;-0.55;;;;;;;;;;;;;;;;;;;;;;;;;;;;;;;;;;;;;;;;;;;;;;;;;;;;;;;;;;;;;;;;;;;;;;;;;;;;;;;;;;;;;;;;;;;;;;;;;;;;;;;;;;;;;;;;;;;;;;;;;;;;;;;;;;;;;;;;;;;;;;;;;;;;;;;;;;;;;;;;;;;;;;;;;;;;;;;;;;;;;;;;;;;;;;;;;;;;;;;;;;;;;;;;;;;;;;;;;;;;;;;;;;;;;;;;;;;;;;;;;;;;;;;;;;;;;;;;;;;;;;;;;;;;;;;;;;;;;;;;;;;;;;;;;;;;;;;;;;;;;;;;;;;;;;;;;;;;;;;;;;;;;;;;;;;;;;;;;;;;;;;;;;;;;;;;;;;;;;;;;;;;;;;;;;;;;;;;;;;;;;;;;;;
A7: =LEFT(B7,13) -> 002_042_00027 | B7: 002_042_00027;20.5;0;23;0;0;-4.2;0.847;0;-4.127;1.628;0;-4.194;2.289;0;-4.185;2.961;0;-4.096;3.622;0;-3.997;4.306;0;-4.006;4.969;0;-3.974;5.663;0;-3.728;6.387;0;-3.667;7.077;0;-3.391;7.824;0;-3.095;8.515;0;-2.838;9.237;0;-2.442;9.336;0;-1.45;9.42;0;-0.6;9.47;0;-0.55;9.5;0;-0.52;10;0;-0.129;10.5;0;-0.129;11;0;0.097;11.5;0;0.202;12;0;0.291;12.5;0;0.291;13;0;0.217;13.5;0;0.25;14;0;0.251;14.5;0;0.261;15;0;0.272;15.5;0;0.278;16;0;0.307;16.5;0;0.311;17;0;0.325;17.5;0;0.269;18;0;0.265;18.5;0;0.256;19;0;0.287;19.5;0;0.279;20;0;0.221;20.5;0;0.168;21;0;-0.187;21.228;0;-0.55;21.793;0;-1.45;22.701;0;-2.45;28;0;-2.45;;;;;;;;;;;;;;;;;;;;;;;;;;;;;;;;;;;;;;;;;;;;;;;;;;;;;;;;;;;;;;;;;;;;;;;;;;;;;;;;;;;;;;;;;;;;;;;;;;;;;;;;;;;;;;;;;;;;;;;;;;;;;;;;;;;;;;;;;;;;;;;;;;;;;;;;;;;;;;;;;;;;;;;;;;;;;;;;;;;;;;;;;;;;;;;;;;;;;;;;;;;;;;;;;;;;;;;;;;;;;;;;;;;;;;;;;;;;;;;;;;;;;;;;;;;;;;;;;;;;;;;;;;;;;;;;;;;;;;;;;;;;;;;;;;;;;;;;;;;;;;;;;;;;;;;;;;;;;;;;;;;;;;;;;;;;;;;;;;;;;;;;;;;;;;;;;;;;;;;;;;;;;;;;;;;;;;;;;;;;;;;;;;;
A8: =LEFT(B8,13) -> 002_042_00026 | B8: 002_042_00026;8;0;26;0;0;-1.8;2.434;0;-1.8;3.234;0;-0.6;3.5;0;-0.334;4;0;-0.315;4.5;0;-0.168;5;0;-0.168;5.5;0;-0.142;6;0;-0.174;6.5;0;-0.208;7;0;-0.217;7.5;0;-0.217;8;0;-0.171;8.5;0;-0.283;9;0;-0.587;9.5;0;-0.86;10;0;-1.104;10.5;0;-1.293;11;0;-1.493;12.5;0;-2.45;14.5;0;-2.45;15.5;0;-2.037;16;0;-1.598;16.5;0;-1.443;17;0;-1.389;17.5;0;-1.32;18;0;-1.288;18.5;0;-1.291;19;0;-1.268;19.5;0;-1.288;20;0;-1.272;20.5;0;-1.29;21;0;-1.274;21.5;0;-1.274;22;0;-1.277;22.5;0;-1.267;23;0;-1.278;;;;;;;;;;;;;;;;;;;;;;;;;;;;;;;;;;;;;;;;;;;;;;;;;;;;;;;;;;;;;;;;;;;;;;;;;;;;;;;;;;;;;;;;;;;;;;;;;;;;;;;;;;;;;;;;;;;;;;;;;;;;;;;;;;;;;;;;;;;;;;;;;;;;;;;;;;;;;;;;;;;;;;;;;;;;;;;;;;;;;;;;;;;;;;;;;;;;;;;;;;;;;;;;;;;;;;;;;;;;;;;;;;;;;;;;;;;;;;;;;;;;;;;;;;;;;;;;;;;;;;;;;;;;;;;;;;;;;;;;;;;;;;;;;;;;;;;;;;;;;;;;;;;;;;;;;;;;;;;;;;;;;;;;;;;;;;;;;;;;;;;;;;;;;;;;;;;;;;;;;;;;;;;;;;;;;;;;;;;;;;;;;;;;;;;;;;;;;;;;;;;;;;;;;;;
A9: =LEFT(B9,13) -> 002_042_00025 | B9: 002_042_00025;20.5;0;3;0;0;-4.2;0.847;0;-4.127;1.628;0;-4.194;2.289;0;-4.185;2.961;0;-4.096;3.622;0;-3.997;4.306;0;-4.006;4.969;0;-3.974;5.663;0;-3.728;6.387;0;-3.667;7.077;0;-3.391;7.824;0;-3.095;8.515;0;-2.838;9.237;0;-2.442;9.336;0;-1.45;9.42;0;-0.6;9.47;0;-0.55;9.5;0;-0.52;10;0;-0.129;10.5;0;-0.129;11;0;0.097;11.5;0;0.202;12;0;0.291;12.5;0;0.291;13;0;0.217;13.5;0;0.25;14;0;0.251;14.5;0;0.261;15;0;0.272;15.5;0;0.278;16;0;0.307;16.5;0;0.311;17;0;0.325;17.5;0;0.269;18;0;0.265;18.5;0;0.256;19;0;0.287;19.5;0;0.279;20;0;0.221;20.5;0;0.168;21;0;-0.187;21.228;0;-0.55;21.793;0;-1.45;22.701;0;-2.45;28;0;-2.45;;;;;;;;;;;;;;;;;;;;;;;;;;;;;;;;;;;;;;;;;;;;;;;;;;;;;;;;;;;;;;;;;;;;;;;;;;;;;;;;;;;;;;;;;;;;;;;;;;;;;;;;;;;;;;;;;;;;;;;;;;;;;;;;;;;;;;;;;;;;;;;;;;;;;;;;;;;;;;;;;;;;;;;;;;;;;;;;;;;;;;;;;;;;;;;;;;;;;;;;;;;;;;;;;;;;;;;;;;;;;;;;;;;;;;;;;;;;;;;;;;;;;;;;;;;;;;;;;;;;;;;;;;;;;;;;;;;;;;;;;;;;;;;;;;;;;;;;;;;;;;;;;;;;;;;;;;;;;;;;;;;;;;;;;;;;;;;;;;;;;;;;;;;;;;;;;;;;;;;;;;;;;;;;;;;;;;;;;;;;;;;;;;;
A10: =LEFT(B10,13) -> 002_042_00024 | B10: 002_042_00024;5.5;0;40;0;0;-1.8;1.155;0;-1.8;1.955;0;-0.6;2;0;-0.555;2.5;0;-0.218;3;0;-0.168;3.5;0;-0.049;4;0;-0.073;4.5;0;-0.06;5;0;-0.099;5.5;0;-0.099;6;0;-0.259;6.5;0;-0.5;7;0;-0.627;7.5;0;-0.8;8;0;-0.8;8.5;0;-1.144;9;0;-1.29;9.5;0;-1.415;10;0;-1.449;11.6;0;-2.55;15;0;-2.55;;;;;;;;;;;;;;;;;;;;;;;;;;;;;;;;;;;;;;;;;;;;;;;;;;;;;;;;;;;;;;;;;;;;;;;;;;;;;;;;;;;;;;;;;;;;;;;;;;;;;;;;;;;;;;;;;;;;;;;;;;;;;;;;;;;;;;;;;;;;;;;;;;;;;;;;;;;;;;;;;;;;;;;;;;;;;;;;;;;;;;;;;;;;;;;;;;;;;;;;;;;;;;;;;;;;;;;;;;;;;;;;;;;;;;;;;;;;;;;;;;;;;;;;;;;;;;;;;;;;;;;;;;;;;;;;;;;;;;;;;;;;;;;;;;;;;;;;;;;;;;;;;;;;;;;;;;;;;;;;;;;;;;;;;;;;;;;;;;;;;;;;;;;;;;;;;;;;;;;;;;;;;;;;;;;;;;;;;;;;;;;;;;;;;;;;;;;;;;;;;;;;;;;;;;;;;;;;;;;;;;;;;;;;;;;;;;;;;;;;;;;;;;;;;;;;;;;;
A11: =LEFT(B11,13) -> 002_042_00023 | B11: 002_042_00023;23.5;0;42;0;0;-4.2;1;0;-4.2;2.341;0;-3.866;3.039;0;-3.483;3.694;0;-3.809;4.349;0;-3.626;5.063;0;-3.467;5.765;0;-3.159;6.428;0;-2.995;6.784;0;-2.87;7.155;0;-2.74;7.819;0;-2.496;8.497;0;-2.357;9.219;0;-2.203;9.942;0;-2.168;10.619;0;-2.05;11.338;0;-2.087;11.77;0;-1.615;11.924;0;-0.87;11.98;0;-0.6;12.5;0;-0.08;13;0;0.023;13.5;0;0.023;14;0;0.081;14.5;0;0.091;15;0;0.114;15.5;0;0.106;16;0;0.158;16.5;0;0.269;17;0;0.26;17.5;0;0.242;18;0;0.245;18.5;0;0.232;19;0;0.277;19.5;0;0.275;20;0;0.284;20.5;0;0.275;21;0;0.281;21.5;0;0.275;22;0;0.245;22.5;0;0.235;23;0;0.212;23.5;0;0.225;24;0;0.117;24.5;0;0.021;25;0;-0.215;25.5;0;-1.09;26;0;-1.916;26.211;0;-2.29;26.522;0;-2.35;30;0;-2.35;;;;;;;;;;;;;;;;;;;;;;;;;;;;;;;;;;;;;;;;;;;;;;;;;;;;;;;;;;;;;;;;;;;;;;;;;;;;;;;;;;;;;;;;;;;;;;;;;;;;;;;;;;;;;;;;;;;;;;;;;;;;;;;;;;;;;;;;;;;;;;;;;;;;;;;;;;;;;;;;;;;;;;;;;;;;;;;;;;;;;;;;;;;;;;;;;;;;;;;;;;;;;;;;;;;;;;;;;;;;;;;;;;;;;;;;;;;;;;;;;;;;;;;;;;;;;;;;;;;;;;;;;;;;;;;;;;;;;;;;;;;;;;;;;;;;;;;;;;;;;;;;;;;;;;;;;;;;;;;;;;;;;;;;;;;;;;;;;;;;;;;;;;;;;;;;;;;;;;;;;;;;;;;;;
A12: =LEFT(B12,13) -> 002_042_00018 | B12: 002_042_00018;25;0;7;0;0;-1.8;2.571;0;-1.8;3.191;0;-0.87;3.371;0;-0.6;3.5;0;-0.471;4;0;-0.274;4.5;0;-0.225;5;0;-0.161;5.5;0;-0.168;6;0;-0.13;6.5;0;-0.123;7;0;-0.108;7.5;0;-0.106;8;0;-0.044;8.5;0;-0.017;9;0;0;9.5;0;0.023;10;0;0.041;10.5;0;0.05;11;0;0.092;11.5;0;0.02;12;0;0.034;12.5;0;0.034;13;0;0.013;13.5;0;0.03;14;0;0.012;14.5;0;0.009;15;0;-0.05;15.5;0;-0.05;16;0;-0.077;16.5;0;-0.075;17;0;-0.115;17.5;0;-0.133;18;0;-0.167;18.5;0;-0.165;19;0;-0.165;19.5;0;-0.201;20;0;-0.224;20.5;0;-0.241;21;0;-0.253;21.5;0;-0.268;22;0;-0.268;22.5;0;-0.294;23;0;-0.292;23.5;0;-0.348;24;0;-0.4;24.5;0;-0.504;25;0;-0.532;25.5;0;-0.666;26;0;-0.874;26.5;0;-1.018;26.611;0;-1.09;27;0;-1.343;27.5;0;-1.638;28;0;-1.739;28.5;0;-1.739;29;0;-1.838;29.406;0;-2.29;30;0;-2.95;30.635;0;-2.95;31.311;0;-2.29;31.586;0;-1.996;32;0;-1.717;32.5;0;-1.461;33;0;-1.426;33.5;0;-1.124;33.613;0;-1.09;34;0;-0.973;34.5;0;-0.891;35;0;-0.821;35.5;0;-0.74;36;0;-0.698;36.5;0;-0.669;37;0;-0.7;37.5;0;-0.7;38;0;-0.676;38.5;0;-0.68;39;0;-0.698;;;;;;;;;;;;;;;;;;;;;;;;;;;;;;;;;;;;;;;;;;;;;;;;;;;;;;;;;;;;;;;;;;;;;;;;;;;;;;;;;;;;;;;;;;;;;;;;;;;;;;;;;;;;;;;;;;;;;;;;;;;;;;;;;;;;;;;;;;;;;;;;;;;;;;;;;;;;;;;;;;;;;;;;;;;;;;;;;;;;;;;;;;;;;;;;;;;;;;;;;;;;;;;;;;;;;;;;;;;;;;;;;;;;;;;;;;;;;;;;;;;;;;;;;;;;;;;;;;;;;;;;;;;;;;;;;;;;;;;;;;;;;;;;
A13: =LEFT(B13,13) -> 002_042_00012 | B13: 002_042_00012;23.5;0;43;0;0;-4.2;1;0;-4.2;2.341;0;-3.866;3.039;0;-3.483;3.694;0;-3.809;4.349;0;-3.626;5.063;0;-3.467;5.765;0;-3.159;6.428;0;-2.995;6.784;0;-2.87;7.155;0;-2.74;7.819;0;-2.496;8.497;0;-2.357;9.219;0;-2.203;9.942;0;-2.168;10.619;0;-2.05;11.338;0;-2.087;11.77;0;-1.615;11.924;0;-0.87;11.98;0;-0.6;12.5;0;-0.08;13;0;0.023;13.5;0;0.023;14;0;0.081;14.5;0;0.091;15;0;0.114;15.5;0;0.106;16;0;0.158;16.5;0;0.269;17;0;0.26;17.5;0;0.242;18;0;0.245;18.5;0;0.232;19;0;0.277;19.5;0;0.275;20;0;0.284;20.5;0;0.275;21;0;0.281;21.5;0;0.275;22;0;0.245;22.5;0;0.235;23;0;0.212;23.5;0;0.225;24;0;0.117;24.5;0;0.021;25;0;-0.215;25.5;0;-1.09;26;0;-1.916;26.211;0;-2.29;26.522;0;-2.35;30;0;-2.35;;;;;;;;;;;;;;;;;;;;;;;;;;;;;;;;;;;;;;;;;;;;;;;;;;;;;;;;;;;;;;;;;;;;;;;;;;;;;;;;;;;;;;;;;;;;;;;;;;;;;;;;;;;;;;;;;;;;;;;;;;;;;;;;;;;;;;;;;;;;;;;;;;;;;;;;;;;;;;;;;;;;;;;;;;;;;;;;;;;;;;;;;;;;;;;;;;;;;;;;;;;;;;;;;;;;;;;;;;;;;;;;;;;;;;;;;;;;;;;;;;;;;;;;;;;;;;;;;;;;;;;;;;;;;;;;;;;;;;;;;;;;;;;;;;;;;;;;;;;;;;;;;;;;;;;;;;;;;;;;;;;;;;;;;;;;;;;;;;;;;;;;;;;;;;;;;;;;;;;;;;;;;;;;;
... A341: =LEFT(B341,13) -> 242_042_00044 | B341: 242_042_00044;10;0;78;0;0;-1.2;4.6;0;-1.2;7;0;-0.42;7.5;0;-0.33;8;0;-0.28;8.5;0;-0.36;9;0;-0.36;9.5;0;-0.29;10;0;-0.28;10.5;0;-0.48;11;0;-0.53;11.5;0;-0.93;12;0;-1.03;12.872;0;-1.885;13.261;0;-2.267;13.6;0;-2.6;20;0;-2.6;;;;;;;;;;;;;;;;;;;;;;;;;;;;;;;;;;;;;;;;;;;;;;;;;;;;;;;;;;;;;;;;;;;;;;;;;;;;;;;;;;;;;;;;;;;;;;;;;;;;;;;;;;;;;;;;;;;;;;;;;;;;;;;;;;;;;;;;;;;;;;;;;;;;;;;;;;;;;;;;;;;;;;;;;;;;;;;;;;;;;;;;;;;;;;;;;;;;;;;;;;;;;;;;;;;;;;;;;;;;;;;;;;;;;;;;;;;;;;;;;;;;;;;;;;;;;;;;;;;;;;;;;;;;;;;;;;;;;;;;;;;;;;;;;;;;;;;;;;;;;;;;;;;;;;;;;;;;;;;;;;;;;;;;;;;;;;;;;;;;;;;;;;;;;;;;;;;;;;;;;;;;;;;;;;;;;;;;;;;;;;;;;;;;;;;;;;;;;;;;;;;;;;;;;;;;;;;;;;;;;;;;;;;;;;;;;;;;;;;;;;;;;;;;;;;;;;;;;;;;;;;;;;;;;;;
A342: =LEFT(B342,13)
A343: =LEFT(B343,13)
A344: =LEFT(B344,13)
A345: =LEFT(B345,13)
A346: =LEFT(B346,13)
A347: =LEFT(B347,13)
A348: =LEFT(B348,13)
A349: =LEFT(B349,13)
A350: =LEFT(B350,13)
A351: =LEFT(B351,13)
A352: =LEFT(B352,13)
A353: =LEFT(B353,13)
... A460: =LEFT(B460,13)

Sheet char_in
A1: ID | B1: Profielnaam;X_Maaiveld binnenwaarts;Y_Maaiveld binnenwaarts;Z_Maaiveld binnenwaarts;X_Insteek sloot polderzijde;Y_Insteek sloot polderzijde;Z_Insteek sloot polderzijde;X_Slootbodem polderzijde;Y_Slootbodem polderzijde;Z_Slootbodem polderzijde;X_Slootbodem dijkzijde;Y_Slootbodem dijkzijde;Z_Slootbodem dijkzijde;X_Insteek sloot dijkzijde;Y_Insteek_sloot dijkzijde;Z_Insteek sloot dijkzijde;X_Teen dijk binnenwaarts;Y_Teen dijk binnenwaarts;Z_Teen dijk binnenwaarts;X_Kruin binnenberm;Y_Kruin binnenberm;Z_Kruin binnenberm;X_Insteek binnenberm;Y_Insteek binnenberm;Z_Insteek binnenberm;X_Kruin binnentalud;Y_Kruin binnentalud;Z_Kruin binnentalud;X_Verkeersbelasting kant binnenwaarts;Y_Verkeersbelasting kant binnenwaarts;Z_Verkeersbelasting kant binnenwaarts;X_Verkeersbelasting kant buitenwaarts;Y_Verkeersbelasting kant buitenwaarts;Z_Verkeersbelasting kant buitenwaarts;X_Kruin buitentalud;Y_Kruin buitentalud;Z_Kruin buitentalud;X_Insteek buitenberm;Y_Insteek buitenberm;Z_Insteek buitenberm;X_Kruin buitenberm;Y_Kruin buitenberm;Z_Kruin buitenberm;X_Teen dijk buitenwaarts;Y_Teen dijk buitenwaarts;Z_Teen dijk buitenwaarts;X_Insteek geul;Y_Insteek geul;Z_Insteek geul;X_Teen geul;Y_Teen geul;Z_Teen geul;X_Maaiveld buitenwaarts;Y_Maaiveld buitenwaarts;Z_Maaiveld buitenwaarts
A2: =LEFT(B2,13) -> 002_042_00043 | B2: 002_042_00043;22,000;0,000;-2,550;18,600;0,000;-2,550;18,600;0,000;-2,550;18,600;0,000;-2,550;17,000;0,000;-1,449;16,500;0,000;-1,415;-1,000;-1,000;-1,000;-1,000;-1,000;-1,000;12,500;0,000;-0,099;12,500;0,000;-0,099;10,000;0,000;-0,168;9,500;0,000;-0,218;-1,000;-1,000;-1,000;-1,000;-1,000;-1,000;8,155;0,000;-1,800;-1,000;-1,000;-1,000;-1,000;-1,000;-1,000;0,000;0,000;-1,800
A3: =LEFT(B3,13) -> 002_042_00001 | B3: 002_042_00001;25;0;-2.95;18.5;0;-2.95;18.5;0;-2.95;18.5;0;-2.95;17;0;-1.54;14.5;0;-1.47;-1;-1;-1;-1;-1;-1;10.5;0;-0.21;10;0;-0.12;7.5;0;-0.6;8.5;0;-0.17;-1;-1;-1;-1;-1;-1;1.25;0;-3.1;-1;-1;-1;-1;-1;-1;0;0;-3.1
A4: =LEFT(B4,13) -> 002_042_00003 | B4: 002_042_00003;21.5;0;-2.45;17.456;0;-2.45;17.456;0;-2.45;17.456;0;-2.45;15.5;0;-1.72;14.5;0;-1.686;-1;-1;-1;-1;-1;-1;10;0;-0.56;9.5;0;-0.51;7;0;-0.4;5;0;-0.34;-1;-1;-1;-1;-1;-1;4.65;0;-1.129;-1;-1;-1;-1;-1;-1;0;0;-1.8
A5: =LEFT(B5,13) -> 002_042_00004 | B5: 002_042_00004;26;0;-2.45;15.493;0;-2.45;15.493;0;-2.45;15.493;0;-2.45;15;0;-1.729;15;0;-1.729;-1;-1;-1;-1;-1;-1;13;0;-0.21;12.5;0;-0.181;10;0;-0.466;11;0;-0.144;-1;-1;-1;-1;-1;-1;6.786;0;-1.573;-1;-1;-1;-1;-1;-1;0;0;-0.344
A6: =LEFT(B6,13) -> 002_042_00005 | B6: 002_042_00005;28;0;-2.45;22.701;0;-2.45;22.701;0;-2.45;22.701;0;-2.45;21.793;0;-1.45;21.793;0;-1.45;-1;-1;-1;-1;-1;-1;20.5;0;0.168;20;0;0.221;17.5;0;0.269;10;0;-0.129;-1;-1;-1;-1;-1;-1;6.387;0;-3.667;-1;-1;-1;-1;-1;-1;0;0;-4.2
A7: =LEFT(B7,13) -> 002_042_00006 | B7: 002_042_00006;25;0;-0.55;17.5;0;-0.58;15.324;0;-2.2;14.324;0;-2.2;13;0;-0.814;13;0;-0.814;-1;-1;-1;-1;-1;-1;11;0;-0.062;10.5;0;-0.023;8;0;0.028;5;0;-0.074;-1;-1;-1;-1;-1;-1;2.436;0;-1.8;-1;-1;-1;-1;-1;-1;0;0;-1.8
A8: =LEFT(B8,13) -> 002_042_00007 | B8: 002_042_00007;28;0;-2.45;22.701;0;-2.45;22.701;0;-2.45;22.701;0;-2.45;21.793;0;-1.45;21.793;0;-1.45;-1;-1;-1;-1;-1;-1;20.5;0;0.168;17.5;0;0.269;15;0;0.272;10;0;-0.129;-1;-1;-1;-1;-1;-1;6.387;0;-3.667;-1;-1;-1;-1;-1;-1;0;0;-4.2
A9: =LEFT(B9,13) -> 002_042_00011 | B9: 002_042_00011;23;0;-1.278;16;0;-1.598;14.5;0;-2.45;12.5;0;-2.45;11;0;-1.493;11;0;-1.493;-1;-1;-1;-1;-1;-1;8;0;-0.171;7.5;0;-0.217;5;0;-0.168;4.5;0;-0.168;-1;-1;-1;-1;-1;-1;2.434;0;-1.8;-1;-1;-1;-1;-1;-1;0;0;-1.8
A10: =LEFT(B10,13) -> 002_042_00012 | B10: 002_042_00012;28;0;-2.45;22.701;0;-2.45;22.701;0;-2.45;22.701;0;-2.45;21.793;0;-1.45;21.793;0;-1.45;-1;-1;-1;-1;-1;-1;20.5;0;0.168;19.5;0;0.279;17;0;0.325;12;0;0.291;-1;-1;-1;-1;-1;-1;4.969;0;-3.974;-1;-1;-1;-1;-1;-1;0;0;-4.2
A11: =LEFT(B11,13) -> 002_042_00018 | B11: 002_042_00018;15;0;-2.55;11.6;0;-2.55;11.6;0;-2.55;11.6;0;-2.55;10;0;-1.449;9.5;0;-1.415;-1;-1;-1;-1;-1;-1;5.5;0;-0.099;5;0;-0.099;2.5;0;-0.218;2.5;0;-0.218;-1;-1;-1;-1;-1;-1;1.155;0;-1.8;-1;-1;-1;-1;-1;-1;0;0;-1.8
A12: =LEFT(B12,13) -> 002_042_00023 | B12: 002_042_00023;30;0;-2.35;26.522;0;-2.35;26.522;0;-2.35;26.522;0;-2.35;25.5;0;-1.09;25.5;0;-1.09;-1;-1;-1;-1;-1;-1;23.5;0;0.225;22;0;0.245;19.5;0;0.275;13;0;0.023;-1;-1;-1;-1;-1;-1;11.338;0;-2.087;-1;-1;-1;-1;-1;-1;0;0;-4.2
A13: =LEFT(B13,13) -> 002_042_00024 | B13: 002_042_00024;39;0;-0.698;34;0;-0.973;30.635;0;-2.95;30;0;-2.95;29;0;-1.838;28;0;-1.739;-1;-1;-1;-1;-1;-1;25;0;-0.532;24;0;-0.4;21.5;0;-0.268;4.5;0;-0.225;-1;-1;-1;-1;-1;-1;2.571;0;-1.8;-1;-1;-1;-1;-1;-1;0;0;-1.8
... A405: =LEFT(B405,13) -> 431_042_00001 | B405: 431_042_00001;45;0;-4.747;41.5;0;-4.934;40.728;0;-5.65;30.953;0;-5.65;30;0;-4.461;29.5;0;-4.521;-1;-1;-1;-1;-1;-1;4.5;0;-0.106;4;0;0.001;1.5;0;-0.603;2.5;0;-0.113;-1;-1;-1;-1;-1;-1;0.5;0;-0.708;-1;-1;-1;-1;-1;-1;0;0;-0.708

Sheet surfacelines
A1: location_id | B1: bron_id | C1: bestand | D1: Profielnaam;X_Maaiveld binnenwaarts;Y_Maaiveld binnenwaarts;Z_Maaiveld binnenwaarts;X_Insteek sloot polderzijde;Y_Insteek sloot polderzijde;Z_Insteek sloot polderzijde;X_Slootbodem polderzijde;Y_Slootbodem polderzijde;Z_Slootbodem polderzijde;X_Slootbodem dijkzijde;Y_Slootbodem dijkzijde;Z_Slootbodem dijkzijde;X_Insteek sloot dijkzijde;Y_Insteek_sloot dijkzijde;Z_Insteek sloot dijkzijde;X_Teen dijk binnenwaarts;Y_Teen dijk binnenwaarts;Z_Teen dijk binnenwaarts;X_Kruin binnenberm;Y_Kruin binnenberm;Z_Kruin binnenberm;X_Insteek binnenberm;Y_Insteek binnenberm;Z_Insteek binnenberm;X_Kruin binnentalud;Y_Kruin binnentalud;Z_Kruin binnentalud;X_Verkeersbelasting kant binnenwaarts;Y_Verkeersbelasting kant binnenwaarts;Z_Verkeersbelasting kant binnenwaarts;X_Verkeersbelasting kant buitenwaarts;Y_Verkeersbelasting kant buitenwaarts;Z_Verkeersbelasting kant buitenwaarts;X_Kruin buitentalud;Y_Kruin buitentalud;Z_Kruin buitentalud;X_Insteek buitenberm;Y_Insteek buitenberm;Z_Insteek buitenberm;X_Kruin buitenberm;Y_Kruin buitenberm;Z_Kruin buitenberm;X_Teen dijk buitenwaarts;Y_Teen dijk buitenwaarts;Z_Teen dijk buitenwaarts;X_Insteek geul;Y_Insteek geul;Z_Insteek geul;X_Teen geul;Y_Teen geul;Z_Teen geul;X_Maaiveld buitenwaarts;Y_Maaiveld buitenwaarts;Z_Maaiveld buitenwaarts
A2: 002_042_00001 | B2: =A2 -> 002_042_00001 | C2: =VLOOKUP(A2,batch1!$B$2:$H$343,7,FALSE) -> \OR-3.10\DWP 00.34\OR-3.10-001A hoogwater m. belasting.sti | D2: =VLOOKUP(B2,surf_in!$A$2:$B$444,2,FALSE) -> 002_042_00001;20.5;0;25;0;0;-4.2;0.847;0;-4.127;1.628;0;-4.194;2.289;0;-4.185;2.961;0;-4.096;3.622;0;-3.997;4.306;0;-4.006;4.969;0;-3.974;5.663;0;-3.728;6.387;0;-3.667;7.077;0;-3.391;7.824;0;-3.095;8.515;0;-2.838;9.237;0;-2.442;9.336;0;-1.45;9.42;0;-0.6;9.47;0;-0.55;9.5;0;-0.52;10;0;-0.129;10.5;0;-0.129;11;0;0.097;11.5;0;0.202;12;0;0.291;12.5;0;0.291;13;0;0.217;13.5;0;0.25;14;0;0.251;14.5;0;0.261;15;0;0.272;15.5;0;0.278;16;0;0.307;16.5;0;0.311;17;0;0.325;17.5;0;0.269;18;0;0.265;18.5;0;0.256;19;0;0.287;19.5;0;0.279;20;0;0.221;20.5;0;0.168;21;0;-0.187;21.228;0;-0.55;21.793;0;-1.45;22.701;0;-2.45;28;0;-2.45;;;;;;;;;;;;;;;;;;;;;;;;;;;;;;;;;;;;;;;;;;;;;;;;;;;;;;;;;;;;;;;;;;;;;;;;;;;;;;;;;;;;;;;;;;;;;;;;;;;;;;;;;;;;;;;;;;;;;;;;;;;;;;;;;;;;;;;;;;;;;;;;;;;;;;;;;;;;;;;;;;;;;;;;;;;;;;;;;;;;;;;;;;;;;;;;;;;;;;;;;;;;;;;;;;;;;;;;;;;;;;;;;;;;;;;;;;;;;;;;;;;;;;;;;;;;;;;;;;;;;;;;;;;;;;;;;;;;;;;;;;;;;;;;;;;;;;;;;;;;;;;;;;;;;;;;;;;;;;;;;;;;;;;;;;;;;;;;;;;;;;;;;;;;;;;;;;;;;;;;;;;;;;;;;;;;;;;;;;;;;;;;;;;
A3: 002_042_00003 | B3: =A3 -> 002_042_00003 | C3: =VLOOKUP(A3,batch1!$B$2:$H$343,7,FALSE) -> \OR-3.10\DWP 01.14\OR-3.10-001B hoogwater m. belasting.sti | D3: =VLOOKUP(B3,surf_in!$A$2:$B$444,2,FALSE) -> 002_042_00003;7.5;0;24;0;0;-1.8;3.86;0;-1.8;4.484;0;-0.864;4.66;0;-0.6;5;0;-0.26;5.5;0;-0.126;6;0;-0.131;6.5;0;-0.175;6.984;0;-0.286;7.5;0;-0.372;8;0;-0.798;8.5;0;-1.205;9.379;0;-2.15;14;0;-2.15;;;;;;;;;;;;;;;;;;;;;;;;;;;;;;;;;;;;;;;;;;;;;;;;;;;;;;;;;;;;;;;;;;;;;;;;;;;;;;;;;;;;;;;;;;;;;;;;;;;;;;;;;;;;;;;;;;;;;;;;;;;;;;;;;;;;;;;;;;;;;;;;;;;;;;;;;;;;;;;;;;;;;;;;;;;;;;;;;;;;;;;;;;;;;;;;;;;;;;;;;;;;;;;;;;;;;;;;;;;;;;;;;;;;;;;;;;;;;;;;;;;;;;;;;;;;;;;;;;;;;;;;;;;;;;;;;;;;;;;;;;;;;;;;;;;;;;;;;;;;;;;;;;;;;;;;;;;;;;;;;;;;;;;;;;;;;;;;;;;;;;;;;;;;;;;;;;;;;;;;;;;;;;;;;;;;;;;;;;;;;;;;;;;;;;;;;;;;;;;;;;;;;;;;;;;;;;;;;;;;;;;;;;;;;;;;;;;;;;;;;;;;;;;;;;;;;;;;;;;;;;;;;;;;;;;;;;;;;;;;
A4: 002_042_00004 | B4: =A4 -> 002_042_00004 | C4: =VLOOKUP(A4,batch1!$B$2:$H$343,7,FALSE) -> \OR-3.10\DWP 01.73\OR-3.10-002 hoogwater m. belasting.sti | D4: =VLOOKUP(B4,surf_in!$A$2:$B$444,2,FALSE) -> 002_042_00004;10.5;0;20;0;0;-3.1;1.25;0;-3.1;2.424;0;-2.62;3.998;0;-1.976;4.709;0;-1.734;5.389;0;-1.463;5.838;0;-1.311;6.98;0;-0.944;7.214;0;-0.84;7.5;0;-0.6;8;0;-0.42;8.5;0;-0.17;9;0;-0.14;9.5;0;-0.04;10;0;-0.12;10.5;0;-0.21;10.875;0;-0.42;11;0;-0.49;11.5;0;-0.63;12;0;-0.79;12.5;0;-1.1;13;0;-1.2;13.5;0;-1.28;14;0;-1.39;14.5;0;-1.47;15;0;-1.5;15.5;0;-1.53;16;0;-1.58;16.5;0;-1.58;17;0;-1.54;17.5;0;-1.96;17.571;0;-2.03;18.5;0;-2.95;25;0;-2.95;;;;;;;;;;;;;;;;;;;;;;;;;;;;;;;;;;;;;;;;;;;;;;;;;;;;;;;;;;;;;;;;;;;;;;;;;;;;;;;;;;;;;;;;;;;;;;;;;;;;;;;;;;;;;;;;;;;;;;;;;;;;;;;;;;;;;;;;;;;;;;;;;;;;;;;;;;;;;;;;;;;;;;;;;;;;;;;;;;;;;;;;;;;;;;;;;;;;;;;;;;;;;;;;;;;;;;;;;;;;;;;;;;;;;;;;;;;;;;;;;;;;;;;;;;;;;;;;;;;;;;;;;;;;;;;;;;;;;;;;;;;;;;;;;;;;;;;;;;;;;;;;;;;;;;;;;;;;;;;;;;;;;;;;;;;;;;;;;;;;;;;;;;;;;;;;;;;;;;;;;;;;;;;;;;;;;;;;;;;;;;;;;;;;;;;;;;;;;;;;;;;;;;;;;;;;;;;;;;;;
A5: 002_042_00005 | B5: =A5 -> 002_042_00005 | C5: =VLOOKUP(A5,batch1!$B$2:$H$343,7,FALSE) -> \OR-3.10\DWP 02.30\OR-3.10-004A hoogwater m. belasting.sti | D5: =VLOOKUP(B5,surf_in!$A$2:$B$444,2,FALSE) -> 002_042_00005;6.5;0;6;0;0;-1.8;2.632;0;-1.8;2.832;0;-1.5;3.432;0;-0.6;3.5;0;-0.532;4;0;-0.347;4.5;0;-0.08;5;0;-0.073;5.5;0;-0.017;6;0;-0.055;6.5;0;-0.142;7;0;-0.26;7.5;0;-0.28;8;0;-0.493;8.5;0;-0.703;9;0;-1.089;9.5;0;-1.257;10;0;-1.474;10.068;0;-1.5;10.5;0;-1.666;11;0;-2.004;11.5;0;-2.022;12;0;-2.022;12.5;0;-2.006;12.758;0;-2.25;13.5;0;-2.95;16;0;-2.95;;;;;;;;;;;;;;;;;;;;;;;;;;;;;;;;;;;;;;;;;;;;;;;;;;;;;;;;;;;;;;;;;;;;;;;;;;;;;;;;;;;;;;;;;;;;;;;;;;;;;;;;;;;;;;;;;;;;;;;;;;;;;;;;;;;;;;;;;;;;;;;;;;;;;;;;;;;;;;;;;;;;;;;;;;;;;;;;;;;;;;;;;;;;;;;;;;;;;;;;;;;;;;;;;;;;;;;;;;;;;;;;;;;;;;;;;;;;;;;;;;;;;;;;;;;;;;;;;;;;;;;;;;;;;;;;;;;;;;;;;;;;;;;;;;;;;;;;;;;;;;;;;;;;;;;;;;;;;;;;;;;;;;;;;;;;;;;;;;;;;;;;;;;;;;;;;;;;;;;;;;;;;;;;;;;;;;;;;;;;;;;;;;;;;;;;;;;;;;;;;;;;;;;;;;;;;;;;;;;;;;;;;;;;;;;;;;;;;;;;;
A6: 002_042_00006 | B6: =A6 -> 002_042_00006 | C6: =VLOOKUP(A6,batch1!$B$2:$H$343,7,FALSE) -> \OR-3.10\DWP 02.23\OR-3.10-00B1 hoogwater m. belasting.sti | D6: =VLOOKUP(B6,surf_in!$A$2:$B$444,2,FALSE) -> 002_042_00006;17;0;48;0;0;-3.1;7.15;0;-3.1;7.5;0;-2.447;8.2;0;-2.32;8.9;0;-2.304;9.432;0;-2.2;9.57;0;-2.173;10.27;0;-2.085;10.97;0;-1.947;11.67;0;-1.447;12.37;0;-1.319;12.63;0;-1.121;13.19;0;-0.699;13.4;0;-0.6;13.5;0;-0.51;14;0;-0.36;14.5;0;0;15;0;0;15.5;0;0.08;16;0;0.08;16.5;0;-0.01;17;0;-0.08;17.5;0;-0.27;18;0;-0.5;18.5;0;-0.83;19;0;-0.91;19.5;0;-1.13;20;0;-1.22;20.5;0;-1.29;21;0;-1.29;21.5;0;-1.32;22;0;-1.4;22.5;0;-1.42;23;0;-1.43;23.5;0;-1.38;24.095;0;-1.685;25;0;-2.7;30;0;-2.7;;;;;;;;;;;;;;;;;;;;;;;;;;;;;;;;;;;;;;;;;;;;;;;;;;;;;;;;;;;;;;;;;;;;;;;;;;;;;;;;;;;;;;;;;;;;;;;;;;;;;;;;;;;;;;;;;;;;;;;;;;;;;;;;;;;;;;;;;;;;;;;;;;;;;;;;;;;;;;;;;;;;;;;;;;;;;;;;;;;;;;;;;;;;;;;;;;;;;;;;;;;;;;;;;;;;;;;;;;;;;;;;;;;;;;;;;;;;;;;;;;;;;;;;;;;;;;;;;;;;;;;;;;;;;;;;;;;;;;;;;;;;;;;;;;;;;;;;;;;;;;;;;;;;;;;;;;;;;;;;;;;;;;;;;;;;;;;;;;;;;;;;;;;;;;;;;;;;;;;;;;;;;;;;;;;;;;;;;;;;;;;;;;;;;;;;;;;;;;;;;;;;;;;;
A7: 002_042_00007 | B7: =A7 -> 002_042_00007 | C7: =VLOOKUP(A7,batch1!$B$2:$H$343,7,FALSE) -> \OR-3.10\DWP 02.30\OR-3.10-004A hoogwater m. belasting.sti | D7: =VLOOKUP(B7,surf_in!$A$2:$B$444,2,FALSE) -> 002_042_00007;23.5;0;45;0;0;-4.2;1;0;-4.2;2.341;0;-3.866;3.039;0;-3.483;3.694;0;-3.809;4.349;0;-3.626;5.063;0;-3.467;5.765;0;-3.159;6.428;0;-2.995;6.784;0;-2.87;7.155;0;-2.74;7.819;0;-2.496;8.497;0;-2.357;9.219;0;-2.203;9.942;0;-2.168;10.619;0;-2.05;11.338;0;-2.087;11.77;0;-1.615;11.924;0;-0.87;11.98;0;-0.6;12.5;0;-0.08;13;0;0.023;13.5;0;0.023;14;0;0.081;14.5;0;0.091;15;0;0.114;15.5;0;0.106;16;0;0.158;16.5;0;0.269;17;0;0.26;17.5;0;0.242;18;0;0.245;18.5;0;0.232;19;0;0.277;19.5;0;0.275;20;0;0.284;20.5;0;0.275;21;0;0.281;21.5;0;0.275;22;0;0.245;22.5;0;0.235;23;0;0.212;23.5;0;0.225;24;0;0.117;24.5;0;0.021;25;0;-0.215;25.5;0;-1.09;26;0;-1.916;26.211;0;-2.29;26.522;0;-2.35;30;0;-2.35;;;;;;;;;;;;;;;;;;;;;;;;;;;;;;;;;;;;;;;;;;;;;;;;;;;;;;;;;;;;;;;;;;;;;;;;;;;;;;;;;;;;;;;;;;;;;;;;;;;;;;;;;;;;;;;;;;;;;;;;;;;;;;;;;;;;;;;;;;;;;;;;;;;;;;;;;;;;;;;;;;;;;;;;;;;;;;;;;;;;;;;;;;;;;;;;;;;;;;;;;;;;;;;;;;;;;;;;;;;;;;;;;;;;;;;;;;;;;;;;;;;;;;;;;;;;;;;;;;;;;;;;;;;;;;;;;;;;;;;;;;;;;;;;;;;;;;;;;;;;;;;;;;;;;;;;;;;;;;;;;;;;;;;;;;;;;;;;;;;;;;;;;;;;;;;;;;;;;;;;;;;;;;;;;
A8: 002_042_00011 | B8: =A8 -> 002_042_00011 | C8: =VLOOKUP(A8,batch1!$B$2:$H$343,7,FALSE) -> \OR-3.10\DWP 03.07\OR-3.10-004B3 hoogwater m. belasting.sti | D8: =VLOOKUP(B8,surf_in!$A$2:$B$444,2,FALSE) -> 002_042_00011;9;0;44;0;0;-1.8;3.275;0;-1.8;3.404;0;-1.6;4;0;-0.675;4.075;0;-0.6;4.5;0;-0.666;5;0;-0.639;5.5;0;-0.652;6;0;-0.612;6.5;0;-0.527;7;0;-0.442;7.5;0;-0.363;8;0;-0.406;8.5;0;-0.478;9;0;-0.367;9.5;0;-0.584;10;0;-0.684;10.5;0;-0.739;11;0;-0.892;11.5;0;-1.073;12;0;-1.336;12.5;0;-1.336;12.971;0;-1.95;14;0;-2.95;18;0;-2.95;;;;;;;;;;;;;;;;;;;;;;;;;;;;;;;;;;;;;;;;;;;;;;;;;;;;;;;;;;;;;;;;;;;;;;;;;;;;;;;;;;;;;;;;;;;;;;;;;;;;;;;;;;;;;;;;;;;;;;;;;;;;;;;;;;;;;;;;;;;;;;;;;;;;;;;;;;;;;;;;;;;;;;;;;;;;;;;;;;;;;;;;;;;;;;;;;;;;;;;;;;;;;;;;;;;;;;;;;;;;;;;;;;;;;;;;;;;;;;;;;;;;;;;;;;;;;;;;;;;;;;;;;;;;;;;;;;;;;;;;;;;;;;;;;;;;;;;;;;;;;;;;;;;;;;;;;;;;;;;;;;;;;;;;;;;;;;;;;;;;;;;;;;;;;;;;;;;;;;;;;;;;;;;;;;;;;;;;;;;;;;;;;;;;;;;;;;;;;;;;;;;;;;;;;;;;;;;;;;;;;;;;;;;;;;;;;;;;;;;;;;;;;;;
A9: 002_042_00012 | B9: =A9 -> 002_042_00012 | C9: =VLOOKUP(A9,batch1!$B$2:$H$343,7,FALSE) -> \OR-3.10\DWP 02.30\OR-3.10-004A hoogwater m. belasting.sti | D9: =VLOOKUP(B9,surf_in!$A$2:$B$444,2,FALSE) -> 002_042_00012;23.5;0;43;0;0;-4.2;1;0;-4.2;2.341;0;-3.866;3.039;0;-3.483;3.694;0;-3.809;4.349;0;-3.626;5.063;0;-3.467;5.765;0;-3.159;6.428;0;-2.995;6.784;0;-2.87;7.155;0;-2.74;7.819;0;-2.496;8.497;0;-2.357;9.219;0;-2.203;9.942;0;-2.168;10.619;0;-2.05;11.338;0;-2.087;11.77;0;-1.615;11.924;0;-0.87;11.98;0;-0.6;12.5;0;-0.08;13;0;0.023;13.5;0;0.023;14;0;0.081;14.5;0;0.091;15;0;0.114;15.5;0;0.106;16;0;0.158;16.5;0;0.269;17;0;0.26;17.5;0;0.242;18;0;0.245;18.5;0;0.232;19;0;0.277;19.5;0;0.275;20;0;0.284;20.5;0;0.275;21;0;0.281;21.5;0;0.275;22;0;0.245;22.5;0;0.235;23;0;0.212;23.5;0;0.225;24;0;0.117;24.5;0;0.021;25;0;-0.215;25.5;0;-1.09;26;0;-1.916;26.211;0;-2.29;26.522;0;-2.35;30;0;-2.35;;;;;;;;;;;;;;;;;;;;;;;;;;;;;;;;;;;;;;;;;;;;;;;;;;;;;;;;;;;;;;;;;;;;;;;;;;;;;;;;;;;;;;;;;;;;;;;;;;;;;;;;;;;;;;;;;;;;;;;;;;;;;;;;;;;;;;;;;;;;;;;;;;;;;;;;;;;;;;;;;;;;;;;;;;;;;;;;;;;;;;;;;;;;;;;;;;;;;;;;;;;;;;;;;;;;;;;;;;;;;;;;;;;;;;;;;;;;;;;;;;;;;;;;;;;;;;;;;;;;;;;;;;;;;;;;;;;;;;;;;;;;;;;;;;;;;;;;;;;;;;;;;;;;;;;;;;;;;;;;;;;;;;;;;;;;;;;;;;;;;;;;;;;;;;;;;;;;;;;;;;;;;;;;;
A10: 002_042_00018 | B10: =A10 -> 002_042_00018 | C10: =VLOOKUP(A10,batch1!$B$2:$H$343,7,FALSE) -> \OR-3.10\DWP 03.60\OR-3.10-005B hoogwater m. belasting.sti | D10: =VLOOKUP(B10,surf_in!$A$2:$B$444,2,FALSE) -> 002_042_00018;25;0;7;0;0;-1.8;2.571;0;-1.8;3.191;0;-0.87;3.371;0;-0.6;3.5;0;-0.471;4;0;-0.274;4.5;0;-0.225;5;0;-0.161;5.5;0;-0.168;6;0;-0.13;6.5;0;-0.123;7;0;-0.108;7.5;0;-0.106;8;0;-0.044;8.5;0;-0.017;9;0;0;9.5;0;0.023;10;0;0.041;10.5;0;0.05;11;0;0.092;11.5;0;0.02;12;0;0.034;12.5;0;0.034;13;0;0.013;13.5;0;0.03;14;0;0.012;14.5;0;0.009;15;0;-0.05;15.5;0;-0.05;16;0;-0.077;16.5;0;-0.075;17;0;-0.115;17.5;0;-0.133;18;0;-0.167;18.5;0;-0.165;19;0;-0.165;19.5;0;-0.201;20;0;-0.224;20.5;0;-0.241;21;0;-0.253;21.5;0;-0.268;22;0;-0.268;22.5;0;-0.294;23;0;-0.292;23.5;0;-0.348;24;0;-0.4;24.5;0;-0.504;25;0;-0.532;25.5;0;-0.666;26;0;-0.874;26.5;0;-1.018;26.611;0;-1.09;27;0;-1.343;27.5;0;-1.638;28;0;-1.739;28.5;0;-1.739;29;0;-1.838;29.406;0;-2.29;30;0;-2.95;30.635;0;-2.95;31.311;0;-2.29;31.586;0;-1.996;32;0;-1.717;32.5;0;-1.461;33;0;-1.426;33.5;0;-1.124;33.613;0;-1.09;34;0;-0.973;34.5;0;-0.891;35;0;-0.821;35.5;0;-0.74;36;0;-0.698;36.5;0;-0.669;37;0;-0.7;37.5;0;-0.7;38;0;-0.676;38.5;0;-0.68;39;0;-0.698;;;;;;;;;;;;;;;;;;;;;;;;;;;;;;;;;;;;;;;;;;;;;;;;;;;;;;;;;;;;;;;;;;;;;;;;;;;;;;;;;;;;;;;;;;;;;;;;;;;;;;;;;;;;;;;;;;;;;;;;;;;;;;;;;;;;;;;;;;;;;;;;;;;;;;;;;;;;;;;;;;;;;;;;;;;;;;;;;;;;;;;;;;;;;;;;;;;;;;;;;;;;;;;;;;;;;;;;;;;;;;;;;;;;;;;;;;;;;;;;;;;;;;;;;;;;;;;;;;;;;;;;;;;;;;;;;;;;;;;;;;;;;;;;
A11: 002_042_00023 | B11: =A11 -> 002_042_00023 | C11: =VLOOKUP(A11,batch1!$B$2:$H$343,7,FALSE) -> \OR-3.10\DWP 05.29\OR-3.10-006A hoogwater m. belasting.sti | D11: =VLOOKUP(B11,surf_in!$A$2:$B$444,2,FALSE) -> 002_042_00023;23.5;0;42;0;0;-4.2;1;0;-4.2;2.341;0;-3.866;3.039;0;-3.483;3.694;0;-3.809;4.349;0;-3.626;5.063;0;-3.467;5.765;0;-3.159;6.428;0;-2.995;6.784;0;-2.87;7.155;0;-2.74;7.819;0;-2.496;8.497;0;-2.357;9.219;0;-2.203;9.942;0;-2.168;10.619;0;-2.05;11.338;0;-2.087;11.77;0;-1.615;11.924;0;-0.87;11.98;0;-0.6;12.5;0;-0.08;13;0;0.023;13.5;0;0.023;14;0;0.081;14.5;0;0.091;15;0;0.114;15.5;0;0.106;16;0;0.158;16.5;0;0.269;17;0;0.26;17.5;0;0.242;18;0;0.245;18.5;0;0.232;19;0;0.277;19.5;0;0.275;20;0;0.284;20.5;0;0.275;21;0;0.281;21.5;0;0.275;22;0;0.245;22.5;0;0.235;23;0;0.212;23.5;0;0.225;24;0;0.117;24.5;0;0.021;25;0;-0.215;25.5;0;-1.09;26;0;-1.916;26.211;0;-2.29;26.522;0;-2.35;30;0;-2.35;;;;;;;;;;;;;;;;;;;;;;;;;;;;;;;;;;;;;;;;;;;;;;;;;;;;;;;;;;;;;;;;;;;;;;;;;;;;;;;;;;;;;;;;;;;;;;;;;;;;;;;;;;;;;;;;;;;;;;;;;;;;;;;;;;;;;;;;;;;;;;;;;;;;;;;;;;;;;;;;;;;;;;;;;;;;;;;;;;;;;;;;;;;;;;;;;;;;;;;;;;;;;;;;;;;;;;;;;;;;;;;;;;;;;;;;;;;;;;;;;;;;;;;;;;;;;;;;;;;;;;;;;;;;;;;;;;;;;;;;;;;;;;;;;;;;;;;;;;;;;;;;;;;;;;;;;;;;;;;;;;;;;;;;;;;;;;;;;;;;;;;;;;;;;;;;;;;;;;;;;;;;;;;;;
A12: 002_042_00024 | B12: =A12 -> 002_042_00024 | C12: =VLOOKUP(A12,batch1!$B$2:$H$343,7,FALSE) -> \OR-3.10\DWP 05.16\OR-3.10-006B2 hoogwater m. belasting.sti | D12: =VLOOKUP(B12,surf_in!$A$2:$B$444,2,FALSE) -> 002_042_00024;5.5;0;40;0;0;-1.8;1.155;0;-1.8;1.955;0;-0.6;2;0;-0.555;2.5;0;-0.218;3;0;-0.168;3.5;0;-0.049;4;0;-0.073;4.5;0;-0.06;5;0;-0.099;5.5;0;-0.099;6;0;-0.259;6.5;0;-0.5;7;0;-0.627;7.5;0;-0.8;8;0;-0.8;8.5;0;-1.144;9;0;-1.29;9.5;0;-1.415;10;0;-1.449;11.6;0;-2.55;15;0;-2.55;;;;;;;;;;;;;;;;;;;;;;;;;;;;;;;;;;;;;;;;;;;;;;;;;;;;;;;;;;;;;;;;;;;;;;;;;;;;;;;;;;;;;;;;;;;;;;;;;;;;;;;;;;;;;;;;;;;;;;;;;;;;;;;;;;;;;;;;;;;;;;;;;;;;;;;;;;;;;;;;;;;;;;;;;;;;;;;;;;;;;;;;;;;;;;;;;;;;;;;;;;;;;;;;;;;;;;;;;;;;;;;;;;;;;;;;;;;;;;;;;;;;;;;;;;;;;;;;;;;;;;;;;;;;;;;;;;;;;;;;;;;;;;;;;;;;;;;;;;;;;;;;;;;;;;;;;;;;;;;;;;;;;;;;;;;;;;;;;;;;;;;;;;;;;;;;;;;;;;;;;;;;;;;;;;;;;;;;;;;;;;;;;;;;;;;;;;;;;;;;;;;;;;;;;;;;;;;;;;;;;;;;;;;;;;;;;;;;;;;;;;;;;;;;;;;;;;;;
A13: 002_042_00025 | B13: =A13 -> 002_042_00025 | C13: =VLOOKUP(A13,batch1!$B$2:$H$343,7,FALSE) -> \OR-3.10\DWP 05.29\OR-3.10-006A hoogwater m. belasting.sti | D13: =VLOOKUP(B13,surf_in!$A$2:$B$444,2,FALSE) -> 002_042_00025;20.5;0;3;0;0;-4.2;0.847;0;-4.127;1.628;0;-4.194;2.289;0;-4.185;2.961;0;-4.096;3.622;0;-3.997;4.306;0;-4.006;4.969;0;-3.974;5.663;0;-3.728;6.387;0;-3.667;7.077;0;-3.391;7.824;0;-3.095;8.515;0;-2.838;9.237;0;-2.442;9.336;0;-1.45;9.42;0;-0.6;9.47;0;-0.55;9.5;0;-0.52;10;0;-0.129;10.5;0;-0.129;11;0;0.097;11.5;0;0.202;12;0;0.291;12.5;0;0.291;13;0;0.217;13.5;0;0.25;14;0;0.251;14.5;0;0.261;15;0;0.272;15.5;0;0.278;16;0;0.307;16.5;0;0.311;17;0;0.325;17.5;0;0.269;18;0;0.265;18.5;0;0.256;19;0;0.287;19.5;0;0.279;20;0;0.221;20.5;0;0.168;21;0;-0.187;21.228;0;-0.55;21.793;0;-1.45;22.701;0;-2.45;28;0;-2.45;;;;;;;;;;;;;;;;;;;;;;;;;;;;;;;;;;;;;;;;;;;;;;;;;;;;;;;;;;;;;;;;;;;;;;;;;;;;;;;;;;;;;;;;;;;;;;;;;;;;;;;;;;;;;;;;;;;;;;;;;;;;;;;;;;;;;;;;;;;;;;;;;;;;;;;;;;;;;;;;;;;;;;;;;;;;;;;;;;;;;;;;;;;;;;;;;;;;;;;;;;;;;;;;;;;;;;;;;;;;;;;;;;;;;;;;;;;;;;;;;;;;;;;;;;;;;;;;;;;;;;;;;;;;;;;;;;;;;;;;;;;;;;;;;;;;;;;;;;;;;;;;;;;;;;;;;;;;;;;;;;;;;;;;;;;;;;;;;;;;;;;;;;;;;;;;;;;;;;;;;;;;;;;;;;;;;;;;;;;;;;;;;;;
... A220: 074_042_00014 | B220: =A220 -> 074_042_00014 | C220: =VLOOKUP(A220,batch1!$B$2:$H$343,7,FALSE) -> \OR-3.30\STBI\Hoogwater\STBI_002H_HW_metbelasting.sti | D220: =VLOOKUP(B220,surf_in!$A$2:$B$444,2,FALSE) -> 074_042_00014;10.946;0;60;0;0;-1.87;2.943;0;-1.68;4.373;0;-1.423;5.887;0;-1.179;7.946;0;-0.36;8.446;0;-0.29;8.946;0;-0.37;9.446;0;-0.37;9.946;0;-0.23;10.446;0;-0.11;10.946;0;-0.05;11.446;0;-0.18;11.946;0;-0.39;12.446;0;-0.42;12.946;0;-0.84;13.446;0;-0.97;13.946;0;-0.96;14.446;0;-1;14.946;0;-1.03;15.946;0;-0.99;16.946;0;-1.04;17.946;0;-1.01;18.946;0;-1.02;19.946;0;-1.05;20.946;0;-1.11;22.132;0;-1.53;23.946;0;-2.27;31.946;0;-2.27;;;;;;;;;;;;;;;;;;;;;;;;;;;;;;;;;;;;;;;;;;;;;;;;;;;;;;;;;;;;;;;;;;;;;;;;;;;;;;;;;;;;;;;;;;;;;;;;;;;;;;;;;;;;;;;;;;;;;;;;;;;;;;;;;;;;;;;;;;;;;;;;;;;;;;;;;;;;;;;;;;;;;;;;;;;;;;;;;;;;;;;;;;;;;;;;;;;;;;;;;;;;;;;;;;;;;;;;;;;;;;;;;;;;;;;;;;;;;;;;;;;;;;;;;;;;;;;;;;;;;;;;;;;;;;;;;;;;;;;;;;;;;;;;;;;;;;;;;;;;;;;;;;;;;;;;;;;;;;;;;;;;;;;;;;;;;;;;;;;;;;;;;;;;;;;;;;;;;;;;;;;;;;;;;;;;;;;;;;;;;;;;;;;;;;;;;;;;;;;;;;;;;;;;;;;;;;;;;;;;;;;;;;;;;;;;;;;;;;
A221: 074_042_00015 | B221: 074_042_00016 | C221: =VLOOKUP(A221,batch1!$B$2:$H$343,7,FALSE) -> \OR-3.30\STBI\Hoogwater\STBI_002I_HW_metbelasting.sti | D221: =VLOOKUP(B221,surf_in!$A$2:$B$444,2,FALSE) -> 074_042_00016;10;0;96;0;0;-2.3;2.5;0;-2.3;3.971;0;-1.656;4.806;0;-1.329;6.023;0;-0.817;6.5;0;-0.616;7.046;0;-0.435;7.5;0;-0.29;8;0;-0.37;8.5;0;-0.37;9;0;-0.22;9.5;0;-0.32;10;0;-0.36;10.5;0;-0.49;11;0;-0.7;11.5;0;-0.9;12;0;-1.19;12.5;0;-1.2;13;0;-1.26;13.5;0;-1.32;14;0;-1.3;14.5;0;-1.33;15;0;-1.35;15.5;0;-1.38;17.446;0;-1.38;19.576;0;-1.38;22.072;0;-1.4;28;0;-1.4;;;;;;;;;;;;;;;;;;;;;;;;;;;;;;;;;;;;;;;;;;;;;;;;;;;;;;;;;;;;;;;;;;;;;;;;;;;;;;;;;;;;;;;;;;;;;;;;;;;;;;;;;;;;;;;;;;;;;;;;;;;;;;;;;;;;;;;;;;;;;;;;;;;;;;;;;;;;;;;;;;;;;;;;;;;;;;;;;;;;;;;;;;;;;;;;;;;;;;;;;;;;;;;;;;;;;;;;;;;;;;;;;;;;;;;;;;;;;;;;;;;;;;;;;;;;;;;;;;;;;;;;;;;;;;;;;;;;;;;;;;;;;;;;;;;;;;;;;;;;;;;;;;;;;;;;;;;;;;;;;;;;;;;;;;;;;;;;;;;;;;;;;;;;;;;;;;;;;;;;;;;;;;;;;;;;;;;;;;;;;;;;;;;;;;;;;;;;;;;;;;;;;;;;;;;;;;;;;;;;;;;;;;;;;;;;;;;;;;
A222: 074_042_00016 | B222: 074_042_00017 | C222: =VLOOKUP(A222,batch1!$B$2:$H$343,7,FALSE) -> \OR-3.30\STBI\Hoogwater\STBI_002J_HW_metbelasting.sti | D222: =VLOOKUP(B222,surf_in!$A$2:$B$444,2,FALSE) -> 074_042_00017;8;0;63;0;0;-1.2;4.31;0;-1.2;5;0;-0.807;5.374;0;-0.594;5.583;0;-0.475;6;0;-0.15;6.5;0;-0.09;7;0;-0.08;7.5;0;-0.09;8;0;-0.11;8.5;0;-0.26;9;0;-0.5;9.5;0;-0.56;10;0;-0.66;10.5;0;-0.67;11;0;-0.68;11.5;0;-0.66;12;0;-0.64;12.5;0;-0.62;13;0;-0.69;13.5;0;-0.93;14.421;0;-1.053;15.276;0;-1.338;16.541;0;-2.37;17.602;0;-2.37;19.13;0;-1.127;19.807;0;-0.917;21;0;-0.79;21.5;0;-0.9;22;0;-0.8;22.5;0;-0.8;23;0;-0.85;23.5;0;-0.98;24;0;-1.04;24.5;0;-1.07;25;0;-1.07;25.5;0;-1.09;26;0;-1.11;;;;;;;;;;;;;;;;;;;;;;;;;;;;;;;;;;;;;;;;;;;;;;;;;;;;;;;;;;;;;;;;;;;;;;;;;;;;;;;;;;;;;;;;;;;;;;;;;;;;;;;;;;;;;;;;;;;;;;;;;;;;;;;;;;;;;;;;;;;;;;;;;;;;;;;;;;;;;;;;;;;;;;;;;;;;;;;;;;;;;;;;;;;;;;;;;;;;;;;;;;;;;;;;;;;;;;;;;;;;;;;;;;;;;;;;;;;;;;;;;;;;;;;;;;;;;;;;;;;;;;;;;;;;;;;;;;;;;;;;;;;;;;;;;;;;;;;;;;;;;;;;;;;;;;;;;;;;;;;;;;;;;;;;;;;;;;;;;;;;;;;;;;;;;;;;;;;;;;;;;;;;;;;;;;;;;;;;;;;;;;;;;;;;;;;;;;;;;;;;;;;;;;;;
A223: 074_042_00017 | B223: =A223 -> 074_042_00017 | C223: =VLOOKUP(A223,batch1!$B$2:$H$343,7,FALSE) -> \OR-3.30\STBI\Hoogwater\STBI_002K_HW_metbelasting.sti | D223: =VLOOKUP(B223,surf_in!$A$2:$B$444,2,FALSE) -> 074_042_00017;8;0;63;0;0;-1.2;4.31;0;-1.2;5;0;-0.807;5.374;0;-0.594;5.583;0;-0.475;6;0;-0.15;6.5;0;-0.09;7;0;-0.08;7.5;0;-0.09;8;0;-0.11;8.5;0;-0.26;9;0;-0.5;9.5;0;-0.56;10;0;-0.66;10.5;0;-0.67;11;0;-0.68;11.5;0;-0.66;12;0;-0.64;12.5;0;-0.62;13;0;-0.69;13.5;0;-0.93;14.421;0;-1.053;15.276;0;-1.338;16.541;0;-2.37;17.602;0;-2.37;19.13;0;-1.127;19.807;0;-0.917;21;0;-0.79;21.5;0;-0.9;22;0;-0.8;22.5;0;-0.8;23;0;-0.85;23.5;0;-0.98;24;0;-1.04;24.5;0;-1.07;25;0;-1.07;25.5;0;-1.09;26;0;-1.11;;;;;;;;;;;;;;;;;;;;;;;;;;;;;;;;;;;;;;;;;;;;;;;;;;;;;;;;;;;;;;;;;;;;;;;;;;;;;;;;;;;;;;;;;;;;;;;;;;;;;;;;;;;;;;;;;;;;;;;;;;;;;;;;;;;;;;;;;;;;;;;;;;;;;;;;;;;;;;;;;;;;;;;;;;;;;;;;;;;;;;;;;;;;;;;;;;;;;;;;;;;;;;;;;;;;;;;;;;;;;;;;;;;;;;;;;;;;;;;;;;;;;;;;;;;;;;;;;;;;;;;;;;;;;;;;;;;;;;;;;;;;;;;;;;;;;;;;;;;;;;;;;;;;;;;;;;;;;;;;;;;;;;;;;;;;;;;;;;;;;;;;;;;;;;;;;;;;;;;;;;;;;;;;;;;;;;;;;;;;;;;;;;;;;;;;;;;;;;;;;;;;;;;;
A224: 074_042_00018 | B224: =A224 -> 074_042_00018 | C224: =VLOOKUP(A224,batch1!$B$2:$H$343,7,FALSE) -> \OR-3.30\STBI\Hoogwater\STBI_001_002L_003_HW_metbelasting.sti | D224: =VLOOKUP(B224,surf_in!$A$2:$B$444,2,FALSE) -> 074_042_00018;9.6;0;62;0;0;-1.2;4.05;0;-1.2;6.1;0;-0.491;6.15;0;-0.474;6.6;0;-0.52;7.1;0;-0.14;7.6;0;-0.04;8.1;0;-0.01;8.6;0;-0.01;9.1;0;-0.01;9.6;0;-0.05;10.1;0;-0.31;10.6;0;-0.51;11.1;0;-0.69;11.6;0;-0.88;12.1;0;-0.88;12.6;0;-1.07;13.1;0;-1.14;13.6;0;-1.19;14.1;0;-1.21;14.6;0;-1.3;15.1;0;-1.25;15.6;0;-1.28;16.1;0;-1.28;16.6;0;-1.28;17.1;0;-1.24;17.6;0;-1.26;18.1;0;-1.28;18.6;0;-1.26;19.1;0;-1.29;19.6;0;-1.3;20.1;0;-1.3;20.6;0;-1.3;21.1;0;-1.34;21.6;0;-1.37;22.1;0;-1.38;22.6;0;-1.38;23.1;0;-1.41;23.6;0;-1.39;24.1;0;-1.39;24.6;0;-1.4;25.1;0;-1.4;25.6;0;-1.44;26.1;0;-1.39;26.6;0;-1.36;27.1;0;-1.41;27.6;0;-1.41;28.1;0;-1.41;28.6;0;-1.38;29.1;0;-1.4;29.6;0;-1.41;30.1;0;-1.36;30.6;0;-1.36;31.1;0;-1.36;31.6;0;-1.37;32.1;0;-1.36;32.6;0;-1.35;33.1;0;-1.32;33.6;0;-1.35;34.1;0;-1.34;34.6;0;-1.32;35.1;0;-1.29;35.6;0;-1.25;36.1;0;-1.27;36.6;0;-1.26;37.1;0;-1.17;37.6;0;-1.2;38.1;0;-1.21;38.6;0;-1.2;39.1;0;-1.17;39.6;0;-1.21;40.1;0;-1.24;;;;;;;;;;;;;;;;;;;;;;;;;;;;;;;;;;;;;;;;;;;;;;;;;;;;;;;;;;;;;;;;;;;;;;;;;;;;;;;;;;;;;;;;;;;;;;;;;;;;;;;;;;;;;;;;;;;;;;;;;;;;;;;;;;;;;;;;;;;;;;;;;;;;;;;;;;;;;;;;;;;;;;;;;;;;;;;;;;;;;;;;;;;;;;;;;;;;;;;;;;;;;;;;;;;;;;;;;;;;;;;;;;;;;;;;;;;;;;;;;;;;;;;;;;;;;;;;;;;;;;;;;;;;;;;;;;;;;;;;;;;;;;;;;;;;;;;;;;;;;;;;;;
A225: 074_042_00019 | B225: =A225 -> 074_042_00019 | C225: =VLOOKUP(A225,batch1!$B$2:$H$343,7,FALSE) -> \OR-3.30\STBI\Hoogwater\STBI_001_002L_003_HW_metbelasting.sti | D225: =VLOOKUP(B225,surf_in!$A$2:$B$444,2,FALSE) -> 074_042_00019;9.6;0;52;0;0;-1.2;4.05;0;-1.2;6.15;0;-0.474;6.6;0;-0.52;7.1;0;-0.14;7.6;0;-0.04;8.1;0;-0.01;8.6;0;-0.01;9.1;0;-0.01;9.6;0;-0.05;10.1;0;-0.31;10.6;0;-0.51;11.1;0;-0.69;11.6;0;-0.88;12.1;0;-0.88;12.6;0;-1.07;13.1;0;-1.14;13.6;0;-1.19;14.1;0;-1.21;14.6;0;-1.3;15.1;0;-1.25;15.6;0;-1.28;16.1;0;-1.28;16.6;0;-1.28;17.1;0;-1.24;17.6;0;-1.26;18.1;0;-1.28;18.6;0;-1.26;19.1;0;-1.29;19.6;0;-1.3;20.1;0;-1.3;20.6;0;-1.3;21.1;0;-1.34;21.6;0;-1.37;22.1;0;-1.38;22.6;0;-1.38;23.1;0;-1.41;23.6;0;-1.39;24.1;0;-1.39;24.6;0;-1.4;25.1;0;-1.4;25.6;0;-1.44;26.1;0;-1.39;26.6;0;-1.36;27.1;0;-1.41;27.6;0;-1.41;28.1;0;-1.41;28.6;0;-1.38;29.1;0;-1.4;29.6;0;-1.41;30.1;0;-1.36;30.6;0;-1.36;31.1;0;-1.36;31.6;0;-1.37;32.1;0;-1.36;32.6;0;-1.35;33.1;0;-1.32;33.6;0;-1.35;34.1;0;-1.34;34.6;0;-1.32;35.1;0;-1.29;35.6;0;-1.25;36.1;0;-1.27;36.6;0;-1.26;37.1;0;-1.17;37.6;0;-1.2;38.1;0;-1.21;38.6;0;-1.2;39.1;0;-1.17;39.6;0;-1.21;40.1;0;-1.24;;;;;;;;;;;;;;;;;;;;;;;;;;;;;;;;;;;;;;;;;;;;;;;;;;;;;;;;;;;;;;;;;;;;;;;;;;;;;;;;;;;;;;;;;;;;;;;;;;;;;;;;;;;;;;;;;;;;;;;;;;;;;;;;;;;;;;;;;;;;;;;;;;;;;;;;;;;;;;;;;;;;;;;;;;;;;;;;;;;;;;;;;;;;;;;;;;;;;;;;;;;;;;;;;;;;;;;;;;;;;;;;;;;;;;;;;;;;;;;;;;;;;;;;;;;;;;;;;;;;;;;;;;;;;;;;;;;;;;;;;;;;;;;;;;;;;;;;;;;;;;;;;;;;;
A226: 081_042_00002 | B226: =A226 -> 081_042_00002 | C226: =VLOOKUP(A226,batch1!$B$2:$H$343,7,FALSE) -> \OR-3.33 en OR-3.29\OR333_001A&C_hw_metbel_exclkopsloot.sti | D226: =VLOOKUP(B226,surf_in!$A$2:$B$444,2,FALSE) -> 081_042_00002;17.864;0;65;0;0;-2.304;5.985;0;-2.304;11.634;0;-1.906;12.328;0;-1.848;12.701;0;-1.65;13.014;0;-1.484;14.022;0;-0.759;14.364;0;-0.555;14.389;0;-0.54;14.864;0;-0.256;15.364;0;-0.046;15.864;0;-0.12;16.364;0;-0.05;16.864;0;-0.121;17.364;0;-0.217;17.864;0;-0.217;18.364;0;-0.465;18.864;0;-0.707;19.364;0;-0.966;19.864;0;-1.091;20.364;0;-1.311;20.864;0;-1.393;21.364;0;-1.525;21.864;0;-1.525;22.364;0;-1.536;22.864;0;-1.618;23.364;0;-1.712;23.864;0;-1.785;24.329;0;-2;50.37;0;-2;;;;;;;;;;;;;;;;;;;;;;;;;;;;;;;;;;;;;;;;;;;;;;;;;;;;;;;;;;;;;;;;;;;;;;;;;;;;;;;;;;;;;;;;;;;;;;;;;;;;;;;;;;;;;;;;;;;;;;;;;;;;;;;;;;;;;;;;;;;;;;;;;;;;;;;;;;;;;;;;;;;;;;;;;;;;;;;;;;;;;;;;;;;;;;;;;;;;;;;;;;;;;;;;;;;;;;;;;;;;;;;;;;;;;;;;;;;;;;;;;;;;;;;;;;;;;;;;;;;;;;;;;;;;;;;;;;;;;;;;;;;;;;;;;;;;;;;;;;;;;;;;;;;;;;;;;;;;;;;;;;;;;;;;;;;;;;;;;;;;;;;;;;;;;;;;;;;;;;;;;;;;;;;;;;;;;;;;;;;;;;;;;;;;;;;;;;;;;;;;;;;;;;;;;;;;;;;;;;;;;;;;;;;;;;;;
A227: 081_042_00003 | B227: =A227 -> 081_042_00003 | C227: =VLOOKUP(A227,batch1!$B$2:$H$343,7,FALSE) -> \OR-3.33 en OR-3.29\OR333_001B_hw_metbel.sti | D227: =VLOOKUP(B227,surf_in!$A$2:$B$444,2,FALSE) -> 081_042_00003;29.689;0;66;0;0;-3.797;16.78;0;-3.797;19.9;0;-2.73;21.654;0;-2.13;24.061;0;-1.307;26.381;0;-0.597;26.389;0;-0.527;26.689;0;-0.427;27.189;0;-0.362;27.689;0;-0.252;28.189;0;-0.158;28.689;0;-0.188;29.189;0;-0.182;29.689;0;-0.227;30.189;0;-0.383;30.689;0;-0.601;31.189;0;-0.876;31.689;0;-1.06;32.189;0;-1.267;32.689;0;-1.377;33.189;0;-1.548;33.689;0;-1.613;34.189;0;-1.584;34.689;0;-1.582;35.189;0;-1.593;35.689;0;-1.6;36.189;0;-1.605;36.689;0;-1.617;37.189;0;-1.623;37.689;0;-1.645;38.189;0;-1.66;38.689;0;-1.608;39.189;0;-1.605;39.689;0;-1.679;40.189;0;-1.664;40.689;0;-1.711;41.189;0;-1.724;41.689;0;-1.712;42.189;0;-1.742;42.689;0;-1.753;43.189;0;-1.758;43.689;0;-1.794;44.189;0;-1.78;44.689;0;-1.767;45.189;0;-1.799;45.689;0;-1.82;46.189;0;-1.811;46.689;0;-1.807;47.189;0;-1.854;47.689;0;-1.848;48.189;0;-1.852;48.689;0;-1.849;49.189;0;-1.843;49.689;0;-1.846;50.189;0;-1.852;50.689;0;-1.882;51.189;0;-1.873;51.689;0;-1.864;52.189;0;-1.912;52.689;0;-1.88;53.189;0;-1.893;53.689;0;-1.895;54.189;0;-1.919;54.689;0;-1.95;55.189;0;-1.959;55.689;0;-1.993;56.071;0;-2.212;57.436;0;-2.993;58.076;0;-2.993;59.392;0;-2.228;59.679;0;-2.027;59.689;0;-2.02;60.189;0;-2.011;60.689;0;-1.974;61.189;0;-1.97;61.689;0;-1.976;62.189;0;-1.962;62.689;0;-1.978;63.189;0;-1.993;63.689;0;-1.985;64.189;0;-1.982;64.689;0;-1.973;65.189;0;-1.959;65.689;0;-1.945;66.189;0;-1.965;66.689;0;-1.986;67.189;0;-1.944;67.689;0;-1.927;68.189;0;-1.941;68.689;0;-1.982;69.189;0;-1.956;69.689;0;-1.963;70.189;0;-1.983;70.689;0;-1.968;71.189;0;-1.962;71.689;0;-1.946;72.189;0;-1.953;72.689;0;-1.94;73.189;0;-1.939;73.689;0;-1.94;74.189;0;-1.958;74.689;0;-1.952;75.189;0;-1.972;75.689;0;-1.969;76.189;0;-1.963;76.689;0;-1.978;77.189;0;-2.016;77.689;0;-1.979;;;;;;;;;;;;;;;;;;;;;;;;;;;;;;;;;;;;;;;;;;;;;;;;;;;;;;;;;;;;;;;;;;;;;;;;;;;;;;;;;;;;;;;;;;;;;;;;;;;;;;;;;;;;;;;;;;;;;;;;;;;;;;;;;;;;;;;;;;;;;;;;;;;;;;;;;;;;;;;;;;;;;;;;;;;;;;;;;;;;;;;;;;;;;;;;;;;;;;
A228: 081_042_00004 | B228: =A228 -> 081_042_00004 | C228: =VLOOKUP(A228,batch1!$B$2:$H$343,7,FALSE) -> \OR-3.33 en OR-3.29\OR333_001A&C_hw_metbel_exclkopsloot.sti | D228: =VLOOKUP(B228,surf_in!$A$2:$B$444,2,FALSE) -> 081_042_00004;17.864;0;64;0;0;-2.304;5.985;0;-2.304;11.634;0;-1.906;12.328;0;-1.848;12.701;0;-1.65;13.014;0;-1.484;14.022;0;-0.759;14.389;0;-0.54;14.864;0;-0.256;15.364;0;-0.046;15.864;0;-0.12;16.364;0;-0.05;16.864;0;-0.121;17.364;0;-0.217;17.864;0;-0.217;18.364;0;-0.465;18.864;0;-0.707;19.364;0;-0.966;19.864;0;-1.091;20.364;0;-1.311;20.864;0;-1.393;21.364;0;-1.525;21.864;0;-1.525;22.364;0;-1.536;22.864;0;-1.618;23.364;0;-1.712;23.864;0;-1.785;24.329;0;-2;50.37;0;-2;;;;;;;;;;;;;;;;;;;;;;;;;;;;;;;;;;;;;;;;;;;;;;;;;;;;;;;;;;;;;;;;;;;;;;;;;;;;;;;;;;;;;;;;;;;;;;;;;;;;;;;;;;;;;;;;;;;;;;;;;;;;;;;;;;;;;;;;;;;;;;;;;;;;;;;;;;;;;;;;;;;;;;;;;;;;;;;;;;;;;;;;;;;;;;;;;;;;;;;;;;;;;;;;;;;;;;;;;;;;;;;;;;;;;;;;;;;;;;;;;;;;;;;;;;;;;;;;;;;;;;;;;;;;;;;;;;;;;;;;;;;;;;;;;;;;;;;;;;;;;;;;;;;;;;;;;;;;;;;;;;;;;;;;;;;;;;;;;;;;;;;;;;;;;;;;;;;;;;;;;;;;;;;;;;;;;;;;;;;;;;;;;;;;;;;;;;;;;;;;;;;;;;;;;;;;;;;;;;;;;;;;;;;;;;;;;;;
A229: 104_042_00001 | B229: =A229 -> 104_042_00001 | C229: =VLOOKUP(A229,batch1!$B$2:$H$343,7,FALSE) -> \OR-1.01\RP-01\STBI\RP_01_STBI_hoogwater_met_belasting_param_.sti | D229: =VLOOKUP(B229,surf_in!$A$2:$B$444,2,FALSE) -> 104_042_00001;26.508;0;1;0;0;-4.3;8.9;0;-4.3;18.497;0;-1.37;20.008;0;-0.792;20.89;0;-0.672;22.008;0;-0.512;23.008;0;-0.342;23.508;0;-0.222;23.752;0;-0.17;24.508;0;-0.12;25.508;0;-0.162;26.508;0;-0.272;27.508;0;-0.562;28.303;0;-0.672;29.008;0;-0.802;30.008;0;-0.942;31.008;0;-1.042;33.008;0;-1.582;34.008;0;-1.802;34.431;0;-2.092;35;0;-2.6;35.492;0;-2.9;36.5;0;-2.9;37.008;0;-2.6;38.008;0;-2.212;39.008;0;-2.172;40.008;0;-2.092;40.942;0;-1.95;42.008;0;-2.082;43.971;0;-2.102;44.008;0;-2.102;46.008;0;-1.922;47.508;0;-2.002;100;0;-2.002;;;;;;;;;;;;;;;;;;;;;;;;;;;;;;;;;;;;;;;;;;;;;;;;;;;;;;;;;;;;;;;;;;;;;;;;;;;;;;;;;;;;;;;;;;;;;;;;;;;;;;;;;;;;;;;;;;;;;;;;;;;;;;;;;;;;;;;;;;;;;;;;;;;;;;;;;;;;;;;;;;;;;;;;;;;;;;;;;;;;;;;;;;;;;;;;;;;;;;;;;;;;;;;;;;;;;;;;;;;;;;;;;;;;;;;;;;;;;;;;;;;;;;;;;;;;;;;;;;;;;;;;;;;;;;;;;;;;;;;;;;;;;;;;;;;;;;;;;;;;;;;;;;;;;;;;;;;;;;;;;;;;;;;;;;;;;;;;;;;;;;;;;;;;;;;;;;;;;;;;;;;;;;;;;;;;;;;;;;;;;;;;;;;;;;;;;;;;;;;;;;;;;;;;;;;;;;;;;;;;
A230: 104_042_00002 | B230: =A230 -> 104_042_00002 | C230: =VLOOKUP(A230,batch1!$B$2:$H$343,7,FALSE) -> \OR-1.01\RP-02\STBI\RP_02_STBI_hoogwater_met_belasting_param_.sti | D230: =VLOOKUP(B230,surf_in!$A$2:$B$444,2,FALSE) -> 104_042_00002;25;0;2;0;0;-4.3;7.77;0;-4.3;16.385;0;-1.37;18.61;0;-0.67;19;0;-0.58;20;0;-0.51;20.5;0;-0.39;21;0;-0.2;21.5;0;-0.1;22;0;-0.06;22.5;0;-0.08;23.5;0;-0.09;24;0;-0.1;24.5;0;-0.17;25;0;-0.19;25.5;0;-0.27;26;0;-0.44;26.5;0;-0.6;27.5;0;-0.67;28.5;0;-0.79;29;0;-0.87;30;0;-0.96;31.5;0;-0.97;34.2;0;-2;34.256;0;-2.09;35;0;-2.5;35.8;0;-2.5;36.433;0;-2.09;36.5;0;-2;37;0;-1.7;38;0;-1.44;39;0;-1.46;40;0;-1.41;42;0;-1.44;44;0;-1.49;47;0;-1.66;100;0;-1.66;;;;;;;;;;;;;;;;;;;;;;;;;;;;;;;;;;;;;;;;;;;;;;;;;;;;;;;;;;;;;;;;;;;;;;;;;;;;;;;;;;;;;;;;;;;;;;;;;;;;;;;;;;;;;;;;;;;;;;;;;;;;;;;;;;;;;;;;;;;;;;;;;;;;;;;;;;;;;;;;;;;;;;;;;;;;;;;;;;;;;;;;;;;;;;;;;;;;;;;;;;;;;;;;;;;;;;;;;;;;;;;;;;;;;;;;;;;;;;;;;;;;;;;;;;;;;;;;;;;;;;;;;;;;;;;;;;;;;;;;;;;;;;;;;;;;;;;;;;;;;;;;;;;;;;;;;;;;;;;;;;;;;;;;;;;;;;;;;;;;;;;;;;;;;;;;;;;;;;;;;;;;;;;;;;;;;;;;;;;;;;;;;;;;;;;;;;;;;;;;;;;;;;;;;;;
A231: 104_042_00014 | B231: =A231 -> 104_042_00014 | C231: =VLOOKUP(A231,batch1!$B$2:$H$343,7,FALSE) -> \OR-1.01\RP-02\STBI\RP_02_STBI_hoogwater_met_belasting_param_.sti | D231: =VLOOKUP(B231,surf_in!$A$2:$B$444,2,FALSE) -> 104_042_00014;25;0;34;0;0;-4.3;7.77;0;-4.3;16.385;0;-1.37;18.61;0;-0.67;19;0;-0.58;20;0;-0.51;20.5;0;-0.39;21;0;-0.2;21.5;0;-0.1;22;0;-0.06;22.5;0;-0.08;23.5;0;-0.09;24;0;-0.1;24.5;0;-0.17;25;0;-0.19;25.5;0;-0.27;26;0;-0.44;26.5;0;-0.6;27.5;0;-0.67;28.5;0;-0.79;29;0;-0.87;30;0;-0.96;31.5;0;-0.97;34.2;0;-2;34.256;0;-2.09;35;0;-2.5;35.8;0;-2.5;36.433;0;-2.09;36.5;0;-2;37;0;-1.7;38;0;-1.44;39;0;-1.46;40;0;-1.41;42;0;-1.44;44;0;-1.49;47;0;-1.66;100;0;-1.66;;;;;;;;;;;;;;;;;;;;;;;;;;;;;;;;;;;;;;;;;;;;;;;;;;;;;;;;;;;;;;;;;;;;;;;;;;;;;;;;;;;;;;;;;;;;;;;;;;;;;;;;;;;;;;;;;;;;;;;;;;;;;;;;;;;;;;;;;;;;;;;;;;;;;;;;;;;;;;;;;;;;;;;;;;;;;;;;;;;;;;;;;;;;;;;;;;;;;;;;;;;;;;;;;;;;;;;;;;;;;;;;;;;;;;;;;;;;;;;;;;;;;;;;;;;;;;;;;;;;;;;;;;;;;;;;;;;;;;;;;;;;;;;;;;;;;;;;;;;;;;;;;;;;;;;;;;;;;;;;;;;;;;;;;;;;;;;;;;;;;;;;;;;;;;;;;;;;;;;;;;;;;;;;;;;;;;;;;;;;;;;;;;;;;;;;;;;;;;;;;;;;;;;;;;;
A232: 104_042_00015 | B232: =A232 -> 104_042_00015 | C232: =VLOOKUP(A232,batch1!$B$2:$H$343,7,FALSE) -> \OR-1.01\RP-03\STBI\RP_03_STBI_hoogwater_met_belasting_param_profiel_.sti | D232: =VLOOKUP(B232,surf_in!$A$2:$B$444,2,FALSE) -> 104_042_00015;11.5;0;3;0;0;-1.8;2.98;0;-1.8;6.592;0;-0.624;7;0;-0.43;7.5;0;-0.32;8;0;-0.2;8.5;0;-0.09;9;0;-0.06;10;0;-0.01;10.5;0;-0.06;11;0;-0.08;11.5;0;-0.15;12;0;-0.45;12.5;0;-0.67;13;0;-0.92;15;0;-0.98;18;0;-1.09;22;0;-1.2;36;0;-1.32;68.989;0;-1.27;;;;;;;;;;;;;;;;;;;;;;;;;;;;;;;;;;;;;;;;;;;;;;;;;;;;;;;;;;;;;;;;;;;;;;;;;;;;;;;;;;;;;;;;;;;;;;;;;;;;;;;;;;;;;;;;;;;;;;;;;;;;;;;;;;;;;;;;;;;;;;;;;;;;;;;;;;;;;;;;;;;;;;;;;;;;;;;;;;;;;;;;;;;;;;;;;;;;;;;;;;;;;;;;;;;;;;;;;;;;;;;;;;;;;;;;;;;;;;;;;;;;;;;;;;;;;;;;;;;;;;;;;;;;;;;;;;;;;;;;;;;;;;;;;;;;;;;;;;;;;;;;;;;;;;;;;;;;;;;;;;;;;;;;;;;;;;;;;;;;;;;;;;;;;;;;;;;;;;;;;;;;;;;;;;;;;;;;;;;;;;;;;;;;;;;;;;;;;;;;;;;;;;;;;;;;;;;;;;;;;;;;;;;;;;;;;;;;;;;;;;;;;;;;;;;;;;;;;;;;;;
A233: 104_042_00016 | B233: =A233 -> 104_042_00016 | C233: =VLOOKUP(A233,batch1!$B$2:$H$343,7,FALSE) -> \OR-1.01\RP-04\STBI\RP_04_STBI_hoogwater_met_belasting_param.sti | D233: =VLOOKUP(B233,surf_in!$A$2:$B$444,2,FALSE) -> 104_042_00016;8;0;56;0;0;-1.2;4;0;-1.2;5.097;0;-0.54;5.5;0;-0.23;5.755;0;-0.14;6;0;-0.08;6.5;0;-0.07;7;0;-0.1;8;0;-0.15;8.5;0;-0.26;9;0;-0.36;9.5;0;-0.54;10;0;-0.63;11;0;-0.72;11.5;0;-0.82;12;0;-1.09;13;0;-1.29;14;0;-1.47;15;0;-1.61;16;0;-1.68;18;0;-1.7;19;0;-1.75;20;0;-1.74;102.011;0;-1.69;;;;;;;;;;;;;;;;;;;;;;;;;;;;;;;;;;;;;;;;;;;;;;;;;;;;;;;;;;;;;;;;;;;;;;;;;;;;;;;;;;;;;;;;;;;;;;;;;;;;;;;;;;;;;;;;;;;;;;;;;;;;;;;;;;;;;;;;;;;;;;;;;;;;;;;;;;;;;;;;;;;;;;;;;;;;;;;;;;;;;;;;;;;;;;;;;;;;;;;;;;;;;;;;;;;;;;;;;;;;;;;;;;;;;;;;;;;;;;;;;;;;;;;;;;;;;;;;;;;;;;;;;;;;;;;;;;;;;;;;;;;;;;;;;;;;;;;;;;;;;;;;;;;;;;;;;;;;;;;;;;;;;;;;;;;;;;;;;;;;;;;;;;;;;;;;;;;;;;;;;;;;;;;;;;;;;;;;;;;;;;;;;;;;;;;;;;;;;;;;;;;;;;;;;;;;;;;;;;;;;;;;;;;;;;;;;;;;;;;;;;;;;;;;;;
A234: 104_042_00017 | B234: =A234 -> 104_042_00017 | C234: =VLOOKUP(A234,batch1!$B$2:$H$343,7,FALSE) -> \OR-1.01\RP-04\STBI\RP_04_STBI_hoogwater_met_belasting_param.sti | D234: =VLOOKUP(B234,surf_in!$A$2:$B$444,2,FALSE) -> 104_042_00017;8;0;58;0;0;-1.2;4;0;-1.2;5.097;0;-0.54;5.5;0;-0.23;5.755;0;-0.14;6;0;-0.08;6.5;0;-0.07;7;0;-0.1;8;0;-0.15;8.5;0;-0.26;9;0;-0.36;9.5;0;-0.54;10;0;-0.63;11;0;-0.72;11.5;0;-0.82;12;0;-1.09;13;0;-1.29;14;0;-1.47;15;0;-1.61;16;0;-1.68;18;0;-1.7;19;0;-1.75;20;0;-1.74;102.011;0;-1.69;;;;;;;;;;;;;;;;;;;;;;;;;;;;;;;;;;;;;;;;;;;;;;;;;;;;;;;;;;;;;;;;;;;;;;;;;;;;;;;;;;;;;;;;;;;;;;;;;;;;;;;;;;;;;;;;;;;;;;;;;;;;;;;;;;;;;;;;;;;;;;;;;;;;;;;;;;;;;;;;;;;;;;;;;;;;;;;;;;;;;;;;;;;;;;;;;;;;;;;;;;;;;;;;;;;;;;;;;;;;;;;;;;;;;;;;;;;;;;;;;;;;;;;;;;;;;;;;;;;;;;;;;;;;;;;;;;;;;;;;;;;;;;;;;;;;;;;;;;;;;;;;;;;;;;;;;;;;;;;;;;;;;;;;;;;;;;;;;;;;;;;;;;;;;;;;;;;;;;;;;;;;;;;;;;;;;;;;;;;;;;;;;;;;;;;;;;;;;;;;;;;;;;;;;;;;;;;;;;;;;;;;;;;;;;;;;;;;;;;;;;;;;;;;;;
... A319: 242_042_00044 | B319: =A319 -> 242_042_00044 | C319: =VLOOKUP(A319,batch1!$B$2:$H$343,7,FALSE) -> \WW-09\WW-09-32-04B\WW-09-32-04B_hoogwater_metbelasting.sti | D319: =VLOOKUP(B319,surf_in!$A$2:$B$444,2,FALSE) -> 242_042_00044;10;0;78;0;0;-1.2;4.6;0;-1.2;7;0;-0.42;7.5;0;-0.33;8;0;-0.28;8.5;0;-0.36;9;0;-0.36;9.5;0;-0.29;10;0;-0.28;10.5;0;-0.48;11;0;-0.53;11.5;0;-0.93;12;0;-1.03;12.872;0;-1.885;13.261;0;-2.267;13.6;0;-2.6;20;0;-2.6;;;;;;;;;;;;;;;;;;;;;;;;;;;;;;;;;;;;;;;;;;;;;;;;;;;;;;;;;;;;;;;;;;;;;;;;;;;;;;;;;;;;;;;;;;;;;;;;;;;;;;;;;;;;;;;;;;;;;;;;;;;;;;;;;;;;;;;;;;;;;;;;;;;;;;;;;;;;;;;;;;;;;;;;;;;;;;;;;;;;;;;;;;;;;;;;;;;;;;;;;;;;;;;;;;;;;;;;;;;;;;;;;;;;;;;;;;;;;;;;;;;;;;;;;;;;;;;;;;;;;;;;;;;;;;;;;;;;;;;;;;;;;;;;;;;;;;;;;;;;;;;;;;;;;;;;;;;;;;;;;;;;;;;;;;;;;;;;;;;;;;;;;;;;;;;;;;;;;;;;;;;;;;;;;;;;;;;;;;;;;;;;;;;;;;;;;;;;;;;;;;;;;;;;;;;;;;;;;;;;;;;;;;;;;;;;;;;;;;;;;;;;;;;;;;;;;;;;;;;;;;;;;;;;;;;

Sheet characteristicpoints
A1: location_id | B1: location_id | C1: Bestand | D1: Profielnaam;X_Maaiveld binnenwaarts;Y_Maaiveld binnenwaarts;Z_Maaiveld binnenwaarts;X_Insteek sloot polderzijde;Y_Insteek sloot polderzijde;Z_Insteek sloot polderzijde;X_Slootbodem polderzijde;Y_Slootbodem polderzijde;Z_Slootbodem polderzijde;X_Slootbodem dijkzijde;Y_Slootbodem dijkzijde;Z_Slootbodem dijkzijde;X_Insteek sloot dijkzijde;Y_Insteek_sloot dijkzijde;Z_Insteek sloot dijkzijde;X_Teen dijk binnenwaarts;Y_Teen dijk binnenwaarts;Z_Teen dijk binnenwaarts;X_Kruin binnenberm;Y_Kruin binnenberm;Z_Kruin binnenberm;X_Insteek binnenberm;Y_Insteek binnenberm;Z_Insteek binnenberm;X_Kruin binnentalud;Y_Kruin binnentalud;Z_Kruin binnentalud;X_Verkeersbelasting kant binnenwaarts;Y_Verkeersbelasting kant binnenwaarts;Z_Verkeersbelasting kant binnenwaarts;X_Verkeersbelasting kant buitenwaarts;Y_Verkeersbelasting kant buitenwaarts;Z_Verkeersbelasting kant buitenwaarts;X_Kruin buitentalud;Y_Kruin buitentalud;Z_Kruin buitentalud;X_Insteek buitenberm;Y_Insteek buitenberm;Z_Insteek buitenberm;X_Kruin buitenberm;Y_Kruin buitenberm;Z_Kruin buitenberm;X_Teen dijk buitenwaarts;Y_Teen dijk buitenwaarts;Z_Teen dijk buitenwaarts;X_Insteek geul;Y_Insteek geul;Z_Insteek geul;X_Teen geul;Y_Teen geul;Z_Teen geul;X_Maaiveld buitenwaarts;Y_Maaiveld buitenwaarts;Z_Maaiveld buitenwaarts
A2: 040_042_00051 | B2: 002_042_00001 | C2: =VLOOKUP(B2,batch1!$B$2:$H$405,7,FALSE) -> \OR-3.10\DWP 00.34\OR-3.10-001A hoogwater m. belasting.sti | D2: =VLOOKUP(B2,char_in!$A$2:$B$405,2,FALSE) -> 002_042_00001;25;0;-2.95;18.5;0;-2.95;18.5;0;-2.95;18.5;0;-2.95;17;0;-1.54;14.5;0;-1.47;-1;-1;-1;-1;-1;-1;10.5;0;-0.21;10;0;-0.12;7.5;0;-0.6;8.5;0;-0.17;-1;-1;-1;-1;-1;-1;1.25;0;-3.1;-1;-1;-1;-1;-1;-1;0;0;-3.1
A3: 189_042_00008 | B3: 002_042_00003 | C3: =VLOOKUP(B3,batch1!$B$2:$H$405,7,FALSE) -> \OR-3.10\DWP 01.14\OR-3.10-001B hoogwater m. belasting.sti | D3: =VLOOKUP(B3,char_in!$A$2:$B$405,2,FALSE) -> 002_042_00003;21.5;0;-2.45;17.456;0;-2.45;17.456;0;-2.45;17.456;0;-2.45;15.5;0;-1.72;14.5;0;-1.686;-1;-1;-1;-1;-1;-1;10;0;-0.56;9.5;0;-0.51;7;0;-0.4;5;0;-0.34;-1;-1;-1;-1;-1;-1;4.65;0;-1.129;-1;-1;-1;-1;-1;-1;0;0;-1.8
A4: 189_042_00009 | B4: 002_042_00004 | C4: =VLOOKUP(B4,batch1!$B$2:$H$405,7,FALSE) -> \OR-3.10\DWP 01.73\OR-3.10-002 hoogwater m. belasting.sti | D4: =VLOOKUP(B4,char_in!$A$2:$B$405,2,FALSE) -> 002_042_00004;26;0;-2.45;15.493;0;-2.45;15.493;0;-2.45;15.493;0;-2.45;15;0;-1.729;15;0;-1.729;-1;-1;-1;-1;-1;-1;13;0;-0.21;12.5;0;-0.181;10;0;-0.466;11;0;-0.144;-1;-1;-1;-1;-1;-1;6.786;0;-1.573;-1;-1;-1;-1;-1;-1;0;0;-0.344
A5: 189_042_00012 | B5: 002_042_00005 | C5: =VLOOKUP(B5,batch1!$B$2:$H$405,7,FALSE) -> \OR-3.10\DWP 02.30\OR-3.10-004A hoogwater m. belasting.sti | D5: =VLOOKUP(B5,char_in!$A$2:$B$405,2,FALSE) -> 002_042_00005;28;0;-2.45;22.701;0;-2.45;22.701;0;-2.45;22.701;0;-2.45;21.793;0;-1.45;21.793;0;-1.45;-1;-1;-1;-1;-1;-1;20.5;0;0.168;20;0;0.221;17.5;0;0.269;10;0;-0.129;-1;-1;-1;-1;-1;-1;6.387;0;-3.667;-1;-1;-1;-1;-1;-1;0;0;-4.2
A6: 189_042_00013 | B6: 002_042_00006 | C6: =VLOOKUP(B6,batch1!$B$2:$H$405,7,FALSE) -> \OR-3.10\DWP 02.23\OR-3.10-00B1 hoogwater m. belasting.sti | D6: =VLOOKUP(B6,char_in!$A$2:$B$405,2,FALSE) -> 002_042_00006;25;0;-0.55;17.5;0;-0.58;15.324;0;-2.2;14.324;0;-2.2;13;0;-0.814;13;0;-0.814;-1;-1;-1;-1;-1;-1;11;0;-0.062;10.5;0;-0.023;8;0;0.028;5;0;-0.074;-1;-1;-1;-1;-1;-1;2.436;0;-1.8;-1;-1;-1;-1;-1;-1;0;0;-1.8
A7: 189_042_00011 | B7: 002_042_00007 | C7: =VLOOKUP(B7,batch1!$B$2:$H$405,7,FALSE) -> \OR-3.10\DWP 02.30\OR-3.10-004A hoogwater m. belasting.sti | D7: =VLOOKUP(B7,char_in!$A$2:$B$405,2,FALSE) -> 002_042_00007;28;0;-2.45;22.701;0;-2.45;22.701;0;-2.45;22.701;0;-2.45;21.793;0;-1.45;21.793;0;-1.45;-1;-1;-1;-1;-1;-1;20.5;0;0.168;17.5;0;0.269;15;0;0.272;10;0;-0.129;-1;-1;-1;-1;-1;-1;6.387;0;-3.667;-1;-1;-1;-1;-1;-1;0;0;-4.2
A8: 189_042_00014 | B8: 002_042_00011 | C8: =VLOOKUP(B8,batch1!$B$2:$H$405,7,FALSE) -> \OR-3.10\DWP 03.07\OR-3.10-004B3 hoogwater m. belasting.sti | D8: =VLOOKUP(B8,char_in!$A$2:$B$405,2,FALSE) -> 002_042_00011;23;0;-1.278;16;0;-1.598;14.5;0;-2.45;12.5;0;-2.45;11;0;-1.493;11;0;-1.493;-1;-1;-1;-1;-1;-1;8;0;-0.171;7.5;0;-0.217;5;0;-0.168;4.5;0;-0.168;-1;-1;-1;-1;-1;-1;2.434;0;-1.8;-1;-1;-1;-1;-1;-1;0;0;-1.8
A9: 189_042_00015 | B9: 002_042_00012 | C9: =VLOOKUP(B9,batch1!$B$2:$H$405,7,FALSE) -> \OR-3.10\DWP 02.30\OR-3.10-004A hoogwater m. belasting.sti | D9: =VLOOKUP(B9,char_in!$A$2:$B$405,2,FALSE) -> 002_042_00012;28;0;-2.45;22.701;0;-2.45;22.701;0;-2.45;22.701;0;-2.45;21.793;0;-1.45;21.793;0;-1.45;-1;-1;-1;-1;-1;-1;20.5;0;0.168;19.5;0;0.279;17;0;0.325;12;0;0.291;-1;-1;-1;-1;-1;-1;4.969;0;-3.974;-1;-1;-1;-1;-1;-1;0;0;-4.2
A10: 189_042_00002 | B10: 002_042_00018 | C10: =VLOOKUP(B10,batch1!$B$2:$H$405,7,FALSE) -> \OR-3.10\DWP 03.60\OR-3.10-005B hoogwater m. belasting.sti | D10: =VLOOKUP(B10,char_in!$A$2:$B$405,2,FALSE) -> 002_042_00018;15;0;-2.55;11.6;0;-2.55;11.6;0;-2.55;11.6;0;-2.55;10;0;-1.449;9.5;0;-1.415;-1;-1;-1;-1;-1;-1;5.5;0;-0.099;5;0;-0.099;2.5;0;-0.218;2.5;0;-0.218;-1;-1;-1;-1;-1;-1;1.155;0;-1.8;-1;-1;-1;-1;-1;-1;0;0;-1.8
A11: 189_042_00004 | B11: 002_042_00023 | C11: =VLOOKUP(B11,batch1!$B$2:$H$405,7,FALSE) -> \OR-3.10\DWP 05.29\OR-3.10-006A hoogwater m. belasting.sti | D11: =VLOOKUP(B11,char_in!$A$2:$B$405,2,FALSE) -> 002_042_00023;30;0;-2.35;26.522;0;-2.35;26.522;0;-2.35;26.522;0;-2.35;25.5;0;-1.09;25.5;0;-1.09;-1;-1;-1;-1;-1;-1;23.5;0;0.225;22;0;0.245;19.5;0;0.275;13;0;0.023;-1;-1;-1;-1;-1;-1;11.338;0;-2.087;-1;-1;-1;-1;-1;-1;0;0;-4.2
A12: 189_042_00003 | B12: 002_042_00024 | C12: =VLOOKUP(B12,batch1!$B$2:$H$405,7,FALSE) -> \OR-3.10\DWP 05.16\OR-3.10-006B2 hoogwater m. belasting.sti | D12: =VLOOKUP(B12,char_in!$A$2:$B$405,2,FALSE) -> 002_042_00024;39;0;-0.698;34;0;-0.973;30.635;0;-2.95;30;0;-2.95;29;0;-1.838;28;0;-1.739;-1;-1;-1;-1;-1;-1;25;0;-0.532;24;0;-0.4;21.5;0;-0.268;4.5;0;-0.225;-1;-1;-1;-1;-1;-1;2.571;0;-1.8;-1;-1;-1;-1;-1;-1;0;0;-1.8
A13: 189_042_00005 | B13: 002_042_00025 | C13: =VLOOKUP(B13,batch1!$B$2:$H$405,7,FALSE) -> \OR-3.10\DWP 05.29\OR-3.10-006A hoogwater m. belasting.sti | D13: =VLOOKUP(B13,char_in!$A$2:$B$405,2,FALSE) -> 002_042_00025;30;0;-2.35;26.522;0;-2.35;26.522;0;-2.35;26.522;0;-2.35;25.5;0;-1.09;25.5;0;-1.09;-1;-1;-1;-1;-1;-1;23.5;0;0.225;23;0;0.212;20.5;0;0.275;12.5;0;-0.08;-1;-1;-1;-1;-1;-1;11.338;0;-2.087;-1;-1;-1;-1;-1;-1;0;0;-4.2
... A295: 189_042_00007 | B295: 199_042_00008 | C295: =VLOOKUP(B295,batch1!$B$2:$H$405,7,FALSE) -> \Verschoven_MStab\STBI-020E hw v.sti | D295: =VLOOKUP(B295,char_in!$A$2:$B$405,2,FALSE) -> 199_042_00008;66,000;0,000;-3,890;61,500;0,000;-3,800;58,220;0,000;-5,170;57,020;0,000;-5,170;55,000;0,000;-4,130;53,000;0,000;-3,800;-1,000;-1,000;-1,000;-1,000;-1,000;-1,000;17,000;0,000;0,010;16,000;0,000;0,130;13,500;0,000;0,070;11,500;0,000;0,060;-1,000;-1,000;-1,000;-1,000;-1,000;-1,000;9,000;0,000;-0,610;-1,000;-1,000;-1,000;-1,000;-1,000;-1,000;0,000;0,000;-0,610
B296: 199_042_00009 | C296: =VLOOKUP(B296,batch1!$B$2:$H$405,7,FALSE) -> \GH-31.160\STBI hw\STBI-020A hw v.sti | D296: =VLOOKUP(B296,char_in!$A$2:$B$405,2,FALSE) -> 199_042_00009;50;0;-3.36;-1;-1;-1;-1;-1;-1;-1;-1;-1;-1;-1;-1;36.4;0;-3.41;-1;-1;-1;-1;-1;-1;7.82;0;-0.14;7.82;0;-0.14;5.32;0;-0.089;3.78;0;-0.14;-1;-1;-1;-1;-1;-1;0.406;0;-0.92;-1;-1;-1;-1;-1;-1;0;0;-1.27
