Workbook

Sheet loc_id
A1: location_id
A2: 002_042_00001
A3: 002_042_00003
A4: 002_042_00004
A5: 002_042_00005
A6: 002_042_00006
A7: 002_042_00007
A8: 002_042_00011
A9: 002_042_00012
A10: 002_042_00018
A11: 002_042_00023
A12: 002_042_00024
... A319: 242_042_00044

Sheet surf_in
A1: id | B1: Profielnaam;X_GridPoint;Y_GridPoint;ScenarioClusterID;X1;Y1;Z1;.....;Xn;Yn;Zn;(Profiel);;;;;;;;;;;;;;;;;;;;;;;;;;;;;;;;;;;;;;;;;;;;;;;;;;;;;;;;;;;;;;;;;;;;;;;;;;;;;;;;;;;;;;;;;;;;;;;;;;;;;;;;;;;;;;;;;;;;;;;;;;;;;;;;;;;;;;;;;;;;;;;;;;;;;;;;;;;;;;;;;;;;;;;;;;;;;;;;;;;;;;;;;;;;;;;;;;;;;;;;;;;;;;;;;;;;;;;;;;;;;;;;;;;;;;;;;;;;;;;;;;;;;;;;;;;;;;;;;;;;;;;;;;;;;;;;;;;;;;;;;;;;;;;;;;;;;;;;;;;;;;;;;;;;;;;;;;;;;;;;;;;;;;;;;;;;;;;;;;;;;;;;;;;;;;;;;;;;;;;;;;;;;;;;;;;;;;;;;;;;;;;;;;;;;;;;;;;;;;;;;;;;;;;;;;;;;;;;;;;;;;;;;;;;;;;;;;;;;;;;;;;;;;;;;;;;;;;;;;;;;;;;;;;;;;;;;;;;;;;;;;;;;;;;;;;;;;;;;;;;;;;;;;;;;;;;;;
A2: =LEFT(B2,13) -> 002_042_00042 | B2: 002_042_00042;10.5;0;1;0;0;-3.1;1.25;0;-3.1;2.424;0;-2.62;3.998;0;-1.976;4.709;0;-1.734;5.389;0;-1.463;5.838;0;-1.311;6.98;0;-0.944;7.214;0;-0.84;7.5;0;-0.6;8;0;-0.42;8.5;0;-0.17;9;0;-0.14;9.5;0;-0.04;10;0;-0.12;10.5;0;-0.21;10.875;0;-0.42;11;0;-0.49;11.5;0;-0.63;12;0;-0.79;12.5;0;-1.1;13;0;-1.2;13.5;0;-1.28;14;0;-1.39;14.5;0;-1.47;15;0;-1.5;15.5;0;-1.53;16;0;-1.58;16.5;0;-1.58;17;0;-1.54;17.5;0;-1.96;17.571;0;-2.03;18.5;0;-2.95;25;0;-2.95;;;;;;;;;;;;;;;;;;;;;;;;;;;;;;;;;;;;;;;;;;;;;;;;;;;;;;;;;;;;;;;;;;;;;;;;;;;;;;;;;;;;;;;;;;;;;;;;;;;;;;;;;;;;;;;;;;;;;;;;;;;;;;;;;;;;;;;;;;;;;;;;;;;;;;;;;;;;;;;;;;;;;;;;;;;;;;;;;;;;;;;;;;;;;;;;;;;;;;;;;;;;;;;;;;;;;;;;;;;;;;;;;;;;;;;;;;;;;;;;;;;;;;;;;;;;;;;;;;;;;;;;;;;;;;;;;;;;;;;;;;;;;;;;;;;;;;;;;;;;;;;;;;;;;;;;;;;;;;;;;;;;;;;;;;;;;;;;;;;;;;;;;;;;;;;;;;;;;;;;;;;;;;;;;;;;;;;;;;;;;;;;;;;;;;;;;;;;;;;;;;;;;;;;;;;;;;;;;;;;
A3: =LEFT(B3,13) -> 002_042_00041 | B3: 002_042_00041;10;0;19;0;0;-1.8;1.97;0;-1.8;2.44;0;-1.617;2.637;0;-1.58;3.44;0;-1.429;4.65;0;-1.129;4.74;0;-0.6;5;0;-0.34;5.5;0;-0.2;6;0;-0.16;6.5;0;-0.16;7;0;-0.4;7.5;0;-0.47;8;0;-0.52;8.5;0;-0.51;9;0;-0.51;9.5;0;-0.51;10;0;-0.56;10.5;0;-0.58;11;0;-0.67;11.5;0;-0.86;12;0;-0.97;12.5;0;-1.15;13;0;-1.25;13.5;0;-1.43;13.941;0;-1.58;14;0;-1.6;14.5;0;-1.686;15;0;-1.72;15.5;0;-1.72;16;0;-1.97;16.5;0;-1.96;17.456;0;-2.45;21.5;0;-2.45;;;;;;;;;;;;;;;;;;;;;;;;;;;;;;;;;;;;;;;;;;;;;;;;;;;;;;;;;;;;;;;;;;;;;;;;;;;;;;;;;;;;;;;;;;;;;;;;;;;;;;;;;;;;;;;;;;;;;;;;;;;;;;;;;;;;;;;;;;;;;;;;;;;;;;;;;;;;;;;;;;;;;;;;;;;;;;;;;;;;;;;;;;;;;;;;;;;;;;;;;;;;;;;;;;;;;;;;;;;;;;;;;;;;;;;;;;;;;;;;;;;;;;;;;;;;;;;;;;;;;;;;;;;;;;;;;;;;;;;;;;;;;;;;;;;;;;;;;;;;;;;;;;;;;;;;;;;;;;;;;;;;;;;;;;;;;;;;;;;;;;;;;;;;;;;;;;;;;;;;;;;;;;;;;;;;;;;;;;;;;;;;;;;;;;;;;;;;;;;;;;;;;;;;;;;;;;;;;;;;
A4: =LEFT(B4,13) -> 002_042_00040 | B4: 002_042_00040;13;0;2;0;0;-0.344;0.504;0;-0.378;1.003;0;-0.6;2.021;0;-1.063;2.632;0;-1.423;3.407;0;-1.595;4.207;0;-1.653;5.113;0;-1.699;6.01;0;-1.671;6.786;0;-1.573;7.725;0;-1.277;8.298;0;-0.913;9;0;-0.671;9.5;0;-0.572;10;0;-0.466;10.5;0;-0.272;11;0;-0.144;11.5;0;-0.112;12;0;-0.163;12.5;0;-0.181;13;0;-0.21;13.5;0;-0.407;14;0;-0.614;14.5;0;-1.042;15;0;-1.729;15.295;0;-2.31;15.493;0;-2.45;26;0;-2.45;;;;;;;;;;;;;;;;;;;;;;;;;;;;;;;;;;;;;;;;;;;;;;;;;;;;;;;;;;;;;;;;;;;;;;;;;;;;;;;;;;;;;;;;;;;;;;;;;;;;;;;;;;;;;;;;;;;;;;;;;;;;;;;;;;;;;;;;;;;;;;;;;;;;;;;;;;;;;;;;;;;;;;;;;;;;;;;;;;;;;;;;;;;;;;;;;;;;;;;;;;;;;;;;;;;;;;;;;;;;;;;;;;;;;;;;;;;;;;;;;;;;;;;;;;;;;;;;;;;;;;;;;;;;;;;;;;;;;;;;;;;;;;;;;;;;;;;;;;;;;;;;;;;;;;;;;;;;;;;;;;;;;;;;;;;;;;;;;;;;;;;;;;;;;;;;;;;;;;;;;;;;;;;;;;;;;;;;;;;;;;;;;;;;;;;;;;;;;;;;;;;;;;;;;;;;;;;;;;;;;;;;;;;;;;;;;;;;;;
A5: =LEFT(B5,13) -> 002_042_00039 | B5: 002_042_00039;20.5;0;21;0;0;-4.2;0.847;0;-4.127;1.628;0;-4.194;2.289;0;-4.185;2.961;0;-4.096;3.622;0;-3.997;4.306;0;-4.006;4.969;0;-3.974;5.663;0;-3.728;6.387;0;-3.667;7.077;0;-3.391;7.824;0;-3.095;8.515;0;-2.838;9.237;0;-2.442;9.336;0;-1.45;9.42;0;-0.6;9.47;0;-0.55;9.5;0;-0.52;10;0;-0.129;10.5;0;-0.129;11;0;0.097;11.5;0;0.202;12;0;0.291;12.5;0;0.291;13;0;0.217;13.5;0;0.25;14;0;0.251;14.5;0;0.261;15;0;0.272;15.5;0;0.278;16;0;0.307;16.5;0;0.311;17;0;0.325;17.5;0;0.269;18;0;0.265;18.5;0;0.256;19;0;0.287;19.5;0;0.279;20;0;0.221;20.5;0;0.168;21;0;-0.187;21.228;0;-0.55;21.793;0;-1.45;22.701;0;-2.45;28;0;-2.45;;;;;;;;;;;;;;;;;;;;;;;;;;;;;;;;;;;;;;;;;;;;;;;;;;;;;;;;;;;;;;;;;;;;;;;;;;;;;;;;;;;;;;;;;;;;;;;;;;;;;;;;;;;;;;;;;;;;;;;;;;;;;;;;;;;;;;;;;;;;;;;;;;;;;;;;;;;;;;;;;;;;;;;;;;;;;;;;;;;;;;;;;;;;;;;;;;;;;;;;;;;;;;;;;;;;;;;;;;;;;;;;;;;;;;;;;;;;;;;;;;;;;;;;;;;;;;;;;;;;;;;;;;;;;;;;;;;;;;;;;;;;;;;;;;;;;;;;;;;;;;;;;;;;;;;;;;;;;;;;;;;;;;;;;;;;;;;;;;;;;;;;;;;;;;;;;;;;;;;;;;;;;;;;;;;;;;;;;;;;;;;;;;;
A6: =LEFT(B6,13) -> 002_042_00036 | B6: 002_042_00036;11;0;22;0;0;-1.8;2.436;0;-1.8;2.669;0;-1.45;3.236;0;-0.6;3.286;0;-0.55;3.5;0;-0.336;4;0;-0.336;4.5;0;-0.186;5;0;-0.074;5.5;0;-0.03;6;0;-0.015;6.5;0;-0.01;7;0;0.034;7.5;0;0.028;8;0;0.028;8.5;0;0.04;9;0;0.047;9.5;0;0.015;10;0;-0.002;10.5;0;-0.023;11;0;-0.062;11.5;0;-0.156;12;0;-0.305;12.425;0;-0.55;12.5;0;-0.593;13;0;-0.814;13.489;0;-1.45;14.324;0;-2.2;15.324;0;-2.2;16.167;0;-1.45;16.5;0;-0.907;17;0;-0.79;17.5;0;-0.58;17.955;0;-0.55;18;0;-0.547;18.5;0;-0.502;19;0;-0.462;19.5;0;-0.404;20;0;-0.404;20.5;0;-0.394;21;0;-0.381;21.5;0;-0.346;22;0;-0.371;22.5;0;-0.359;25;0;-0.55;;;;;;;;;;;;;;;;;;;;;;;;;;;;;;;;;;;;;;;;;;;;;;;;;;;;;;;;;;;;;;;;;;;;;;;;;;;;;;;;;;;;;;;;;;;;;;;;;;;;;;;;;;;;;;;;;;;;;;;;;;;;;;;;;;;;;;;;;;;;;;;;;;;;;;;;;;;;;;;;;;;;;;;;;;;;;;;;;;;;;;;;;;;;;;;;;;;;;;;;;;;;;;;;;;;;;;;;;;;;;;;;;;;;;;;;;;;;;;;;;;;;;;;;;;;;;;;;;;;;;;;;;;;;;;;;;;;;;;;;;;;;;;;;;;;;;;;;;;;;;;;;;;;;;;;;;;;;;;;;;;;;;;;;;;;;;;;;;;;;;;;;;;;;;;;;;;;;;;;;;;;;;;;;;;;;;;;;;;;;;;;;;;;
A7: =LEFT(B7,13) -> 002_042_00027 | B7: 002_042_00027;20.5;0;23;0;0;-4.2;0.847;0;-4.127;1.628;0;-4.194;2.289;0;-4.185;2.961;0;-4.096;3.622;0;-3.997;4.306;0;-4.006;4.969;0;-3.974;5.663;0;-3.728;6.387;0;-3.667;7.077;0;-3.391;7.824;0;-3.095;8.515;0;-2.838;9.237;0;-2.442;9.336;0;-1.45;9.42;0;-0.6;9.47;0;-0.55;9.5;0;-0.52;10;0;-0.129;10.5;0;-0.129;11;0;0.097;11.5;0;0.202;12;0;0.291;12.5;0;0.291;13;0;0.217;13.5;0;0.25;14;0;0.251;14.5;0;0.261;15;0;0.272;15.5;0;0.278;16;0;0.307;16.5;0;0.311;17;0;0.325;17.5;0;0.269;18;0;0.265;18.5;0;0.256;19;0;0.287;19.5;0;0.279;20;0;0.221;20.5;0;0.168;21;0;-0.187;21.228;0;-0.55;21.793;0;-1.45;22.701;0;-2.45;28;0;-2.45;;;;;;;;;;;;;;;;;;;;;;;;;;;;;;;;;;;;;;;;;;;;;;;;;;;;;;;;;;;;;;;;;;;;;;;;;;;;;;;;;;;;;;;;;;;;;;;;;;;;;;;;;;;;;;;;;;;;;;;;;;;;;;;;;;;;;;;;;;;;;;;;;;;;;;;;;;;;;;;;;;;;;;;;;;;;;;;;;;;;;;;;;;;;;;;;;;;;;;;;;;;;;;;;;;;;;;;;;;;;;;;;;;;;;;;;;;;;;;;;;;;;;;;;;;;;;;;;;;;;;;;;;;;;;;;;;;;;;;;;;;;;;;;;;;;;;;;;;;;;;;;;;;;;;;;;;;;;;;;;;;;;;;;;;;;;;;;;;;;;;;;;;;;;;;;;;;;;;;;;;;;;;;;;;;;;;;;;;;;;;;;;;;;
A8: =LEFT(B8,13) -> 002_042_00026 | B8: 002_042_00026;8;0;26;0;0;-1.8;2.434;0;-1.8;3.234;0;-0.6;3.5;0;-0.334;4;0;-0.315;4.5;0;-0.168;5;0;-0.168;5.5;0;-0.142;6;0;-0.174;6.5;0;-0.208;7;0;-0.217;7.5;0;-0.217;8;0;-0.171;8.5;0;-0.283;9;0;-0.587;9.5;0;-0.86;10;0;-1.104;10.5;0;-1.293;11;0;-1.493;12.5;0;-2.45;14.5;0;-2.45;15.5;0;-2.037;16;0;-1.598;16.5;0;-1.443;17;0;-1.389;17.5;0;-1.32;18;0;-1.288;18.5;0;-1.291;19;0;-1.268;19.5;0;-1.288;20;0;-1.272;20.5;0;-1.29;21;0;-1.274;21.5;0;-1.274;22;0;-1.277;22.5;0;-1.267;23;0;-1.278;;;;;;;;;;;;;;;;;;;;;;;;;;;;;;;;;;;;;;;;;;;;;;;;;;;;;;;;;;;;;;;;;;;;;;;;;;;;;;;;;;;;;;;;;;;;;;;;;;;;;;;;;;;;;;;;;;;;;;;;;;;;;;;;;;;;;;;;;;;;;;;;;;;;;;;;;;;;;;;;;;;;;;;;;;;;;;;;;;;;;;;;;;;;;;;;;;;;;;;;;;;;;;;;;;;;;;;;;;;;;;;;;;;;;;;;;;;;;;;;;;;;;;;;;;;;;;;;;;;;;;;;;;;;;;;;;;;;;;;;;;;;;;;;;;;;;;;;;;;;;;;;;;;;;;;;;;;;;;;;;;;;;;;;;;;;;;;;;;;;;;;;;;;;;;;;;;;;;;;;;;;;;;;;;;;;;;;;;;;;;;;;;;;;;;;;;;;;;;;;;;;;;;;;;;;
A9: =LEFT(B9,13) -> 002_042_00025 | B9: 002_042_00025;20.5;0;3;0;0;-4.2;0.847;0;-4.127;1.628;0;-4.194;2.289;0;-4.185;2.961;0;-4.096;3.622;0;-3.997;4.306;0;-4.006;4.969;0;-3.974;5.663;0;-3.728;6.387;0;-3.667;7.077;0;-3.391;7.824;0;-3.095;8.515;0;-2.838;9.237;0;-2.442;9.336;0;-1.45;9.42;0;-0.6;9.47;0;-0.55;9.5;0;-0.52;10;0;-0.129;10.5;0;-0.129;11;0;0.097;11.5;0;0.202;12;0;0.291;12.5;0;0.291;13;0;0.217;13.5;0;0.25;14;0;0.251;14.5;0;0.261;15;0;0.272;15.5;0;0.278;16;0;0.307;16.5;0;0.311;17;0;0.325;17.5;0;0.269;18;0;0.265;18.5;0;0.256;19;0;0.287;19.5;0;0.279;20;0;0.221;20.5;0;0.168;21;0;-0.187;21.228;0;-0.55;21.793;0;-1.45;22.701;0;-2.45;28;0;-2.45;;;;;;;;;;;;;;;;;;;;;;;;;;;;;;;;;;;;;;;;;;;;;;;;;;;;;;;;;;;;;;;;;;;;;;;;;;;;;;;;;;;;;;;;;;;;;;;;;;;;;;;;;;;;;;;;;;;;;;;;;;;;;;;;;;;;;;;;;;;;;;;;;;;;;;;;;;;;;;;;;;;;;;;;;;;;;;;;;;;;;;;;;;;;;;;;;;;;;;;;;;;;;;;;;;;;;;;;;;;;;;;;;;;;;;;;;;;;;;;;;;;;;;;;;;;;;;;;;;;;;;;;;;;;;;;;;;;;;;;;;;;;;;;;;;;;;;;;;;;;;;;;;;;;;;;;;;;;;;;;;;;;;;;;;;;;;;;;;;;;;;;;;;;;;;;;;;;;;;;;;;;;;;;;;;;;;;;;;;;;;;;;;;;
A10: =LEFT(B10,13) -> 002_042_00024 | B10: 002_042_00024;5.5;0;40;0;0;-1.8;1.155;0;-1.8;1.955;0;-0.6;2;0;-0.555;2.5;0;-0.218;3;0;-0.168;3.5;0;-0.049;4;0;-0.073;4.5;0;-0.06;5;0;-0.099;5.5;0;-0.099;6;0;-0.259;6.5;0;-0.5;7;0;-0.627;7.5;0;-0.8;8;0;-0.8;8.5;0;-1.144;9;0;-1.29;9.5;0;-1.415;10;0;-1.449;11.6;0;-2.55;15;0;-2.55;;;;;;;;;;;;;;;;;;;;;;;;;;;;;;;;;;;;;;;;;;;;;;;;;;;;;;;;;;;;;;;;;;;;;;;;;;;;;;;;;;;;;;;;;;;;;;;;;;;;;;;;;;;;;;;;;;;;;;;;;;;;;;;;;;;;;;;;;;;;;;;;;;;;;;;;;;;;;;;;;;;;;;;;;;;;;;;;;;;;;;;;;;;;;;;;;;;;;;;;;;;;;;;;;;;;;;;;;;;;;;;;;;;;;;;;;;;;;;;;;;;;;;;;;;;;;;;;;;;;;;;;;;;;;;;;;;;;;;;;;;;;;;;;;;;;;;;;;;;;;;;;;;;;;;;;;;;;;;;;;;;;;;;;;;;;;;;;;;;;;;;;;;;;;;;;;;;;;;;;;;;;;;;;;;;;;;;;;;;;;;;;;;;;;;;;;;;;;;;;;;;;;;;;;;;;;;;;;;;;;;;;;;;;;;;;;;;;;;;;;;;;;;;;;;;;;;;;
A11: =LEFT(B11,13) -> 002_042_00023 | B11: 002_042_00023;23.5;0;42;0;0;-4.2;1;0;-4.2;2.341;0;-3.866;3.039;0;-3.483;3.694;0;-3.809;4.349;0;-3.626;5.063;0;-3.467;5.765;0;-3.159;6.428;0;-2.995;6.784;0;-2.87;7.155;0;-2.74;7.819;0;-2.496;8.497;0;-2.357;9.219;0;-2.203;9.942;0;-2.168;10.619;0;-2.05;11.338;0;-2.087;11.77;0;-1.615;11.924;0;-0.87;11.98;0;-0.6;12.5;0;-0.08;13;0;0.023;13.5;0;0.023;14;0;0.081;14.5;0;0.091;15;0;0.114;15.5;0;0.106;16;0;0.158;16.5;0;0.269;17;0;0.26;17.5;0;0.242;18;0;0.245;18.5;0;0.232;19;0;0.277;19.5;0;0.275;20;0;0.284;20.5;0;0.275;21;0;0.281;21.5;0;0.275;22;0;0.245;22.5;0;0.235;23;0;0.212;23.5;0;0.225;24;0;0.117;24.5;0;0.021;25;0;-0.215;25.5;0;-1.09;26;0;-1.916;26.211;0;-2.29;26.522;0;-2.35;30;0;-2.35;;;;;;;;;;;;;;;;;;;;;;;;;;;;;;;;;;;;;;;;;;;;;;;;;;;;;;;;;;;;;;;;;;;;;;;;;;;;;;;;;;;;;;;;;;;;;;;;;;;;;;;;;;;;;;;;;;;;;;;;;;;;;;;;;;;;;;;;;;;;;;;;;;;;;;;;;;;;;;;;;;;;;;;;;;;;;;;;;;;;;;;;;;;;;;;;;;;;;;;;;;;;;;;;;;;;;;;;;;;;;;;;;;;;;;;;;;;;;;;;;;;;;;;;;;;;;;;;;;;;;;;;;;;;;;;;;;;;;;;;;;;;;;;;;;;;;;;;;;;;;;;;;;;;;;;;;;;;;;;;;;;;;;;;;;;;;;;;;;;;;;;;;;;;;;;;;;;;;;;;;;;;;;;;;
A12: =LEFT(B12,13) -> 002_042_00018 | B12: 002_042_00018;25;0;7;0;0;-1.8;2.571;0;-1.8;3.191;0;-0.87;3.371;0;-0.6;3.5;0;-0.471;4;0;-0.274;4.5;0;-0.225;5;0;-0.161;5.5;0;-0.168;6;0;-0.13;6.5;0;-0.123;7;0;-0.108;7.5;0;-0.106;8;0;-0.044;8.5;0;-0.017;9;0;0;9.5;0;0.023;10;0;0.041;10.5;0;0.05;11;0;0.092;11.5;0;0.02;12;0;0.034;12.5;0;0.034;13;0;0.013;13.5;0;0.03;14;0;0.012;14.5;0;0.009;15;0;-0.05;15.5;0;-0.05;16;0;-0.077;16.5;0;-0.075;17;0;-0.115;17.5;0;-0.133;18;0;-0.167;18.5;0;-0.165;19;0;-0.165;19.5;0;-0.201;20;0;-0.224;20.5;0;-0.241;21;0;-0.253;21.5;0;-0.268;22;0;-0.268;22.5;0;-0.294;23;0;-0.292;23.5;0;-0.348;24;0;-0.4;24.5;0;-0.504;25;0;-0.532;25.5;0;-0.666;26;0;-0.874;26.5;0;-1.018;26.611;0;-1.09;27;0;-1.343;27.5;0;-1.638;28;0;-1.739;28.5;0;-1.739;29;0;-1.838;29.406;0;-2.29;30;0;-2.95;30.635;0;-2.95;31.311;0;-2.29;31.586;0;-1.996;32;0;-1.717;32.5;0;-1.461;33;0;-1.426;33.5;0;-1.124;33.613;0;-1.09;34;0;-0.973;34.5;0;-0.891;35;0;-0.821;35.5;0;-0.74;36;0;-0.698;36.5;0;-0.669;37;0;-0.7;37.5;0;-0.7;38;0;-0.676;38.5;0;-0.68;39;0;-0.698;;;;;;;;;;;;;;;;;;;;;;;;;;;;;;;;;;;;;;;;;;;;;;;;;;;;;;;;;;;;;;;;;;;;;;;;;;;;;;;;;;;;;;;;;;;;;;;;;;;;;;;;;;;;;;;;;;;;;;;;;;;;;;;;;;;;;;;;;;;;;;;;;;;;;;;;;;;;;;;;;;;;;;;;;;;;;;;;;;;;;;;;;;;;;;;;;;;;;;;;;;;;;;;;;;;;;;;;;;;;;;;;;;;;;;;;;;;;;;;;;;;;;;;;;;;;;;;;;;;;;;;;;;;;;;;;;;;;;;;;;;;;;;;;
A13: =LEFT(B13,13) -> 002_042_00012 | B13: 002_042_00012;23.5;0;43;0;0;-4.2;1;0;-4.2;2.341;0;-3.866;3.039;0;-3.483;3.694;0;-3.809;4.349;0;-3.626;5.063;0;-3.467;5.765;0;-3.159;6.428;0;-2.995;6.784;0;-2.87;7.155;0;-2.74;7.819;0;-2.496;8.497;0;-2.357;9.219;0;-2.203;9.942;0;-2.168;10.619;0;-2.05;11.338;0;-2.087;11.77;0;-1.615;11.924;0;-0.87;11.98;0;-0.6;12.5;0;-0.08;13;0;0.023;13.5;0;0.023;14;0;0.081;14.5;0;0.091;15;0;0.114;15.5;0;0.106;16;0;0.158;16.5;0;0.269;17;0;0.26;17.5;0;0.242;18;0;0.245;18.5;0;0.232;19;0;0.277;19.5;0;0.275;20;0;0.284;20.5;0;0.275;21;0;0.281;21.5;0;0.275;22;0;0.245;22.5;0;0.235;23;0;0.212;23.5;0;0.225;24;0;0.117;24.5;0;0.021;25;0;-0.215;25.5;0;-1.09;26;0;-1.916;26.211;0;-2.29;26.522;0;-2.35;30;0;-2.35;;;;;;;;;;;;;;;;;;;;;;;;;;;;;;;;;;;;;;;;;;;;;;;;;;;;;;;;;;;;;;;;;;;;;;;;;;;;;;;;;;;;;;;;;;;;;;;;;;;;;;;;;;;;;;;;;;;;;;;;;;;;;;;;;;;;;;;;;;;;;;;;;;;;;;;;;;;;;;;;;;;;;;;;;;;;;;;;;;;;;;;;;;;;;;;;;;;;;;;;;;;;;;;;;;;;;;;;;;;;;;;;;;;;;;;;;;;;;;;;;;;;;;;;;;;;;;;;;;;;;;;;;;;;;;;;;;;;;;;;;;;;;;;;;;;;;;;;;;;;;;;;;;;;;;;;;;;;;;;;;;;;;;;;;;;;;;;;;;;;;;;;;;;;;;;;;;;;;;;;;;;;;;;;;
... A341: =LEFT(B341,13) -> 242_042_00044 | B341: 242_042_00044;10;0;78;0;0;-1.2;4.6;0;-1.2;7;0;-0.42;7.5;0;-0.33;8;0;-0.28;8.5;0;-0.36;9;0;-0.36;9.5;0;-0.29;10;0;-0.28;10.5;0;-0.48;11;0;-0.53;11.5;0;-0.93;12;0;-1.03;12.872;0;-1.885;13.261;0;-2.267;13.6;0;-2.6;20;0;-2.6;;;;;;;;;;;;;;;;;;;;;;;;;;;;;;;;;;;;;;;;;;;;;;;;;;;;;;;;;;;;;;;;;;;;;;;;;;;;;;;;;;;;;;;;;;;;;;;;;;;;;;;;;;;;;;;;;;;;;;;;;;;;;;;;;;;;;;;;;;;;;;;;;;;;;;;;;;;;;;;;;;;;;;;;;;;;;;;;;;;;;;;;;;;;;;;;;;;;;;;;;;;;;;;;;;;;;;;;;;;;;;;;;;;;;;;;;;;;;;;;;;;;;;;;;;;;;;;;;;;;;;;;;;;;;;;;;;;;;;;;;;;;;;;;;;;;;;;;;;;;;;;;;;;;;;;;;;;;;;;;;;;;;;;;;;;;;;;;;;;;;;;;;;;;;;;;;;;;;;;;;;;;;;;;;;;;;;;;;;;;;;;;;;;;;;;;;;;;;;;;;;;;;;;;;;;;;;;;;;;;;;;;;;;;;;;;;;;;;;;;;;;;;;;;;;;;;;;;;;;;;;;;;;;;;;;
A342: =LEFT(B342,13)
A343: =LEFT(B343,13)
A344: =LEFT(B344,13)
A345: =LEFT(B345,13)
A346: =LEFT(B346,13)
A347: =LEFT(B347,13)
A348: =LEFT(B348,13)
A349: =LEFT(B349,13)
A350: =LEFT(B350,13)
A351: =LEFT(B351,13)
A352: =LEFT(B352,13)
A353: =LEFT(B353,13)
... A460: =LEFT(B460,13)

Sheet char_in
A1: ID | B1: Profielnaam;X_Maaiveld binnenwaarts;Y_Maaiveld binnenwaarts;Z_Maaiveld binnenwaarts;X_Insteek sloot polderzijde;Y_Insteek sloot polderzijde;Z_Insteek sloot polderzijde;X_Slootbodem polderzijde;Y_Slootbodem polderzijde;Z_Slootbodem polderzijde;X_Slootbodem dijkzijde;Y_Slootbodem dijkzijde;Z_Slootbodem dijkzijde;X_Insteek sloot dijkzijde;Y_Insteek_sloot dijkzijde;Z_Insteek sloot dijkzijde;X_Teen dijk binnenwaarts;Y_Teen dijk binnenwaarts;Z_Teen dijk binnenwaarts;X_Kruin binnenberm;Y_Kruin binnenberm;Z_Kruin binnenberm;X_Insteek binnenberm;Y_Insteek binnenberm;Z_Insteek binnenberm;X_Kruin binnentalud;Y_Kruin binnentalud;Z_Kruin binnentalud;X_Verkeersbelasting kant binnenwaarts;Y_Verkeersbelasting kant binnenwaarts;Z_Verkeersbelasting kant binnenwaarts;X_Verkeersbelasting kant buitenwaarts;Y_Verkeersbelasting kant buitenwaarts;Z_Verkeersbelasting kant buitenwaarts;X_Kruin buitentalud;Y_Kruin buitentalud;Z_Kruin buitentalud;X_Insteek buitenberm;Y_Insteek buitenberm;Z_Insteek buitenberm;X_Kruin buitenberm;Y_Kruin buitenberm;Z_Kruin buitenberm;X_Teen dijk buitenwaarts;Y_Teen dijk buitenwaarts;Z_Teen dijk buitenwaarts;X_Insteek geul;Y_Insteek geul;Z_Insteek geul;X_Teen geul;Y_Teen geul;Z_Teen geul;X_Maaiveld buitenwaarts;Y_Maaiveld buitenwaarts;Z_Maaiveld buitenwaarts
A2: =LEFT(B2,13) -> 002_042_00043 | B2: 002_042_00043;22,000;0,000;-2,550;18,600;0,000;-2,550;18,600;0,000;-2,550;18,600;0,000;-2,550;17,000;0,000;-1,449;16,500;0,000;-1,415;-1,000;-1,000;-1,000;-1,000;-1,000;-1,000;12,500;0,000;-0,099;12,500;0,000;-0,099;10,000;0,000;-0,168;9,500;0,000;-0,218;-1,000;-1,000;-1,000;-1,000;-1,000;-1,000;8,155;0,000;-1,800;-1,000;-1,000;-1,000;-1,000;-1,000;-1,000;0,000;0,000;-1,800
A3: =LEFT(B3,13) -> 002_042_00001 | B3: 002_042_00001;25;0;-2.95;18.5;0;-2.95;18.5;0;-2.95;18.5;0;-2.95;17;0;-1.54;14.5;0;-1.47;-1;-1;-1;-1;-1;-1;10.5;0;-0.21;10;0;-0.12;7.5;0;-0.6;8.5;0;-0.17;-1;-1;-1;-1;-1;-1;1.25;0;-3.1;-1;-1;-1;-1;-1;-1;0;0;-3.1
A4: =LEFT(B4,13) -> 002_042_00003 | B4: 002_042_00003;21.5;0;-2.45;17.456;0;-2.45;17.456;0;-2.45;17.456;0;-2.45;15.5;0;-1.72;14.5;0;-1.686;-1;-1;-1;-1;-1;-1;10;0;-0.56;9.5;0;-0.51;7;0;-0.4;5;0;-0.34;-1;-1;-1;-1;-1;-1;4.65;0;-1.129;-1;-1;-1;-1;-1;-1;0;0;-1.8
A5: =LEFT(B5,13) -> 002_042_00004 | B5: 002_042_00004;26;0;-2.45;15.493;0;-2.45;15.493;0;-2.45;15.493;0;-2.45;15;0;-1.729;15;0;-1.729;-1;-1;-1;-1;-1;-1;13;0;-0.21;12.5;0;-0.181;10;0;-0.466;11;0;-0.144;-1;-1;-1;-1;-1;-1;6.786;0;-1.573;-1;-1;-1;-1;-1;-1;0;0;-0.344
A6: =LEFT(B6,13) -> 002_042_00005 | B6: 002_042_00005;28;0;-2.45;22.701;0;-2.45;22.701;0;-2.45;22.701;0;-2.45;21.793;0;-1.45;21.793;0;-1.45;-1;-1;-1;-1;-1;-1;20.5;0;0.168;20;0;0.221;17.5;0;0.269;10;0;-0.129;-1;-1;-1;-1;-1;-1;6.387;0;-3.667;-1;-1;-1;-1;-1;-1;0;0;-4.2
A7: =LEFT(B7,13) -> 002_042_00006 | B7: 002_042_00006;25;0;-0.55;17.5;0;-0.58;15.324;0;-2.2;14.324;0;-2.2;13;0;-0.814;13;0;-0.814;-1;-1;-1;-1;-1;-1;11;0;-0.062;10.5;0;-0.023;8;0;0.028;5;0;-0.074;-1;-1;-1;-1;-1;-1;2.436;0;-1.8;-1;-1;-1;-1;-1;-1;0;0;-1.8
A8: =LEFT(B8,13) -> 002_042_00007 | B8: 002_042_00007;28;0;-2.45;22.701;0;-2.45;22.701;0;-2.45;22.701;0;-2.45;21.793;0;-1.45;21.793;0;-1.45;-1;-1;-1;-1;-1;-1;20.5;0;0.168;17.5;0;0.269;15;0;0.272;10;0;-0.129;-1;-1;-1;-1;-1;-1;6.387;0;-3.667;-1;-1;-1;-1;-1;-1;0;0;-4.2
A9: =LEFT(B9,13) -> 002_042_00011 | B9: 002_042_00011;23;0;-1.278;16;0;-1.598;14.5;0;-2.45;12.5;0;-2.45;11;0;-1.493;11;0;-1.493;-1;-1;-1;-1;-1;-1;8;0;-0.171;7.5;0;-0.217;5;0;-0.168;4.5;0;-0.168;-1;-1;-1;-1;-1;-1;2.434;0;-1.8;-1;-1;-1;-1;-1;-1;0;0;-1.8
A10: =LEFT(B10,13) -> 002_042_00012 | B10: 002_042_00012;28;0;-2.45;22.701;0;-2.45;22.701;0;-2.45;22.701;0;-2.45;21.793;0;-1.45;21.793;0;-1.45;-1;-1;-1;-1;-1;-1;20.5;0;0.168;19.5;0;0.279;17;0;0.325;12;0;0.291;-1;-1;-1;-1;-1;-1;4.969;0;-3.974;-1;-1;-1;-1;-1;-1;0;0;-4.2
A11: =LEFT(B11,13) -> 002_042_00018 | B11: 002_042_00018;15;0;-2.55;11.6;0;-2.55;11.6;0;-2.55;11.6;0;-2.55;10;0;-1.449;9.5;0;-1.415;-1;-1;-1;-1;-1;-1;5.5;0;-0.099;5;0;-0.099;2.5;0;-0.218;2.5;0;-0.218;-1;-1;-1;-1;-1;-1;1.155;0;-1.8;-1;-1;-1;-1;-1;-1;0;0;-1.8
A12: =LEFT(B12,13) -> 002_042_00023 | B12: 002_042_00023;30;0;-2.35;26.522;0;-2.35;26.522;0;-2.35;26.522;0;-2.35;25.5;0;-1.09;25.5;0;-1.09;-1;-1;-1;-1;-1;-1;23.5;0;0.225;22;0;0.245;19.5;0;0.275;13;0;0.023;-1;-1;-1;-1;-1;-1;11.338;0;-2.087;-1;-1;-1;-1;-1;-1;0;0;-4.2
A13: =LEFT(B13,13) -> 002_042_00024 | B13: 002_042_00024;39;0;-0.698;34;0;-0.973;30.635;0;-2.95;30;0;-2.95;29;0;-1.838;28;0;-1.739;-1;-1;-1;-1;-1;-1;25;0;-0.532;24;0;-0.4;21.5;0;-0.268;4.5;0;-0.225;-1;-1;-1;-1;-1;-1;2.571;0;-1.8;-1;-1;-1;-1;-1;-1;0;0;-1.8
... A405: =LEFT(B405,13) -> 431_042_00001 | B405: 431_042_00001;45;0;-4.747;41.5;0;-4.934;40.728;0;-5.65;30.953;0;-5.65;30;0;-4.461;29.5;0;-4.521;-1;-1;-1;-1;-1;-1;4.5;0;-0.106;4;0;0.001;1.5;0;-0.603;2.5;0;-0.113;-1;-1;-1;-1;-1;-1;0.5;0;-0.708;-1;-1;-1;-1;-1;-1;0;0;-0.708

Sheet surfacelines
A1: location_id | B1: bron_id | C1: bestand | D1: Profielnaam;X_Maaiveld binnenwaarts;Y_Maaiveld binnenwaarts;Z_Maaiveld binnenwaarts;X_Insteek sloot polderzijde;Y_Insteek sloot polderzijde;Z_Insteek sloot polderzijde;X_Slootbodem polderzijde;Y_Slootbodem polderzijde;Z_Slootbodem polderzijde;X_Slootbodem dijkzijde;Y_Slootbodem dijkzijde;Z_Slootbodem dijkzijde;X_Insteek sloot dijkzijde;Y_Insteek_sloot dijkzijde;Z_Insteek sloot dijkzijde;X_Teen dijk binnenwaarts;Y_Teen dijk binnenwaarts;Z_Teen dijk binnenwaarts;X_Kruin binnenberm;Y_Kruin binnenberm;Z_Kruin binnenberm;X_Insteek binnenberm;Y_Insteek binnenberm;Z_Insteek binnenberm;X_Kruin binnentalud;Y_Kruin binnentalud;Z_Kruin binnentalud;X_Verkeersbelasting kant binnenwaarts;Y_Verkeersbelasting kant binnenwaarts;Z_Verkeersbelasting kant binnenwaarts;X_Verkeersbelasting kant buitenwaarts;Y_Verkeersbelasting kant buitenwaarts;Z_Verkeersbelasting kant buitenwaarts;X_Kruin buitentalud;Y_Kruin buitentalud;Z_Kruin buitentalud;X_Insteek buitenberm;Y_Insteek buitenberm;Z_Insteek buitenberm;X_Kruin buitenberm;Y_Kruin buitenberm;Z_Kruin buitenberm;X_Teen dijk buitenwaarts;Y_Teen dijk buitenwaarts;Z_Teen dijk buitenwaarts;X_Insteek geul;Y_Insteek geul;Z_Insteek geul;X_Teen geul;Y_Teen geul;Z_Teen geul;X_Maaiveld buitenwaarts;Y_Maaiveld buitenwaarts;Z_Maaiveld buitenwaarts
A2: 002_042_00001 | B2: =A2 -> 002_042_00001 | C2: =VLOOKUP(A2,batch1!$B$2:$H$343,7,FALSE) -> \OR-3.10\DWP 00.34\OR-3.10-001A hoogwater m. belasting.sti | D2: =VLOOKUP(B2,surf_in!$A$2:$B$444,2,FALSE) -> 002_042_00001;20.5;0;25;0;0;-4.2;0.847;0;-4.127;1.628;0;-4.194;2.289;0;-4.185;2.961;0;-4.096;3.622;0;-3.997;4.306;0;-4.006;4.969;0;-3.974;5.663;0;-3.728;6.387;0;-3.667;7.077;0;-3.391;7.824;0;-3.095;8.515;0;-2.838;9.237;0;-2.442;9.336;0;-1.45;9.42;0;-0.6;9.47;0;-0.55;9.5;0;-0.52;10;0;-0.129;10.5;0;-0.129;11;0;0.097;11.5;0;0.202;12;0;0.291;12.5;0;0.291;13;0;0.217;13.5;0;0.25;14;0;0.251;14.5;0;0.261;15;0;0.272;15.5;0;0.278;16;0;0.307;16.5;0;0.311;17;0;0.325;17.5;0;0.269;18;0;0.265;18.5;0;0.256;19;0;0.287;19.5;0;0.279;20;0;0.221;20.5;0;0.168;21;0;-0.187;21.228;0;-0.55;21.793;0;-1.45;22.701;0;-2.45;28;0;-2.45;;;;;;;;;;;;;;;;;;;;;;;;;;;;;;;;;;;;;;;;;;;;;;;;;;;;;;;;;;;;;;;;;;;;;;;;;;;;;;;;;;;;;;;;;;;;;;;;;;;;;;;;;;;;;;;;;;;;;;;;;;;;;;;;;;;;;;;;;;;;;;;;;;;;;;;;;;;;;;;;;;;;;;;;;;;;;;;;;;;;;;;;;;;;;;;;;;;;;;;;;;;;;;;;;;;;;;;;;;;;;;;;;;;;;;;;;;;;;;;;;;;;;;;;;;;;;;;;;;;;;;;;;;;;;;;;;;;;;;;;;;;;;;;;;;;;;;;;;;;;;;;;;;;;;;;;;;;;;;;;;;;;;;;;;;;;;;;;;;;;;;;;;;;;;;;;;;;;;;;;;;;;;;;;;;;;;;;;;;;;;;;;;;;
A3: 002_042_00003 | B3: =A3 -> 002_042_00003 | C3: =VLOOKUP(A3,batch1!$B$2:$H$343,7,FALSE) -> \OR-3.10\DWP 01.14\OR-3.10-001B hoogwater m. belasting.sti | D3: =VLOOKUP(B3,surf_in!$A$2:$B$444,2,FALSE) -> 002_042_00003;7.5;0;24;0;0;-1.8;3.86;0;-1.8;4.484;0;-0.864;4.66;0;-0.6;5;0;-0.26;5.5;0;-0.126;6;0;-0.131;6.5;0;-0.175;6.984;0;-0.286;7.5;0;-0.372;8;0;-0.798;8.5;0;-1.205;9.379;0;-2.15;14;0;-2.15;;;;;;;;;;;;;;;;;;;;;;;;;;;;;;;;;;;;;;;;;;;;;;;;;;;;;;;;;;;;;;;;;;;;;;;;;;;;;;;;;;;;;;;;;;;;;;;;;;;;;;;;;;;;;;;;;;;;;;;;;;;;;;;;;;;;;;;;;;;;;;;;;;;;;;;;;;;;;;;;;;;;;;;;;;;;;;;;;;;;;;;;;;;;;;;;;;;;;;;;;;;;;;;;;;;;;;;;;;;;;;;;;;;;;;;;;;;;;;;;;;;;;;;;;;;;;;;;;;;;;;;;;;;;;;;;;;;;;;;;;;;;;;;;;;;;;;;;;;;;;;;;;;;;;;;;;;;;;;;;;;;;;;;;;;;;;;;;;;;;;;;;;;;;;;;;;;;;;;;;;;;;;;;;;;;;;;;;;;;;;;;;;;;;;;;;;;;;;;;;;;;;;;;;;;;;;;;;;;;;;;;;;;;;;;;;;;;;;;;;;;;;;;;;;;;;;;;;;;;;;;;;;;;;;;;;;;;;;;;;
A4: 002_042_00004 | B4: =A4 -> 002_042_00004 | C4: =VLOOKUP(A4,batch1!$B$2:$H$343,7,FALSE) -> \OR-3.10\DWP 01.73\OR-3.10-002 hoogwater m. belasting.sti | D4: =VLOOKUP(B4,surf_in!$A$2:$B$444,2,FALSE) -> 002_042_00004;10.5;0;20;0;0;-3.1;1.25;0;-3.1;2.424;0;-2.62;3.998;0;-1.976;4.709;0;-1.734;5.389;0;-1.463;5.838;0;-1.311;6.98;0;-0.944;7.214;0;-0.84;7.5;0;-0.6;8;0;-0.42;8.5;0;-0.17;9;0;-0.14;9.5;0;-0.04;10;0;-0.12;10.5;0;-0.21;10.875;0;-0.42;11;0;-0.49;11.5;0;-0.63;12;0;-0.79;12.5;0;-1.1;13;0;-1.2;13.5;0;-1.28;14;0;-1.39;14.5;0;-1.47;15;0;-1.5;15.5;0;-1.53;16;0;-1.58;16.5;0;-1.58;17;0;-1.54;17.5;0;-1.96;17.571;0;-2.03;18.5;0;-2.95;25;0;-2.95;;;;;;;;;;;;;;;;;;;;;;;;;;;;;;;;;;;;;;;;;;;;;;;;;;;;;;;;;;;;;;;;;;;;;;;;;;;;;;;;;;;;;;;;;;;;;;;;;;;;;;;;;;;;;;;;;;;;;;;;;;;;;;;;;;;;;;;;;;;;;;;;;;;;;;;;;;;;;;;;;;;;;;;;;;;;;;;;;;;;;;;;;;;;;;;;;;;;;;;;;;;;;;;;;;;;;;;;;;;;;;;;;;;;;;;;;;;;;;;;;;;;;;;;;;;;;;;;;;;;;;;;;;;;;;;;;;;;;;;;;;;;;;;;;;;;;;;;;;;;;;;;;;;;;;;;;;;;;;;;;;;;;;;;;;;;;;;;;;;;;;;;;;;;;;;;;;;;;;;;;;;;;;;;;;;;;;;;;;;;;;;;;;;;;;;;;;;;;;;;;;;;;;;;;;;;;;;;;;;;
A5: 002_042_00005 | B5: =A5 -> 002_042_00005 | C5: =VLOOKUP(A5,batch1!$B$2:$H$343,7,FALSE) -> \OR-3.10\DWP 02.30\OR-3.10-004A hoogwater m. belasting.sti | D5: =VLOOKUP(B5,surf_in!$A$2:$B$444,2,FALSE) -> 002_042_00005;6.5;0;6;0;0;-1.8;2.632;0;-1.8;2.832;0;-1.5;3.432;0;-0.6;3.5;0;-0.532;4;0;-0.347;4.5;0;-0.08;5;0;-0.073;5.5;0;-0.017;6;0;-0.055;6.5;0;-0.142;7;0;-0.26;7.5;0;-0.28;8;0;-0.493;8.5;0;-0.703;9;0;-1.089;9.5;0;-1.257;10;0;-1.474;10.068;0;-1.5;10.5;0;-1.666;11;0;-2.004;11.5;0;-2.022;12;0;-2.022;12.5;0;-2.006;12.758;0;-2.25;13.5;0;-2.95;16;0;-2.95;;;;;;;;;;;;;;;;;;;;;;;;;;;;;;;;;;;;;;;;;;;;;;;;;;;;;;;;;;;;;;;;;;;;;;;;;;;;;;;;;;;;;;;;;;;;;;;;;;;;;;;;;;;;;;;;;;;;;;;;;;;;;;;;;;;;;;;;;;;;;;;;;;;;;;;;;;;;;;;;;;;;;;;;;;;;;;;;;;;;;;;;;;;;;;;;;;;;;;;;;;;;;;;;;;;;;;;;;;;;;;;;;;;;;;;;;;;;;;;;;;;;;;;;;;;;;;;;;;;;;;;;;;;;;;;;;;;;;;;;;;;;;;;;;;;;;;;;;;;;;;;;;;;;;;;;;;;;;;;;;;;;;;;;;;;;;;;;;;;;;;;;;;;;;;;;;;;;;;;;;;;;;;;;;;;;;;;;;;;;;;;;;;;;;;;;;;;;;;;;;;;;;;;;;;;;;;;;;;;;;;;;;;;;;;;;;;;;;;;;;
A6: 002_042_00006 | B6: =A6 -> 002_042_00006 | C6: =VLOOKUP(A6,batch1!$B$2:$H$343,7,FALSE) -> \OR-3.10\DWP 02.23\OR-3.10-00B1 hoogwater m. belasting.sti | D6: =VLOOKUP(B6,surf_in!$A$2:$B$444,2,FALSE) -> 002_042_00006;17;0;48;0;0;-3.1;7.15;0;-3.1;7.5;0;-2.447;8.2;0;-2.32;8.9;0;-2.304;9.432;0;-2.2;9.57;0;-2.173;10.27;0;-2.085;10.97;0;-1.947;11.67;0;-1.447;12.37;0;-1.319;12.63;0;-1.121;13.19;0;-0.699;13.4;0;-0.6;13.5;0;-0.51;14;0;-0.36;14.5;0;0;15;0;0;15.5;0;0.08;16;0;0.08;16.5;0;-0.01;17;0;-0.08;17.5;0;-0.27;18;0;-0.5;18.5;0;-0.83;19;0;-0.91;19.5;0;-1.13;20;0;-1.22;20.5;0;-1.29;21;0;-1.29;21.5;0;-1.32;22;0;-1.4;22.5;0;-1.42;23;0;-1.43;23.5;0;-1.38;24.095;0;-1.685;25;0;-2.7;30;0;-2.7;;;;;;;;;;;;;;;;;;;;;;;;;;;;;;;;;;;;;;;;;;;;;;;;;;;;;;;;;;;;;;;;;;;;;;;;;;;;;;;;;;;;;;;;;;;;;;;;;;;;;;;;;;;;;;;;;;;;;;;;;;;;;;;;;;;;;;;;;;;;;;;;;;;;;;;;;;;;;;;;;;;;;;;;;;;;;;;;;;;;;;;;;;;;;;;;;;;;;;;;;;;;;;;;;;;;;;;;;;;;;;;;;;;;;;;;;;;;;;;;;;;;;;;;;;;;;;;;;;;;;;;;;;;;;;;;;;;;;;;;;;;;;;;;;;;;;;;;;;;;;;;;;;;;;;;;;;;;;;;;;;;;;;;;;;;;;;;;;;;;;;;;;;;;;;;;;;;;;;;;;;;;;;;;;;;;;;;;;;;;;;;;;;;;;;;;;;;;;;;;;;;;;;;;
A7: 002_042_00007 | B7: =A7 -> 002_042_00007 | C7: =VLOOKUP(A7,batch1!$B$2:$H$343,7,FALSE) -> \OR-3.10\DWP 02.30\OR-3.10-004A hoogwater m. belasting.sti | D7: =VLOOKUP(B7,surf_in!$A$2:$B$444,2,FALSE) -> 002_042_00007;23.5;0;45;0;0;-4.2;1;0;-4.2;2.341;0;-3.866;3.039;0;-3.483;3.694;0;-3.809;4.349;0;-3.626;5.063;0;-3.467;5.765;0;-3.159;6.428;0;-2.995;6.784;0;-2.87;7.155;0;-2.74;7.819;0;-2.496;8.497;0;-2.357;9.219;0;-2.203;9.942;0;-2.168;10.619;0;-2.05;11.338;0;-2.087;11.77;0;-1.615;11.924;0;-0.87;11.98;0;-0.6;12.5;0;-0.08;13;0;0.023;13.5;0;0.023;14;0;0.081;14.5;0;0.091;15;0;0.114;15.5;0;0.106;16;0;0.158;16.5;0;0.269;17;0;0.26;17.5;0;0.242;18;0;0.245;18.5;0;0.232;19;0;0.277;19.5;0;0.275;20;0;0.284;20.5;0;0.275;21;0;0.281;21.5;0;0.275;22;0;0.245;22.5;0;0.235;23;0;0.212;23.5;0;0.225;24;0;0.117;24.5;0;0.021;25;0;-0.215;25.5;0;-1.09;26;0;-1.916;26.211;0;-2.29;26.522;0;-2.35;30;0;-2.35;;;;;;;;;;;;;;;;;;;;;;;;;;;;;;;;;;;;;;;;;;;;;;;;;;;;;;;;;;;;;;;;;;;;;;;;;;;;;;;;;;;;;;;;;;;;;;;;;;;;;;;;;;;;;;;;;;;;;;;;;;;;;;;;;;;;;;;;;;;;;;;;;;;;;;;;;;;;;;;;;;;;;;;;;;;;;;;;;;;;;;;;;;;;;;;;;;;;;;;;;;;;;;;;;;;;;;;;;;;;;;;;;;;;;;;;;;;;;;;;;;;;;;;;;;;;;;;;;;;;;;;;;;;;;;;;;;;;;;;;;;;;;;;;;;;;;;;;;;;;;;;;;;;;;;;;;;;;;;;;;;;;;;;;;;;;;;;;;;;;;;;;;;;;;;;;;;;;;;;;;;;;;;;;;
A8: 002_042_00011 | B8: =A8 -> 002_042_00011 | C8: =VLOOKUP(A8,batch1!$B$2:$H$343,7,FALSE) -> \OR-3.10\DWP 03.07\OR-3.10-004B3 hoogwater m. belasting.sti | D8: =VLOOKUP(B8,surf_in!$A$2:$B$444,2,FALSE) -> 002_042_00011;9;0;44;0;0;-1.8;3.275;0;-1.8;3.404;0;-1.6;4;0;-0.675;4.075;0;-0.6;4.5;0;-0.666;5;0;-0.639;5.5;0;-0.652;6;0;-0.612;6.5;0;-0.527;7;0;-0.442;7.5;0;-0.363;8;0;-0.406;8.5;0;-0.478;9;0;-0.367;9.5;0;-0.584;10;0;-0.684;10.5;0;-0.739;11;0;-0.892;11.5;0;-1.073;12;0;-1.336;12.5;0;-1.336;12.971;0;-1.95;14;0;-2.95;18;0;-2.95;;;;;;;;;;;;;;;;;;;;;;;;;;;;;;;;;;;;;;;;;;;;;;;;;;;;;;;;;;;;;;;;;;;;;;;;;;;;;;;;;;;;;;;;;;;;;;;;;;;;;;;;;;;;;;;;;;;;;;;;;;;;;;;;;;;;;;;;;;;;;;;;;;;;;;;;;;;;;;;;;;;;;;;;;;;;;;;;;;;;;;;;;;;;;;;;;;;;;;;;;;;;;;;;;;;;;;;;;;;;;;;;;;;;;;;;;;;;;;;;;;;;;;;;;;;;;;;;;;;;;;;;;;;;;;;;;;;;;;;;;;;;;;;;;;;;;;;;;;;;;;;;;;;;;;;;;;;;;;;;;;;;;;;;;;;;;;;;;;;;;;;;;;;;;;;;;;;;;;;;;;;;;;;;;;;;;;;;;;;;;;;;;;;;;;;;;;;;;;;;;;;;;;;;;;;;;;;;;;;;;;;;;;;;;;;;;;;;;;;;;;;;;;;
A9: 002_042_00012 | B9: =A9 -> 002_042_00012 | C9: =VLOOKUP(A9,batch1!$B$2:$H$343,7,FALSE) -> \OR-3.10\DWP 02.30\OR-3.10-004A hoogwater m. belasting.sti | D9: =VLOOKUP(B9,surf_in!$A$2:$B$444,2,FALSE) -> 002_042_00012;23.5;0;43;0;0;-4.2;1;0;-4.2;2.341;0;-3.866;3.039;0;-3.483;3.694;0;-3.809;4.349;0;-3.626;5.063;0;-3.467;5.765;0;-3.159;6.428;0;-2.995;6.784;0;-2.87;7.155;0;-2.74;7.819;0;-2.496;8.497;0;-2.357;9.219;0;-2.203;9.942;0;-2.168;10.619;0;-2.05;11.338;0;-2.087;11.77;0;-1.615;11.924;0;-0.87;11.98;0;-0.6;12.5;0;-0.08;13;0;0.023;13.5;0;0.023;14;0;0.081;14.5;0;0.091;15;0;0.114;15.5;0;0.106;16;0;0.158;16.5;0;0.269;17;0;0.26;17.5;0;0.242;18;0;0.245;18.5;0;0.232;19;0;0.277;19.5;0;0.275;20;0;0.284;20.5;0;0.275;21;0;0.281;21.5;0;0.275;22;0;0.245;22.5;0;0.235;23;0;0.212;23.5;0;0.225;24;0;0.117;24.5;0;0.021;25;0;-0.215;25.5;0;-1.09;26;0;-1.916;26.211;0;-2.29;26.522;0;-2.35;30;0;-2.35;;;;;;;;;;;;;;;;;;;;;;;;;;;;;;;;;;;;;;;;;;;;;;;;;;;;;;;;;;;;;;;;;;;;;;;;;;;;;;;;;;;;;;;;;;;;;;;;;;;;;;;;;;;;;;;;;;;;;;;;;;;;;;;;;;;;;;;;;;;;;;;;;;;;;;;;;;;;;;;;;;;;;;;;;;;;;;;;;;;;;;;;;;;;;;;;;;;;;;;;;;;;;;;;;;;;;;;;;;;;;;;;;;;;;;;;;;;;;;;;;;;;;;;;;;;;;;;;;;;;;;;;;;;;;;;;;;;;;;;;;;;;;;;;;;;;;;;;;;;;;;;;;;;;;;;;;;;;;;;;;;;;;;;;;;;;;;;;;;;;;;;;;;;;;;;;;;;;;;;;;;;;;;;;;
A10: 002_042_00018 | B10: =A10 -> 002_042_00018 | C10: =VLOOKUP(A10,batch1!$B$2:$H$343,7,FALSE) -> \OR-3.10\DWP 03.60\OR-3.10-005B hoogwater m. belasting.sti | D10: =VLOOKUP(B10,surf_in!$A$2:$B$444,2,FALSE) -> 002_042_00018;25;0;7;0;0;-1.8;2.571;0;-1.8;3.191;0;-0.87;3.371;0;-0.6;3.5;0;-0.471;4;0;-0.274;4.5;0;-0.225;5;0;-0.161;5.5;0;-0.168;6;0;-0.13;6.5;0;-0.123;7;0;-0.108;7.5;0;-0.106;8;0;-0.044;8.5;0;-0.017;9;0;0;9.5;0;0.023;10;0;0.041;10.5;0;0.05;11;0;0.092;11.5;0;0.02;12;0;0.034;12.5;0;0.034;13;0;0.013;13.5;0;0.03;14;0;0.012;14.5;0;0.009;15;0;-0.05;15.5;0;-0.05;16;0;-0.077;16.5;0;-0.075;17;0;-0.115;17.5;0;-0.133;18;0;-0.167;18.5;0;-0.165;19;0;-0.165;19.5;0;-0.201;20;0;-0.224;20.5;0;-0.241;21;0;-0.253;21.5;0;-0.268;22;0;-0.268;22.5;0;-0.294;23;0;-0.292;23.5;0;-0.348;24;0;-0.4;24.5;0;-0.504;25;0;-0.532;25.5;0;-0.666;26;0;-0.874;26.5;0;-1.018;26.611;0;-1.09;27;0;-1.343;27.5;0;-1.638;28;0;-1.739;28.5;0;-1.739;29;0;-1.838;29.406;0;-2.29;30;0;-2.95;30.635;0;-2.95;31.311;0;-2.29;31.586;0;-1.996;32;0;-1.717;32.5;0;-1.461;33;0;-1.426;33.5;0;-1.124;33.613;0;-1.09;34;0;-0.973;34.5;0;-0.891;35;0;-0.821;35.5;0;-0.74;36;0;-0.698;36.5;0;-0.669;37;0;-0.7;37.5;0;-0.7;38;0;-0.676;38.5;0;-0.68;39;0;-0.698;;;;;;;;;;;;;;;;;;;;;;;;;;;;;;;;;;;;;;;;;;;;;;;;;;;;;;;;;;;;;;;;;;;;;;;;;;;;;;;;;;;;;;;;;;;;;;;;;;;;;;;;;;;;;;;;;;;;;;;;;;;;;;;;;;;;;;;;;;;;;;;;;;;;;;;;;;;;;;;;;;;;;;;;;;;;;;;;;;;;;;;;;;;;;;;;;;;;;;;;;;;;;;;;;;;;;;;;;;;;;;;;;;;;;;;;;;;;;;;;;;;;;;;;;;;;;;;;;;;;;;;;;;;;;;;;;;;;;;;;;;;;;;;;
A11: 002_042_00023 | B11: =A11 -> 002_042_00023 | C11: =VLOOKUP(A11,batch1!$B$2:$H$343,7,FALSE) -> \OR-3.10\DWP 05.29\OR-3.10-006A hoogwater m. belasting.sti | D11: =VLOOKUP(B11,surf_in!$A$2:$B$444,2,FALSE) -> 002_042_00023;23.5;0;42;0;0;-4.2;1;0;-4.2;2.341;0;-3.866;3.039;0;-3.483;3.694;0;-3.809;4.349;0;-3.626;5.063;0;-3.467;5.765;0;-3.159;6.428;0;-2.995;6.784;0;-2.87;7.155;0;-2.74;7.819;0;-2.496;8.497;0;-2.357;9.219;0;-2.203;9.942;0;-2.168;10.619;0;-2.05;11.338;0;-2.087;11.77;0;-1.615;11.924;0;-0.87;11.98;0;-0.6;12.5;0;-0.08;13;0;0.023;13.5;0;0.023;14;0;0.081;14.5;0;0.091;15;0;0.114;15.5;0;0.106;16;0;0.158;16.5;0;0.269;17;0;0.26;17.5;0;0.242;18;0;0.245;18.5;0;0.232;19;0;0.277;19.5;0;0.275;20;0;0.284;20.5;0;0.275;21;0;0.281;21.5;0;0.275;22;0;0.245;22.5;0;0.235;23;0;0.212;23.5;0;0.225;24;0;0.117;24.5;0;0.021;25;0;-0.215;25.5;0;-1.09;26;0;-1.916;26.211;0;-2.29;26.522;0;-2.35;30;0;-2.35;;;;;;;;;;;;;;;;;;;;;;;;;;;;;;;;;;;;;;;;;;;;;;;;;;;;;;;;;;;;;;;;;;;;;;;;;;;;;;;;;;;;;;;;;;;;;;;;;;;;;;;;;;;;;;;;;;;;;;;;;;;;;;;;;;;;;;;;;;;;;;;;;;;;;;;;;;;;;;;;;;;;;;;;;;;;;;;;;;;;;;;;;;;;;;;;;;;;;;;;;;;;;;;;;;;;;;;;;;;;;;;;;;;;;;;;;;;;;;;;;;;;;;;;;;;;;;;;;;;;;;;;;;;;;;;;;;;;;;;;;;;;;;;;;;;;;;;;;;;;;;;;;;;;;;;;;;;;;;;;;;;;;;;;;;;;;;;;;;;;;;;;;;;;;;;;;;;;;;;;;;;;;;;;;
A12: 002_042_00024 | B12: =A12 -> 002_042_00024 | C12: =VLOOKUP(A12,batch1!$B$2:$H$343,7,FALSE) -> \OR-3.10\DWP 05.16\OR-3.10-006B2 hoogwater m. belasting.sti | D12: =VLOOKUP(B12,surf_in!$A$2:$B$444,2,FALSE) -> 002_042_00024;5.5;0;40;0;0;-1.8;1.155;0;-1.8;1.955;0;-0.6;2;0;-0.555;2.5;0;-0.218;3;0;-0.168;3.5;0;-0.049;4;0;-0.073;4.5;0;-0.06;5;0;-0.099;5.5;0;-0.099;6;0;-0.259;6.5;0;-0.5;7;0;-0.627;7.5;0;-0.8;8;0;-0.8;8.5;0;-1.144;9;0;-1.29;9.5;0;-1.415;10;0;-1.449;11.6;0;-2.55;15;0;-2.55;;;;;;;;;;;;;;;;;;;;;;;;;;;;;;;;;;;;;;;;;;;;;;;;;;;;;;;;;;;;;;;;;;;;;;;;;;;;;;;;;;;;;;;;;;;;;;;;;;;;;;;;;;;;;;;;;;;;;;;;;;;;;;;;;;;;;;;;;;;;;;;;;;;;;;;;;;;;;;;;;;;;;;;;;;;;;;;;;;;;;;;;;;;;;;;;;;;;;;;;;;;;;;;;;;;;;;;;;;;;;;;;;;;;;;;;;;;;;;;;;;;;;;;;;;;;;;;;;;;;;;;;;;;;;;;;;;;;;;;;;;;;;;;;;;;;;;;;;;;;;;;;;;;;;;;;;;;;;;;;;;;;;;;;;;;;;;;;;;;;;;;;;;;;;;;;;;;;;;;;;;;;;;;;;;;;;;;;;;;;;;;;;;;;;;;;;;;;;;;;;;;;;;;;;;;;;;;;;;;;;;;;;;;;;;;;;;;;;;;;;;;;;;;;;;;;;;;;
A13: 002_042_00025 | B13: =A13 -> 002_042_00025 | C13: =VLOOKUP(A13,batch1!$B$2:$H$343,7,FALSE) -> \OR-3.10\DWP 05.29\OR-3.10-006A hoogwater m. belasting.sti | D13: =VLOOKUP(B13,surf_in!$A$2:$B$444,2,FALSE) -> 002_042_00025;20.5;0;3;0;0;-4.2;0.847;0;-4.127;1.628;0;-4.194;2.289;0;-4.185;2.961;0;-4.096;3.622;0;-3.997;4.306;0;-4.006;4.969;0;-3.974;5.663;0;-3.728;6.387;0;-3.667;7.077;0;-3.391;7.824;0;-3.095;8.515;0;-2.838;9.237;0;-2.442;9.336;0;-1.45;9.42;0;-0.6;9.47;0;-0.55;9.5;0;-0.52;10;0;-0.129;10.5;0;-0.129;11;0;0.097;11.5;0;0.202;12;0;0.291;12.5;0;0.291;13;0;0.217;13.5;0;0.25;14;0;0.251;14.5;0;0.261;15;0;0.272;15.5;0;0.278;16;0;0.307;16.5;0;0.311;17;0;0.325;17.5;0;0.269;18;0;0.265;18.5;0;0.256;19;0;0.287;19.5;0;0.279;20;0;0.221;20.5;0;0.168;21;0;-0.187;21.228;0;-0.55;21.793;0;-1.45;22.701;0;-2.45;28;0;-2.45;;;;;;;;;;;;;;;;;;;;;;;;;;;;;;;;;;;;;;;;;;;;;;;;;;;;;;;;;;;;;;;;;;;;;;;;;;;;;;;;;;;;;;;;;;;;;;;;;;;;;;;;;;;;;;;;;;;;;;;;;;;;;;;;;;;;;;;;;;;;;;;;;;;;;;;;;;;;;;;;;;;;;;;;;;;;;;;;;;;;;;;;;;;;;;;;;;;;;;;;;;;;;;;;;;;;;;;;;;;;;;;;;;;;;;;;;;;;;;;;;;;;;;;;;;;;;;;;;;;;;;;;;;;;;;;;;;;;;;;;;;;;;;;;;;;;;;;;;;;;;;;;;;;;;;;;;;;;;;;;;;;;;;;;;;;;;;;;;;;;;;;;;;;;;;;;;;;;;;;;;;;;;;;;;;;;;;;;;;;;;;;;;;;
... A220: 074_042_00014 | B220: =A220 -> 074_042_00014 | C220: =VLOOKUP(A220,batch1!$B$2:$H$343,7,FALSE) -> \OR-3.30\STBI\Hoogwater\STBI_002H_HW_metbelasting.sti | D220: =VLOOKUP(B220,surf_in!$A$2:$B$444,2,FALSE) -> 074_042_00014;10.946;0;60;0;0;-1.87;2.943;0;-1.68;4.373;0;-1.423;5.887;0;-1.179;7.946;0;-0.36;8.446;0;-0.29;8.946;0;-0.37;9.446;0;-0.37;9.946;0;-0.23;10.446;0;-0.11;10.946;0;-0.05;11.446;0;-0.18;11.946;0;-0.39;12.446;0;-0.42;12.946;0;-0.84;13.446;0;-0.97;13.946;0;-0.96;14.446;0;-1;14.946;0;-1.03;15.946;0;-0.99;16.946;0;-1.04;17.946;0;-1.01;18.946;0;-1.02;19.946;0;-1.05;20.946;0;-1.11;22.132;0;-1.53;23.946;0;-2.27;31.946;0;-2.27;;;;;;;;;;;;;;;;;;;;;;;;;;;;;;;;;;;;;;;;;;;;;;;;;;;;;;;;;;;;;;;;;;;;;;;;;;;;;;;;;;;;;;;;;;;;;;;;;;;;;;;;;;;;;;;;;;;;;;;;;;;;;;;;;;;;;;;;;;;;;;;;;;;;;;;;;;;;;;;;;;;;;;;;;;;;;;;;;;;;;;;;;;;;;;;;;;;;;;;;;;;;;;;;;;;;;;;;;;;;;;;;;;;;;;;;;;;;;;;;;;;;;;;;;;;;;;;;;;;;;;;;;;;;;;;;;;;;;;;;;;;;;;;;;;;;;;;;;;;;;;;;;;;;;;;;;;;;;;;;;;;;;;;;;;;;;;;;;;;;;;;;;;;;;;;;;;;;;;;;;;;;;;;;;;;;;;;;;;;;;;;;;;;;;;;;;;;;;;;;;;;;;;;;;;;;;;;;;;;;;;;;;;;;;;;;;;;;;;
A221: 074_042_00015 | B221: 074_042_00016 | C221: =VLOOKUP(A221,batch1!$B$2:$H$343,7,FALSE) -> \OR-3.30\STBI\Hoogwater\STBI_002I_HW_metbelasting.sti | D221: =VLOOKUP(B221,surf_in!$A$2:$B$444,2,FALSE) -> 074_042_00016;10;0;96;0;0;-2.3;2.5;0;-2.3;3.971;0;-1.656;4.806;0;-1.329;6.023;0;-0.817;6.5;0;-0.616;7.046;0;-0.435;7.5;0;-0.29;8;0;-0.37;8.5;0;-0.37;9;0;-0.22;9.5;0;-0.32;10;0;-0.36;10.5;0;-0.49;11;0;-0.7;11.5;0;-0.9;12;0;-1.19;12.5;0;-1.2;13;0;-1.26;13.5;0;-1.32;14;0;-1.3;14.5;0;-1.33;15;0;-1.35;15.5;0;-1.38;17.446;0;-1.38;19.576;0;-1.38;22.072;0;-1.4;28;0;-1.4;;;;;;;;;;;;;;;;;;;;;;;;;;;;;;;;;;;;;;;;;;;;;;;;;;;;;;;;;;;;;;;;;;;;;;;;;;;;;;;;;;;;;;;;;;;;;;;;;;;;;;;;;;;;;;;;;;;;;;;;;;;;;;;;;;;;;;;;;;;;;;;;;;;;;;;;;;;;;;;;;;;;;;;;;;;;;;;;;;;;;;;;;;;;;;;;;;;;;;;;;;;;;;;;;;;;;;;;;;;;;;;;;;;;;;;;;;;;;;;;;;;;;;;;;;;;;;;;;;;;;;;;;;;;;;;;;;;;;;;;;;;;;;;;;;;;;;;;;;;;;;;;;;;;;;;;;;;;;;;;;;;;;;;;;;;;;;;;;;;;;;;;;;;;;;;;;;;;;;;;;;;;;;;;;;;;;;;;;;;;;;;;;;;;;;;;;;;;;;;;;;;;;;;;;;;;;;;;;;;;;;;;;;;;;;;;;;;;;;
A222: 074_042_00016 | B222: 074_042_00017 | C222: =VLOOKUP(A222,batch1!$B$2:$H$343,7,FALSE) -> \OR-3.30\STBI\Hoogwater\STBI_002J_HW_metbelasting.sti | D222: =VLOOKUP(B222,surf_in!$A$2:$B$444,2,FALSE) -> 074_042_00017;8;0;63;0;0;-1.2;4.31;0;-1.2;5;0;-0.807;5.374;0;-0.594;5.583;0;-0.475;6;0;-0.15;6.5;0;-0.09;7;0;-0.08;7.5;0;-0.09;8;0;-0.11;8.5;0;-0.26;9;0;-0.5;9.5;0;-0.56;10;0;-0.66;10.5;0;-0.67;11;0;-0.68;11.5;0;-0.66;12;0;-0.64;12.5;0;-0.62;13;0;-0.69;13.5;0;-0.93;14.421;0;-1.053;15.276;0;-1.338;16.541;0;-2.37;17.602;0;-2.37;19.13;0;-1.127;19.807;0;-0.917;21;0;-0.79;21.5;0;-0.9;22;0;-0.8;22.5;0;-0.8;23;0;-0.85;23.5;0;-0.98;24;0;-1.04;24.5;0;-1.07;25;0;-1.07;25.5;0;-1.09;26;0;-1.11;;;;;;;;;;;;;;;;;;;;;;;;;;;;;;;;;;;;;;;;;;;;;;;;;;;;;;;;;;;;;;;;;;;;;;;;;;;;;;;;;;;;;;;;;;;;;;;;;;;;;;;;;;;;;;;;;;;;;;;;;;;;;;;;;;;;;;;;;;;;;;;;;;;;;;;;;;;;;;;;;;;;;;;;;;;;;;;;;;;;;;;;;;;;;;;;;;;;;;;;;;;;;;;;;;;;;;;;;;;;;;;;;;;;;;;;;;;;;;;;;;;;;;;;;;;;;;;;;;;;;;;;;;;;;;;;;;;;;;;;;;;;;;;;;;;;;;;;;;;;;;;;;;;;;;;;;;;;;;;;;;;;;;;;;;;;;;;;;;;;;;;;;;;;;;;;;;;;;;;;;;;;;;;;;;;;;;;;;;;;;;;;;;;;;;;;;;;;;;;;;;;;;;;;
A223: 074_042_00017 | B223: =A223 -> 074_042_00017 | C223: =VLOOKUP(A223,batch1!$B$2:$H$343,7,FALSE) -> \OR-3.30\STBI\Hoogwater\STBI_002K_HW_metbelasting.sti | D223: =VLOOKUP(B223,surf_in!$A$2:$B$444,2,FALSE) -> 074_042_00017;8;0;63;0;0;-1.2;4.31;0;-1.2;5;0;-0.807;5.374;0;-0.594;5.583;0;-0.475;6;0;-0.15;6.5;0;-0.09;7;0;-0.08;7.5;0;-0.09;8;0;-0.11;8.5;0;-0.26;9;0;-0.5;9.5;0;-0.56;10;0;-0.66;10.5;0;-0.67;11;0;-0.68;11.5;0;-0.66;12;0;-0.64;12.5;0;-0.62;13;0;-0.69;13.5;0;-0.93;14.421;0;-1.053;15.276;0;-1.338;16.541;0;-2.37;17.602;0;-2.37;19.13;0;-1.127;19.807;0;-0.917;21;0;-0.79;21.5;0;-0.9;22;0;-0.8;22.5;0;-0.8;23;0;-0.85;23.5;0;-0.98;24;0;-1.04;24.5;0;-1.07;25;0;-1.07;25.5;0;-1.09;26;0;-1.11;;;;;;;;;;;;;;;;;;;;;;;;;;;;;;;;;;;;;;;;;;;;;;;;;;;;;;;;;;;;;;;;;;;;;;;;;;;;;;;;;;;;;;;;;;;;;;;;;;;;;;;;;;;;;;;;;;;;;;;;;;;;;;;;;;;;;;;;;;;;;;;;;;;;;;;;;;;;;;;;;;;;;;;;;;;;;;;;;;;;;;;;;;;;;;;;;;;;;;;;;;;;;;;;;;;;;;;;;;;;;;;;;;;;;;;;;;;;;;;;;;;;;;;;;;;;;;;;;;;;;;;;;;;;;;;;;;;;;;;;;;;;;;;;;;;;;;;;;;;;;;;;;;;;;;;;;;;;;;;;;;;;;;;;;;;;;;;;;;;;;;;;;;;;;;;;;;;;;;;;;;;;;;;;;;;;;;;;;;;;;;;;;;;;;;;;;;;;;;;;;;;;;;;;
A224: 074_042_00018 | B224: =A224 -> 074_042_00018 | C224: =VLOOKUP(A224,batch1!$B$2:$H$343,7,FALSE) -> \OR-3.30\STBI\Hoogwater\STBI_001_002L_003_HW_metbelasting.sti | D224: =VLOOKUP(B224,surf_in!$A$2:$B$444,2,FALSE) -> 074_042_00018;9.6;0;62;0;0;-1.2;4.05;0;-1.2;6.1;0;-0.491;6.15;0;-0.474;6.6;0;-0.52;7.1;0;-0.14;7.6;0;-0.04;8.1;0;-0.01;8.6;0;-0.01;9.1;0;-0.01;9.6;0;-0.05;10.1;0;-0.31;10.6;0;-0.51;11.1;0;-0.69;11.6;0;-0.88;12.1;0;-0.88;12.6;0;-1.07;13.1;0;-1.14;13.6;0;-1.19;14.1;0;-1.21;14.6;0;-1.3;15.1;0;-1.25;15.6;0;-1.28;16.1;0;-1.28;16.6;0;-1.28;17.1;0;-1.24;17.6;0;-1.26;18.1;0;-1.28;18.6;0;-1.26;19.1;0;-1.29;19.6;0;-1.3;20.1;0;-1.3;20.6;0;-1.3;21.1;0;-1.34;21.6;0;-1.37;22.1;0;-1.38;22.6;0;-1.38;23.1;0;-1.41;23.6;0;-1.39;24.1;0;-1.39;24.6;0;-1.4;25.1;0;-1.4;25.6;0;-1.44;26.1;0;-1.39;26.6;0;-1.36;27.1;0;-1.41;27.6;0;-1.41;28.1;0;-1.41;28.6;0;-1.38;29.1;0;-1.4;29.6;0;-1.41;30.1;0;-1.36;30.6;0;-1.36;31.1;0;-1.36;31.6;0;-1.37;32.1;0;-1.36;32.6;0;-1.35;33.1;0;-1.32;33.6;0;-1.35;34.1;0;-1.34;34.6;0;-1.32;35.1;0;-1.29;35.6;0;-1.25;36.1;0;-1.27;36.6;0;-1.26;37.1;0;-1.17;37.6;0;-1.2;38.1;0;-1.21;38.6;0;-1.2;39.1;0;-1.17;39.6;0;-1.21;40.1;0;-1.24;;;;;;;;;;;;;;;;;;;;;;;;;;;;;;;;;;;;;;;;;;;;;;;;;;;;;;;;;;;;;;;;;;;;;;;;;;;;;;;;;;;;;;;;;;;;;;;;;;;;;;;;;;;;;;;;;;;;;;;;;;;;;;;;;;;;;;;;;;;;;;;;;;;;;;;;;;;;;;;;;;;;;;;;;;;;;;;;;;;;;;;;;;;;;;;;;;;;;;;;;;;;;;;;;;;;;;;;;;;;;;;;;;;;;;;;;;;;;;;;;;;;;;;;;;;;;;;;;;;;;;;;;;;;;;;;;;;;;;;;;;;;;;;;;;;;;;;;;;;;;;;;;;
A225: 074_042_00019 | B225: =A225 -> 074_042_00019 | C225: =VLOOKUP(A225,batch1!$B$2:$H$343,7,FALSE) -> \OR-3.30\STBI\Hoogwater\STBI_001_002L_003_HW_metbelasting.sti | D225: =VLOOKUP(B225,surf_in!$A$2:$B$444,2,FALSE) -> 074_042_00019;9.6;0;52;0;0;-1.2;4.05;0;-1.2;6.15;0;-0.474;6.6;0;-0.52;7.1;0;-0.14;7.6;0;-0.04;8.1;0;-0.01;8.6;0;-0.01;9.1;0;-0.01;9.6;0;-0.05;10.1;0;-0.31;10.6;0;-0.51;11.1;0;-0.69;11.6;0;-0.88;12.1;0;-0.88;12.6;0;-1.07;13.1;0;-1.14;13.6;0;-1.19;14.1;0;-1.21;14.6;0;-1.3;15.1;0;-1.25;15.6;0;-1.28;16.1;0;-1.28;16.6;0;-1.28;17.1;0;-1.24;17.6;0;-1.26;18.1;0;-1.28;18.6;0;-1.26;19.1;0;-1.29;19.6;0;-1.3;20.1;0;-1.3;20.6;0;-1.3;21.1;0;-1.34;21.6;0;-1.37;22.1;0;-1.38;22.6;0;-1.38;23.1;0;-1.41;23.6;0;-1.39;24.1;0;-1.39;24.6;0;-1.4;25.1;0;-1.4;25.6;0;-1.44;26.1;0;-1.39;26.6;0;-1.36;27.1;0;-1.41;27.6;0;-1.41;28.1;0;-1.41;28.6;0;-1.38;29.1;0;-1.4;29.6;0;-1.41;30.1;0;-1.36;30.6;0;-1.36;31.1;0;-1.36;31.6;0;-1.37;32.1;0;-1.36;32.6;0;-1.35;33.1;0;-1.32;33.6;0;-1.35;34.1;0;-1.34;34.6;0;-1.32;35.1;0;-1.29;35.6;0;-1.25;36.1;0;-1.27;36.6;0;-1.26;37.1;0;-1.17;37.6;0;-1.2;38.1;0;-1.21;38.6;0;-1.2;39.1;0;-1.17;39.6;0;-1.21;40.1;0;-1.24;;;;;;;;;;;;;;;;;;;;;;;;;;;;;;;;;;;;;;;;;;;;;;;;;;;;;;;;;;;;;;;;;;;;;;;;;;;;;;;;;;;;;;;;;;;;;;;;;;;;;;;;;;;;;;;;;;;;;;;;;;;;;;;;;;;;;;;;;;;;;;;;;;;;;;;;;;;;;;;;;;;;;;;;;;;;;;;;;;;;;;;;;;;;;;;;;;;;;;;;;;;;;;;;;;;;;;;;;;;;;;;;;;;;;;;;;;;;;;;;;;;;;;;;;;;;;;;;;;;;;;;;;;;;;;;;;;;;;;;;;;;;;;;;;;;;;;;;;;;;;;;;;;;;;
A226: 081_042_00002 | B226: =A226 -> 081_042_00002 | C226: =VLOOKUP(A226,batch1!$B$2:$H$343,7,FALSE) -> \OR-3.33 en OR-3.29\OR333_001A&C_hw_metbel_exclkopsloot.sti | D226: =VLOOKUP(B226,surf_in!$A$2:$B$444,2,FALSE) -> 081_042_00002;17.864;0;65;0;0;-2.304;5.985;0;-2.304;11.634;0;-1.906;12.328;0;-1.848;12.701;0;-1.65;13.014;0;-1.484;14.022;0;-0.759;14.364;0;-0.555;14.389;0;-0.54;14.864;0;-0.256;15.364;0;-0.046;15.864;0;-0.12;16.364;0;-0.05;16.864;0;-0.121;17.364;0;-0.217;17.864;0;-0.217;18.364;0;-0.465;18.864;0;-0.707;19.364;0;-0.966;19.864;0;-1.091;20.364;0;-1.311;20.864;0;-1.393;21.364;0;-1.525;21.864;0;-1.525;22.364;0;-1.536;22.864;0;-1.618;23.364;0;-1.712;23.864;0;-1.785;24.329;0;-2;50.37;0;-2;;;;;;;;;;;;;;;;;;;;;;;;;;;;;;;;;;;;;;;;;;;;;;;;;;;;;;;;;;;;;;;;;;;;;;;;;;;;;;;;;;;;;;;;;;;;;;;;;;;;;;;;;;;;;;;;;;;;;;;;;;;;;;;;;;;;;;;;;;;;;;;;;;;;;;;;;;;;;;;;;;;;;;;;;;;;;;;;;;;;;;;;;;;;;;;;;;;;;;;;;;;;;;;;;;;;;;;;;;;;;;;;;;;;;;;;;;;;;;;;;;;;;;;;;;;;;;;;;;;;;;;;;;;;;;;;;;;;;;;;;;;;;;;;;;;;;;;;;;;;;;;;;;;;;;;;;;;;;;;;;;;;;;;;;;;;;;;;;;;;;;;;;;;;;;;;;;;;;;;;;;;;;;;;;;;;;;;;;;;;;;;;;;;;;;;;;;;;;;;;;;;;;;;;;;;;;;;;;;;;;;;;;;;;;;;;
A227: 081_042_00003 | B227: =A227 -> 081_042_00003 | C227: =VLOOKUP(A227,batch1!$B$2:$H$343,7,FALSE) -> \OR-3.33 en OR-3.29\OR333_001B_hw_metbel.sti | D227: =VLOOKUP(B227,surf_in!$A$2:$B$444,2,FALSE) -> 081_042_00003;29.689;0;66;0;0;-3.797;16.78;0;-3.797;19.9;0;-2.73;21.654;0;-2.13;24.061;0;-1.307;26.381;0;-0.597;26.389;0;-0.527;26.689;0;-0.427;27.189;0;-0.362;27.689;0;-0.252;28.189;0;-0.158;28.689;0;-0.188;29.189;0;-0.182;29.689;0;-0.227;30.189;0;-0.383;30.689;0;-0.601;31.189;0;-0.876;31.689;0;-1.06;32.189;0;-1.267;32.689;0;-1.377;33.189;0;-1.548;33.689;0;-1.613;34.189;0;-1.584;34.689;0;-1.582;35.189;0;-1.593;35.689;0;-1.6;36.189;0;-1.605;36.689;0;-1.617;37.189;0;-1.623;37.689;0;-1.645;38.189;0;-1.66;38.689;0;-1.608;39.189;0;-1.605;39.689;0;-1.679;40.189;0;-1.664;40.689;0;-1.711;41.189;0;-1.724;41.689;0;-1.712;42.189;0;-1.742;42.689;0;-1.753;43.189;0;-1.758;43.689;0;-1.794;44.189;0;-1.78;44.689;0;-1.767;45.189;0;-1.799;45.689;0;-1.82;46.189;0;-1.811;46.689;0;-1.807;47.189;0;-1.854;47.689;0;-1.848;48.189;0;-1.852;48.689;0;-1.849;49.189;0;-1.843;49.689;0;-1.846;50.189;0;-1.852;50.689;0;-1.882;51.189;0;-1.873;51.689;0;-1.864;52.189;0;-1.912;52.689;0;-1.88;53.189;0;-1.893;53.689;0;-1.895;54.189;0;-1.919;54.689;0;-1.95;55.189;0;-1.959;55.689;0;-1.993;56.071;0;-2.212;57.436;0;-2.993;58.076;0;-2.993;59.392;0;-2.228;59.679;0;-2.027;59.689;0;-2.02;60.189;0;-2.011;60.689;0;-1.974;61.189;0;-1.97;61.689;0;-1.976;62.189;0;-1.962;62.689;0;-1.978;63.189;0;-1.993;63.689;0;-1.985;64.189;0;-1.982;64.689;0;-1.973;65.189;0;-1.959;65.689;0;-1.945;66.189;0;-1.965;66.689;0;-1.986;67.189;0;-1.944;67.689;0;-1.927;68.189;0;-1.941;68.689;0;-1.982;69.189;0;-1.956;69.689;0;-1.963;70.189;0;-1.983;70.689;0;-1.968;71.189;0;-1.962;71.689;0;-1.946;72.189;0;-1.953;72.689;0;-1.94;73.189;0;-1.939;73.689;0;-1.94;74.189;0;-1.958;74.689;0;-1.952;75.189;0;-1.972;75.689;0;-1.969;76.189;0;-1.963;76.689;0;-1.978;77.189;0;-2.016;77.689;0;-1.979;;;;;;;;;;;;;;;;;;;;;;;;;;;;;;;;;;;;;;;;;;;;;;;;;;;;;;;;;;;;;;;;;;;;;;;;;;;;;;;;;;;;;;;;;;;;;;;;;;;;;;;;;;;;;;;;;;;;;;;;;;;;;;;;;;;;;;;;;;;;;;;;;;;;;;;;;;;;;;;;;;;;;;;;;;;;;;;;;;;;;;;;;;;;;;;;;;;;;;
A228: 081_042_00004 | B228: =A228 -> 081_042_00004 | C228: =VLOOKUP(A228,batch1!$B$2:$H$343,7,FALSE) -> \OR-3.33 en OR-3.29\OR333_001A&C_hw_metbel_exclkopsloot.sti | D228: =VLOOKUP(B228,surf_in!$A$2:$B$444,2,FALSE) -> 081_042_00004;17.864;0;64;0;0;-2.304;5.985;0;-2.304;11.634;0;-1.906;12.328;0;-1.848;12.701;0;-1.65;13.014;0;-1.484;14.022;0;-0.759;14.389;0;-0.54;14.864;0;-0.256;15.364;0;-0.046;15.864;0;-0.12;16.364;0;-0.05;16.864;0;-0.121;17.364;0;-0.217;17.864;0;-0.217;18.364;0;-0.465;18.864;0;-0.707;19.364;0;-0.966;19.864;0;-1.091;20.364;0;-1.311;20.864;0;-1.393;21.364;0;-1.525;21.864;0;-1.525;22.364;0;-1.536;22.864;0;-1.618;23.364;0;-1.712;23.864;0;-1.785;24.329;0;-2;50.37;0;-2;;;;;;;;;;;;;;;;;;;;;;;;;;;;;;;;;;;;;;;;;;;;;;;;;;;;;;;;;;;;;;;;;;;;;;;;;;;;;;;;;;;;;;;;;;;;;;;;;;;;;;;;;;;;;;;;;;;;;;;;;;;;;;;;;;;;;;;;;;;;;;;;;;;;;;;;;;;;;;;;;;;;;;;;;;;;;;;;;;;;;;;;;;;;;;;;;;;;;;;;;;;;;;;;;;;;;;;;;;;;;;;;;;;;;;;;;;;;;;;;;;;;;;;;;;;;;;;;;;;;;;;;;;;;;;;;;;;;;;;;;;;;;;;;;;;;;;;;;;;;;;;;;;;;;;;;;;;;;;;;;;;;;;;;;;;;;;;;;;;;;;;;;;;;;;;;;;;;;;;;;;;;;;;;;;;;;;;;;;;;;;;;;;;;;;;;;;;;;;;;;;;;;;;;;;;;;;;;;;;;;;;;;;;;;;;;;;;
A229: 104_042_00001 | B229: =A229 -> 104_042_00001 | C229: =VLOOKUP(A229,batch1!$B$2:$H$343,7,FALSE) -> \OR-1.01\RP-01\STBI\RP_01_STBI_hoogwater_met_belasting_param_.sti | D229: =VLOOKUP(B229,surf_in!$A$2:$B$444,2,FALSE) -> 104_042_00001;26.508;0;1;0;0;-4.3;8.9;0;-4.3;18.497;0;-1.37;20.008;0;-0.792;20.89;0;-0.672;22.008;0;-0.512;23.008;0;-0.342;23.508;0;-0.222;23.752;0;-0.17;24.508;0;-0.12;25.508;0;-0.162;26.508;0;-0.272;27.508;0;-0.562;28.303;0;-0.672;29.008;0;-0.802;30.008;0;-0.942;31.008;0;-1.042;33.008;0;-1.582;34.008;0;-1.802;34.431;0;-2.092;35;0;-2.6;35.492;0;-2.9;36.5;0;-2.9;37.008;0;-2.6;38.008;0;-2.212;39.008;0;-2.172;40.008;0;-2.092;40.942;0;-1.95;42.008;0;-2.082;43.971;0;-2.102;44.008;0;-2.102;46.008;0;-1.922;47.508;0;-2.002;100;0;-2.002;;;;;;;;;;;;;;;;;;;;;;;;;;;;;;;;;;;;;;;;;;;;;;;;;;;;;;;;;;;;;;;;;;;;;;;;;;;;;;;;;;;;;;;;;;;;;;;;;;;;;;;;;;;;;;;;;;;;;;;;;;;;;;;;;;;;;;;;;;;;;;;;;;;;;;;;;;;;;;;;;;;;;;;;;;;;;;;;;;;;;;;;;;;;;;;;;;;;;;;;;;;;;;;;;;;;;;;;;;;;;;;;;;;;;;;;;;;;;;;;;;;;;;;;;;;;;;;;;;;;;;;;;;;;;;;;;;;;;;;;;;;;;;;;;;;;;;;;;;;;;;;;;;;;;;;;;;;;;;;;;;;;;;;;;;;;;;;;;;;;;;;;;;;;;;;;;;;;;;;;;;;;;;;;;;;;;;;;;;;;;;;;;;;;;;;;;;;;;;;;;;;;;;;;;;;;;;;;;;;;
A230: 104_042_00002 | B230: =A230 -> 104_042_00002 | C230: =VLOOKUP(A230,batch1!$B$2:$H$343,7,FALSE) -> \OR-1.01\RP-02\STBI\RP_02_STBI_hoogwater_met_belasting_param_.sti | D230: =VLOOKUP(B230,surf_in!$A$2:$B$444,2,FALSE) -> 104_042_00002;25;0;2;0;0;-4.3;7.77;0;-4.3;16.385;0;-1.37;18.61;0;-0.67;19;0;-0.58;20;0;-0.51;20.5;0;-0.39;21;0;-0.2;21.5;0;-0.1;22;0;-0.06;22.5;0;-0.08;23.5;0;-0.09;24;0;-0.1;24.5;0;-0.17;25;0;-0.19;25.5;0;-0.27;26;0;-0.44;26.5;0;-0.6;27.5;0;-0.67;28.5;0;-0.79;29;0;-0.87;30;0;-0.96;31.5;0;-0.97;34.2;0;-2;34.256;0;-2.09;35;0;-2.5;35.8;0;-2.5;36.433;0;-2.09;36.5;0;-2;37;0;-1.7;38;0;-1.44;39;0;-1.46;40;0;-1.41;42;0;-1.44;44;0;-1.49;47;0;-1.66;100;0;-1.66;;;;;;;;;;;;;;;;;;;;;;;;;;;;;;;;;;;;;;;;;;;;;;;;;;;;;;;;;;;;;;;;;;;;;;;;;;;;;;;;;;;;;;;;;;;;;;;;;;;;;;;;;;;;;;;;;;;;;;;;;;;;;;;;;;;;;;;;;;;;;;;;;;;;;;;;;;;;;;;;;;;;;;;;;;;;;;;;;;;;;;;;;;;;;;;;;;;;;;;;;;;;;;;;;;;;;;;;;;;;;;;;;;;;;;;;;;;;;;;;;;;;;;;;;;;;;;;;;;;;;;;;;;;;;;;;;;;;;;;;;;;;;;;;;;;;;;;;;;;;;;;;;;;;;;;;;;;;;;;;;;;;;;;;;;;;;;;;;;;;;;;;;;;;;;;;;;;;;;;;;;;;;;;;;;;;;;;;;;;;;;;;;;;;;;;;;;;;;;;;;;;;;;;;;;;
A231: 104_042_00014 | B231: =A231 -> 104_042_00014 | C231: =VLOOKUP(A231,batch1!$B$2:$H$343,7,FALSE) -> \OR-1.01\RP-02\STBI\RP_02_STBI_hoogwater_met_belasting_param_.sti | D231: =VLOOKUP(B231,surf_in!$A$2:$B$444,2,FALSE) -> 104_042_00014;25;0;34;0;0;-4.3;7.77;0;-4.3;16.385;0;-1.37;18.61;0;-0.67;19;0;-0.58;20;0;-0.51;20.5;0;-0.39;21;0;-0.2;21.5;0;-0.1;22;0;-0.06;22.5;0;-0.08;23.5;0;-0.09;24;0;-0.1;24.5;0;-0.17;25;0;-0.19;25.5;0;-0.27;26;0;-0.44;26.5;0;-0.6;27.5;0;-0.67;28.5;0;-0.79;29;0;-0.87;30;0;-0.96;31.5;0;-0.97;34.2;0;-2;34.256;0;-2.09;35;0;-2.5;35.8;0;-2.5;36.433;0;-2.09;36.5;0;-2;37;0;-1.7;38;0;-1.44;39;0;-1.46;40;0;-1.41;42;0;-1.44;44;0;-1.49;47;0;-1.66;100;0;-1.66;;;;;;;;;;;;;;;;;;;;;;;;;;;;;;;;;;;;;;;;;;;;;;;;;;;;;;;;;;;;;;;;;;;;;;;;;;;;;;;;;;;;;;;;;;;;;;;;;;;;;;;;;;;;;;;;;;;;;;;;;;;;;;;;;;;;;;;;;;;;;;;;;;;;;;;;;;;;;;;;;;;;;;;;;;;;;;;;;;;;;;;;;;;;;;;;;;;;;;;;;;;;;;;;;;;;;;;;;;;;;;;;;;;;;;;;;;;;;;;;;;;;;;;;;;;;;;;;;;;;;;;;;;;;;;;;;;;;;;;;;;;;;;;;;;;;;;;;;;;;;;;;;;;;;;;;;;;;;;;;;;;;;;;;;;;;;;;;;;;;;;;;;;;;;;;;;;;;;;;;;;;;;;;;;;;;;;;;;;;;;;;;;;;;;;;;;;;;;;;;;;;;;;;;;;;
A232: 104_042_00015 | B232: =A232 -> 104_042_00015 | C232: =VLOOKUP(A232,batch1!$B$2:$H$343,7,FALSE) -> \OR-1.01\RP-03\STBI\RP_03_STBI_hoogwater_met_belasting_param_profiel_.sti | D232: =VLOOKUP(B232,surf_in!$A$2:$B$444,2,FALSE) -> 104_042_00015;11.5;0;3;0;0;-1.8;2.98;0;-1.8;6.592;0;-0.624;7;0;-0.43;7.5;0;-0.32;8;0;-0.2;8.5;0;-0.09;9;0;-0.06;10;0;-0.01;10.5;0;-0.06;11;0;-0.08;11.5;0;-0.15;12;0;-0.45;12.5;0;-0.67;13;0;-0.92;15;0;-0.98;18;0;-1.09;22;0;-1.2;36;0;-1.32;68.989;0;-1.27;;;;;;;;;;;;;;;;;;;;;;;;;;;;;;;;;;;;;;;;;;;;;;;;;;;;;;;;;;;;;;;;;;;;;;;;;;;;;;;;;;;;;;;;;;;;;;;;;;;;;;;;;;;;;;;;;;;;;;;;;;;;;;;;;;;;;;;;;;;;;;;;;;;;;;;;;;;;;;;;;;;;;;;;;;;;;;;;;;;;;;;;;;;;;;;;;;;;;;;;;;;;;;;;;;;;;;;;;;;;;;;;;;;;;;;;;;;;;;;;;;;;;;;;;;;;;;;;;;;;;;;;;;;;;;;;;;;;;;;;;;;;;;;;;;;;;;;;;;;;;;;;;;;;;;;;;;;;;;;;;;;;;;;;;;;;;;;;;;;;;;;;;;;;;;;;;;;;;;;;;;;;;;;;;;;;;;;;;;;;;;;;;;;;;;;;;;;;;;;;;;;;;;;;;;;;;;;;;;;;;;;;;;;;;;;;;;;;;;;;;;;;;;;;;;;;;;;;;;;;;;
A233: 104_042_00016 | B233: =A233 -> 104_042_00016 | C233: =VLOOKUP(A233,batch1!$B$2:$H$343,7,FALSE) -> \OR-1.01\RP-04\STBI\RP_04_STBI_hoogwater_met_belasting_param.sti | D233: =VLOOKUP(B233,surf_in!$A$2:$B$444,2,FALSE) -> 104_042_00016;8;0;56;0;0;-1.2;4;0;-1.2;5.097;0;-0.54;5.5;0;-0.23;5.755;0;-0.14;6;0;-0.08;6.5;0;-0.07;7;0;-0.1;8;0;-0.15;8.5;0;-0.26;9;0;-0.36;9.5;0;-0.54;10;0;-0.63;11;0;-0.72;11.5;0;-0.82;12;0;-1.09;13;0;-1.29;14;0;-1.47;15;0;-1.61;16;0;-1.68;18;0;-1.7;19;0;-1.75;20;0;-1.74;102.011;0;-1.69;;;;;;;;;;;;;;;;;;;;;;;;;;;;;;;;;;;;;;;;;;;;;;;;;;;;;;;;;;;;;;;;;;;;;;;;;;;;;;;;;;;;;;;;;;;;;;;;;;;;;;;;;;;;;;;;;;;;;;;;;;;;;;;;;;;;;;;;;;;;;;;;;;;;;;;;;;;;;;;;;;;;;;;;;;;;;;;;;;;;;;;;;;;;;;;;;;;;;;;;;;;;;;;;;;;;;;;;;;;;;;;;;;;;;;;;;;;;;;;;;;;;;;;;;;;;;;;;;;;;;;;;;;;;;;;;;;;;;;;;;;;;;;;;;;;;;;;;;;;;;;;;;;;;;;;;;;;;;;;;;;;;;;;;;;;;;;;;;;;;;;;;;;;;;;;;;;;;;;;;;;;;;;;;;;;;;;;;;;;;;;;;;;;;;;;;;;;;;;;;;;;;;;;;;;;;;;;;;;;;;;;;;;;;;;;;;;;;;;;;;;;;;;;;;;
A234: 104_042_00017 | B234: =A234 -> 104_042_00017 | C234: =VLOOKUP(A234,batch1!$B$2:$H$343,7,FALSE) -> \OR-1.01\RP-04\STBI\RP_04_STBI_hoogwater_met_belasting_param.sti | D234: =VLOOKUP(B234,surf_in!$A$2:$B$444,2,FALSE) -> 104_042_00017;8;0;58;0;0;-1.2;4;0;-1.2;5.097;0;-0.54;5.5;0;-0.23;5.755;0;-0.14;6;0;-0.08;6.5;0;-0.07;7;0;-0.1;8;0;-0.15;8.5;0;-0.26;9;0;-0.36;9.5;0;-0.54;10;0;-0.63;11;0;-0.72;11.5;0;-0.82;12;0;-1.09;13;0;-1.29;14;0;-1.47;15;0;-1.61;16;0;-1.68;18;0;-1.7;19;0;-1.75;20;0;-1.74;102.011;0;-1.69;;;;;;;;;;;;;;;;;;;;;;;;;;;;;;;;;;;;;;;;;;;;;;;;;;;;;;;;;;;;;;;;;;;;;;;;;;;;;;;;;;;;;;;;;;;;;;;;;;;;;;;;;;;;;;;;;;;;;;;;;;;;;;;;;;;;;;;;;;;;;;;;;;;;;;;;;;;;;;;;;;;;;;;;;;;;;;;;;;;;;;;;;;;;;;;;;;;;;;;;;;;;;;;;;;;;;;;;;;;;;;;;;;;;;;;;;;;;;;;;;;;;;;;;;;;;;;;;;;;;;;;;;;;;;;;;;;;;;;;;;;;;;;;;;;;;;;;;;;;;;;;;;;;;;;;;;;;;;;;;;;;;;;;;;;;;;;;;;;;;;;;;;;;;;;;;;;;;;;;;;;;;;;;;;;;;;;;;;;;;;;;;;;;;;;;;;;;;;;;;;;;;;;;;;;;;;;;;;;;;;;;;;;;;;;;;;;;;;;;;;;;;;;;;;;
... A319: 242_042_00044 | B319: =A319 -> 242_042_00044 | C319: =VLOOKUP(A319,batch1!$B$2:$H$343,7,FALSE) -> \WW-09\WW-09-32-04B\WW-09-32-04B_hoogwater_metbelasting.sti | D319: =VLOOKUP(B319,surf_in!$A$2:$B$444,2,FALSE) -> 242_042_00044;10;0;78;0;0;-1.2;4.6;0;-1.2;7;0;-0.42;7.5;0;-0.33;8;0;-0.28;8.5;0;-0.36;9;0;-0.36;9.5;0;-0.29;10;0;-0.28;10.5;0;-0.48;11;0;-0.53;11.5;0;-0.93;12;0;-1.03;12.872;0;-1.885;13.261;0;-2.267;13.6;0;-2.6;20;0;-2.6;;;;;;;;;;;;;;;;;;;;;;;;;;;;;;;;;;;;;;;;;;;;;;;;;;;;;;;;;;;;;;;;;;;;;;;;;;;;;;;;;;;;;;;;;;;;;;;;;;;;;;;;;;;;;;;;;;;;;;;;;;;;;;;;;;;;;;;;;;;;;;;;;;;;;;;;;;;;;;;;;;;;;;;;;;;;;;;;;;;;;;;;;;;;;;;;;;;;;;;;;;;;;;;;;;;;;;;;;;;;;;;;;;;;;;;;;;;;;;;;;;;;;;;;;;;;;;;;;;;;;;;;;;;;;;;;;;;;;;;;;;;;;;;;;;;;;;;;;;;;;;;;;;;;;;;;;;;;;;;;;;;;;;;;;;;;;;;;;;;;;;;;;;;;;;;;;;;;;;;;;;;;;;;;;;;;;;;;;;;;;;;;;;;;;;;;;;;;;;;;;;;;;;;;;;;;;;;;;;;;;;;;;;;;;;;;;;;;;;;;;;;;;;;;;;;;;;;;;;;;;;;;;;;;;;;

Sheet characteristicpoints
A1: location_id | B1: location_id | C1: Bestand | D1: Profielnaam;X_Maaiveld binnenwaarts;Y_Maaiveld binnenwaarts;Z_Maaiveld binnenwaarts;X_Insteek sloot polderzijde;Y_Insteek sloot polderzijde;Z_Insteek sloot polderzijde;X_Slootbodem polderzijde;Y_Slootbodem polderzijde;Z_Slootbodem polderzijde;X_Slootbodem dijkzijde;Y_Slootbodem dijkzijde;Z_Slootbodem dijkzijde;X_Insteek sloot dijkzijde;Y_Insteek_sloot dijkzijde;Z_Insteek sloot dijkzijde;X_Teen dijk binnenwaarts;Y_Teen dijk binnenwaarts;Z_Teen dijk binnenwaarts;X_Kruin binnenberm;Y_Kruin binnenberm;Z_Kruin binnenberm;X_Insteek binnenberm;Y_Insteek binnenberm;Z_Insteek binnenberm;X_Kruin binnentalud;Y_Kruin binnentalud;Z_Kruin binnentalud;X_Verkeersbelasting kant binnenwaarts;Y_Verkeersbelasting kant binnenwaarts;Z_Verkeersbelasting kant binnenwaarts;X_Verkeersbelasting kant buitenwaarts;Y_Verkeersbelasting kant buitenwaarts;Z_Verkeersbelasting kant buitenwaarts;X_Kruin buitentalud;Y_Kruin buitentalud;Z_Kruin buitentalud;X_Insteek buitenberm;Y_Insteek buitenberm;Z_Insteek buitenberm;X_Kruin buitenberm;Y_Kruin buitenberm;Z_Kruin buitenberm;X_Teen dijk buitenwaarts;Y_Teen dijk buitenwaarts;Z_Teen dijk buitenwaarts;X_Insteek geul;Y_Insteek geul;Z_Insteek geul;X_Teen geul;Y_Teen geul;Z_Teen geul;X_Maaiveld buitenwaarts;Y_Maaiveld buitenwaarts;Z_Maaiveld buitenwaarts
A2: 040_042_00051 | B2: 002_042_00001 | C2: =VLOOKUP(B2,batch1!$B$2:$H$405,7,FALSE) -> \OR-3.10\DWP 00.34\OR-3.10-001A hoogwater m. belasting.sti | D2: =VLOOKUP(B2,char_in!$A$2:$B$405,2,FALSE) -> 002_042_00001;25;0;-2.95;18.5;0;-2.95;18.5;0;-2.95;18.5;0;-2.95;17;0;-1.54;14.5;0;-1.47;-1;-1;-1;-1;-1;-1;10.5;0;-0.21;10;0;-0.12;7.5;0;-0.6;8.5;0;-0.17;-1;-1;-1;-1;-1;-1;1.25;0;-3.1;-1;-1;-1;-1;-1;-1;0;0;-3.1
A3: 189_042_00008 | B3: 002_042_00003 | C3: =VLOOKUP(B3,batch1!$B$2:$H$405,7,FALSE) -> \OR-3.10\DWP 01.14\OR-3.10-001B hoogwater m. belasting.sti | D3: =VLOOKUP(B3,char_in!$A$2:$B$405,2,FALSE) -> 002_042_00003;21.5;0;-2.45;17.456;0;-2.45;17.456;0;-2.45;17.456;0;-2.45;15.5;0;-1.72;14.5;0;-1.686;-1;-1;-1;-1;-1;-1;10;0;-0.56;9.5;0;-0.51;7;0;-0.4;5;0;-0.34;-1;-1;-1;-1;-1;-1;4.65;0;-1.129;-1;-1;-1;-1;-1;-1;0;0;-1.8
A4: 189_042_00009 | B4: 002_042_00004 | C4: =VLOOKUP(B4,batch1!$B$2:$H$405,7,FALSE) -> \OR-3.10\DWP 01.73\OR-3.10-002 hoogwater m. belasting.sti | D4: =VLOOKUP(B4,char_in!$A$2:$B$405,2,FALSE) -> 002_042_00004;26;0;-2.45;15.493;0;-2.45;15.493;0;-2.45;15.493;0;-2.45;15;0;-1.729;15;0;-1.729;-1;-1;-1;-1;-1;-1;13;0;-0.21;12.5;0;-0.181;10;0;-0.466;11;0;-0.144;-1;-1;-1;-1;-1;-1;6.786;0;-1.573;-1;-1;-1;-1;-1;-1;0;0;-0.344
A5: 189_042_00012 | B5: 002_042_00005 | C5: =VLOOKUP(B5,batch1!$B$2:$H$405,7,FALSE) -> \OR-3.10\DWP 02.30\OR-3.10-004A hoogwater m. belasting.sti | D5: =VLOOKUP(B5,char_in!$A$2:$B$405,2,FALSE) -> 002_042_00005;28;0;-2.45;22.701;0;-2.45;22.701;0;-2.45;22.701;0;-2.45;21.793;0;-1.45;21.793;0;-1.45;-1;-1;-1;-1;-1;-1;20.5;0;0.168;20;0;0.221;17.5;0;0.269;10;0;-0.129;-1;-1;-1;-1;-1;-1;6.387;0;-3.667;-1;-1;-1;-1;-1;-1;0;0;-4.2
A6: 189_042_00013 | B6: 002_042_00006 | C6: =VLOOKUP(B6,batch1!$B$2:$H$405,7,FALSE) -> \OR-3.10\DWP 02.23\OR-3.10-00B1 hoogwater m. belasting.sti | D6: =VLOOKUP(B6,char_in!$A$2:$B$405,2,FALSE) -> 002_042_00006;25;0;-0.55;17.5;0;-0.58;15.324;0;-2.2;14.324;0;-2.2;13;0;-0.814;13;0;-0.814;-1;-1;-1;-1;-1;-1;11;0;-0.062;10.5;0;-0.023;8;0;0.028;5;0;-0.074;-1;-1;-1;-1;-1;-1;2.436;0;-1.8;-1;-1;-1;-1;-1;-1;0;0;-1.8
A7: 189_042_00011 | B7: 002_042_00007 | C7: =VLOOKUP(B7,batch1!$B$2:$H$405,7,FALSE) -> \OR-3.10\DWP 02.30\OR-3.10-004A hoogwater m. belasting.sti | D7: =VLOOKUP(B7,char_in!$A$2:$B$405,2,FALSE) -> 002_042_00007;28;0;-2.45;22.701;0;-2.45;22.701;0;-2.45;22.701;0;-2.45;21.793;0;-1.45;21.793;0;-1.45;-1;-1;-1;-1;-1;-1;20.5;0;0.168;17.5;0;0.269;15;0;0.272;10;0;-0.129;-1;-1;-1;-1;-1;-1;6.387;0;-3.667;-1;-1;-1;-1;-1;-1;0;0;-4.2
A8: 189_042_00014 | B8: 002_042_00011 | C8: =VLOOKUP(B8,batch1!$B$2:$H$405,7,FALSE) -> \OR-3.10\DWP 03.07\OR-3.10-004B3 hoogwater m. belasting.sti | D8: =VLOOKUP(B8,char_in!$A$2:$B$405,2,FALSE) -> 002_042_00011;23;0;-1.278;16;0;-1.598;14.5;0;-2.45;12.5;0;-2.45;11;0;-1.493;11;0;-1.493;-1;-1;-1;-1;-1;-1;8;0;-0.171;7.5;0;-0.217;5;0;-0.168;4.5;0;-0.168;-1;-1;-1;-1;-1;-1;2.434;0;-1.8;-1;-1;-1;-1;-1;-1;0;0;-1.8
A9: 189_042_00015 | B9: 002_042_00012 | C9: =VLOOKUP(B9,batch1!$B$2:$H$405,7,FALSE) -> \OR-3.10\DWP 02.30\OR-3.10-004A hoogwater m. belasting.sti | D9: =VLOOKUP(B9,char_in!$A$2:$B$405,2,FALSE) -> 002_042_00012;28;0;-2.45;22.701;0;-2.45;22.701;0;-2.45;22.701;0;-2.45;21.793;0;-1.45;21.793;0;-1.45;-1;-1;-1;-1;-1;-1;20.5;0;0.168;19.5;0;0.279;17;0;0.325;12;0;0.291;-1;-1;-1;-1;-1;-1;4.969;0;-3.974;-1;-1;-1;-1;-1;-1;0;0;-4.2
A10: 189_042_00002 | B10: 002_042_00018 | C10: =VLOOKUP(B10,batch1!$B$2:$H$405,7,FALSE) -> \OR-3.10\DWP 03.60\OR-3.10-005B hoogwater m. belasting.sti | D10: =VLOOKUP(B10,char_in!$A$2:$B$405,2,FALSE) -> 002_042_00018;15;0;-2.55;11.6;0;-2.55;11.6;0;-2.55;11.6;0;-2.55;10;0;-1.449;9.5;0;-1.415;-1;-1;-1;-1;-1;-1;5.5;0;-0.099;5;0;-0.099;2.5;0;-0.218;2.5;0;-0.218;-1;-1;-1;-1;-1;-1;1.155;0;-1.8;-1;-1;-1;-1;-1;-1;0;0;-1.8
A11: 189_042_00004 | B11: 002_042_00023 | C11: =VLOOKUP(B11,batch1!$B$2:$H$405,7,FALSE) -> \OR-3.10\DWP 05.29\OR-3.10-006A hoogwater m. belasting.sti | D11: =VLOOKUP(B11,char_in!$A$2:$B$405,2,FALSE) -> 002_042_00023;30;0;-2.35;26.522;0;-2.35;26.522;0;-2.35;26.522;0;-2.35;25.5;0;-1.09;25.5;0;-1.09;-1;-1;-1;-1;-1;-1;23.5;0;0.225;22;0;0.245;19.5;0;0.275;13;0;0.023;-1;-1;-1;-1;-1;-1;11.338;0;-2.087;-1;-1;-1;-1;-1;-1;0;0;-4.2
A12: 189_042_00003 | B12: 002_042_00024 | C12: =VLOOKUP(B12,batch1!$B$2:$H$405,7,FALSE) -> \OR-3.10\DWP 05.16\OR-3.10-006B2 hoogwater m. belasting.sti | D12: =VLOOKUP(B12,char_in!$A$2:$B$405,2,FALSE) -> 002_042_00024;39;0;-0.698;34;0;-0.973;30.635;0;-2.95;30;0;-2.95;29;0;-1.838;28;0;-1.739;-1;-1;-1;-1;-1;-1;25;0;-0.532;24;0;-0.4;21.5;0;-0.268;4.5;0;-0.225;-1;-1;-1;-1;-1;-1;2.571;0;-1.8;-1;-1;-1;-1;-1;-1;0;0;-1.8
A13: 189_042_00005 | B13: 002_042_00025 | C13: =VLOOKUP(B13,batch1!$B$2:$H$405,7,FALSE) -> \OR-3.10\DWP 05.29\OR-3.10-006A hoogwater m. belasting.sti | D13: =VLOOKUP(B13,char_in!$A$2:$B$405,2,FALSE) -> 002_042_00025;30;0;-2.35;26.522;0;-2.35;26.522;0;-2.35;26.522;0;-2.35;25.5;0;-1.09;25.5;0;-1.09;-1;-1;-1;-1;-1;-1;23.5;0;0.225;23;0;0.212;20.5;0;0.275;12.5;0;-0.08;-1;-1;-1;-1;-1;-1;11.338;0;-2.087;-1;-1;-1;-1;-1;-1;0;0;-4.2
... A295: 189_042_00007 | B295: 199_042_00008 | C295: =VLOOKUP(B295,batch1!$B$2:$H$405,7,FALSE) -> \Verschoven_MStab\STBI-020E hw v.sti | D295: =VLOOKUP(B295,char_in!$A$2:$B$405,2,FALSE) -> 199_042_00008;66,000;0,000;-3,890;61,500;0,000;-3,800;58,220;0,000;-5,170;57,020;0,000;-5,170;55,000;0,000;-4,130;53,000;0,000;-3,800;-1,000;-1,000;-1,000;-1,000;-1,000;-1,000;17,000;0,000;0,010;16,000;0,000;0,130;13,500;0,000;0,070;11,500;0,000;0,060;-1,000;-1,000;-1,000;-1,000;-1,000;-1,000;9,000;0,000;-0,610;-1,000;-1,000;-1,000;-1,000;-1,000;-1,000;0,000;0,000;-0,610
B296: 199_042_00009 | C296: =VLOOKUP(B296,batch1!$B$2:$H$405,7,FALSE) -> \GH-31.160\STBI hw\STBI-020A hw v.sti | D296: =VLOOKUP(B296,char_in!$A$2:$B$405,2,FALSE) -> 199_042_00009;50;0;-3.36;-1;-1;-1;-1;-1;-1;-1;-1;-1;-1;-1;-1;36.4;0;-3.41;-1;-1;-1;-1;-1;-1;7.82;0;-0.14;7.82;0;-0.14;5.32;0;-0.089;3.78;0;-0.14;-1;-1;-1;-1;-1;-1;0.406;0;-0.92;-1;-1;-1;-1;-1;-1;0;0;-1.27
B297: 199_042_00010 | C297: =VLOOKUP(B297,batch1!$B$2:$H$405,7,FALSE) -> \GH-31.160\STBI hw\STBI-020B hw v.sti | D297: =VLOOKUP(B297,char_in!$A$2:$B$405,2,FALSE) -> 199_042_00010;50;0;-3.36;43.96;0;-3.42;42.97;0;-5.08;41.11;0;-5.09;36.4;0;-3.41;29.84;0;-3.21;-1;-1;-1;-1;-1;-1;7.82;0;-0.14;7.82;0;-0.14;5.32;0;-0.089;3.78;0;-0.14;-1;-1;-1;-1;-1;-1;0.406;0;-0.92;-1;-1;-1;-1;-1;-1;0;0;-1.27
B298: 199_042_00011 | C298: =VLOOKUP(B298,batch1!$B$2:$H$405,7,FALSE) -> \GH-31.160\STBI hw\STBI-020A hw v.sti | D298: =VLOOKUP(B298,char_in!$A$2:$B$405,2,FALSE) -> 199_042_00011;50;0;-3.36;-1;-1;-1;-1;-1;-1;-1;-1;-1;-1;-1;-1;36.4;0;-3.41;-1;-1;-1;-1;-1;-1;7.82;0;-0.14;7.82;0;-0.14;5.32;0;-0.089;3.78;0;-0.14;-1;-1;-1;-1;-1;-1;0.406;0;-0.92;-1;-1;-1;-1;-1;-1;0;0;-1.27
B299: 199_042_00012 | C299: =VLOOKUP(B299,batch1!$B$2:$H$405,7,FALSE) -> \GH-31.160\STBI hw\STBI-020B hw v.sti | D299: =VLOOKUP(B299,char_in!$A$2:$B$405,2,FALSE) -> 199_042_00012;50;0;-3.36;43.96;0;-3.42;42.97;0;-5.08;41.11;0;-5.09;36.4;0;-3.41;29.84;0;-3.21;-1;-1;-1;-1;-1;-1;7.82;0;-0.14;7.82;0;-0.14;5.32;0;-0.089;3.78;0;-0.14;-1;-1;-1;-1;-1;-1;0.406;0;-0.92;-1;-1;-1;-1;-1;-1;0;0;-1.27
B300: 199_042_00013 | C300: =VLOOKUP(B300,batch1!$B$2:$H$405,7,FALSE) -> \GH-31.160\STBI hw\STBI-020F hw v.sti | D300: =VLOOKUP(B300,char_in!$A$2:$B$405,2,FALSE) -> 199_042_00013;58.5;0;-3.92;52.5;0;-3.88;50.12;0;-5.17;49.68;0;-5.17;46.5;0;-3.69;46.5;0;-3.69;-1;-1;-1;-1;-1;-1;21;0;0;21;0;0;18.5;0;0.115;12;0;-0.11;-1;-1;-1;-1;-1;-1;9.5;0;-0.59;-1;-1;-1;-1;-1;-1;0;0;-0.66
B301: 199_042_00014 | C301: =VLOOKUP(B301,batch1!$B$2:$H$405,7,FALSE) -> \GH-31.160\STBI hw\STBI-020F hw v.sti | D301: =VLOOKUP(B301,char_in!$A$2:$B$405,2,FALSE) -> 199_042_00014;58.5;0;-3.92;52.5;0;-3.88;50.12;0;-5.17;49.68;0;-5.17;46.5;0;-3.69;46.5;0;-3.69;-1;-1;-1;-1;-1;-1;21;0;0;21;0;0;18.5;0;0.115;12;0;-0.11;-1;-1;-1;-1;-1;-1;9.5;0;-0.59;-1;-1;-1;-1;-1;-1;0;0;-0.66
B302: 242_042_00001 | C302: =VLOOKUP(B302,batch1!$B$2:$H$405,7,FALSE) -> \WW-09\WW-09-31-01B\WW-09-31-01B_hoogwater_metbelasting.sti | D302: =VLOOKUP(B302,char_in!$A$2:$B$405,2,FALSE) -> 242_042_00001;21.5;0;-0.89;-1;-1;-1;-1;-1;-1;-1;-1;-1;-1;-1;-1;10.5;0;-0.86;-1;-1;-1;-1;-1;-1;7.5;0;-0.09;7.5;0;-0.09;5;0;-0.63;6;0;-0.11;-1;-1;-1;-1;-1;-1;1.7;0;-1.7;-1;-1;-1;-1;-1;-1;0;0;-1.7
B303: 242_042_00010 | C303: =VLOOKUP(B303,batch1!$B$2:$H$405,7,FALSE) -> \WW-09\WW-09-32-02B\WW-09-32-02B_hoogwater_metbelasting.sti | D303: =VLOOKUP(B303,char_in!$A$2:$B$405,2,FALSE) -> 242_042_00010;30;0;-3.4;23.5;0;-3.4;23.5;0;-3.4;23.5;0;-3.4;20;0;-1.55;14;0;-1.35;-1;-1;-1;-1;-1;-1;10;0;-0.17;10;0;-0.17;7.5;0;-0.52;8.5;0;-0.03;-1;-1;-1;-1;-1;-1;5;0;-1.6;-1;-1;-1;-1;-1;-1;0;0;-1.6
B304: 242_042_00022 | C304: =VLOOKUP(B304,batch1!$B$2:$H$405,7,FALSE) -> \WW-09\WW-09-31-01B\WW-09-31-01B_hoogwater_metbelasting.sti | D304: =VLOOKUP(B304,char_in!$A$2:$B$405,2,FALSE) -> 242_042_00022;21.5;0;-0.89;-1;-1;-1;-1;-1;-1;-1;-1;-1;-1;-1;-1;10.5;0;-0.86;-1;-1;-1;-1;-1;-1;7.5;0;-0.09;7.5;0;-0.09;5;0;-0.63;6;0;-0.11;-1;-1;-1;-1;-1;-1;1.7;0;-1.7;-1;-1;-1;-1;-1;-1;0;0;-1.7
B305: 242_042_00023 | C305: =VLOOKUP(B305,batch1!$B$2:$H$405,7,FALSE) -> \WW-09\WW-09-31-01B\WW-09-31-01B_hoogwater_metbelasting.sti | D305: =VLOOKUP(B305,char_in!$A$2:$B$405,2,FALSE) -> 242_042_00023;21.5;0;-0.89;-1;-1;-1;-1;-1;-1;-1;-1;-1;-1;-1;-1;10.5;0;-0.86;-1;-1;-1;-1;-1;-1;7.5;0;-0.09;7.5;0;-0.09;5;0;-0.63;6;0;-0.11;-1;-1;-1;-1;-1;-1;1.7;0;-1.7;-1;-1;-1;-1;-1;-1;0;0;-1.7
B306: 242_042_00027 | C306: =VLOOKUP(B306,batch1!$B$2:$H$405,7,FALSE) -> \WW-09\WW-09-32-04D\WW-09-32-04D_hoogwater_metbelasting.sti | D306: =VLOOKUP(B306,char_in!$A$2:$B$405,2,FALSE) -> 242_042_00027;35;0;0.6;24.5;0;-1.44;22.7;0;-3;20.3;0;-3;18;0;-0.6;18;0;-0.6;-1;-1;-1;-1;-1;-1;13.5;0;-0.09;13.5;0;-0.09;11;0;0;9.5;0;-0.01;-1;-1;-1;-1;-1;-1;6.3;0;-1.2;-1;-1;-1;-1;-1;-1;0;0;-1.2
B307: 242_042_00029 | C307: =VLOOKUP(B307,batch1!$B$2:$H$405,7,FALSE) -> \WW-09\WW-09-32-04B\WW-09-32-04B_hoogwater_metbelasting.sti | D307: =VLOOKUP(B307,char_in!$A$2:$B$405,2,FALSE) -> 242_042_00029;20;0;-2.6;13.6;0;-2.6;13.6;0;-2.6;13.6;0;-2.6;12;0;-1.03;11.5;0;-0.93;-1;-1;-1;-1;-1;-1;10;0;-0.28;10;0;-0.28;7.5;0;-0.33;7.5;0;-0.33;-1;-1;-1;-1;-1;-1;4.6;0;-1.2;-1;-1;-1;-1;-1;-1;0;0;-1.2
... B319: 242_042_00044 | C319: =VLOOKUP(B319,batch1!$B$2:$H$405,7,FALSE) -> \WW-09\WW-09-32-04B\WW-09-32-04B_hoogwater_metbelasting.sti | D319: =VLOOKUP(B319,char_in!$A$2:$B$405,2,FALSE) -> 242_042_00044;20;0;-2.6;13.6;0;-2.6;13.6;0;-2.6;13.6;0;-2.6;12;0;-1.03;12;0;-1.03;-1;-1;-1;-1;-1;-1;10;0;-0.28;10;0;-0.28;7.5;0;-0.33;7.5;0;-0.33;-1;-1;-1;-1;-1;-1;4.6;0;-1.2;-1;-1;-1;-1;-1;-1;0;0;-1.2

Sheet batch1
A1: OBJECTID | B1: LEGGER_ID | C1: ID_SUBVAK | D1: LEVERING | E1: CodeVIG_Le | F1: Polder_ID | G1: Poldernaam | H1: STI_bestan | I1: TOETS | J1: OPMERKING | K1: SOORT | L1: Legger_Wer | M1: MstabSom_N | N1: Rekenversi | O1: Adm_Opmerk | P1: Eindtekeni | Q1: SubBatch | R1: Toetspeil | S1: Stijghoogt | T1: L_KRUINBRE | U1: L_KRUINHOO | V1: BinnenTalu | W1: Buitentalu | X1: Polderpeil | Y1: Boezembode | Z1: Mediaan_Ma | AA1: Droogleggi | AB1: Fictief_Ma | AC1: U_MAATGEVE | AD1: Verkeersbe | AE1: IPO | AF1: Schadefact | AG1: Verval | AH1: Verschuivi | AI1: X_Maaiveld | AJ1: Y_Maaiveld | AK1: Z_Maaiveld | AL1: X_Teen_dij | AM1: Y_Teen_dij | AN1: Z_Teen_dij | AO1: X_Kruin_bu | AP1: Y_Kruin_bu | AQ1: Z_Kruin_bu | AR1: X_Insteek_ | AS1: Y_Insteek_ | AT1: Z_Insteek_ | AU1: X_Kruin__1 | AV1: Y_Kruin__1 | AW1: Z_Kruin__1 | AX1: X_Verkeers | AY1: Y_Verkeers | AZ1: Z_Verkeers | BA1: X_Verkee_1 | BB1: Y_Verkee_1 | BC1: Z_Verkee_1 | BD1: X_Kruin_bi | BE1: Y_Kruin_bi | BF1: Z_Kruin_bi | BG1: X_Insteek1 | BH1: Y_Insteek1 | BI1: X_Kruin__2 | BJ1: Z_Insteek1 | BK1: X_Teen_d_1 | BL1: Z_Kruin__2 | BM1: Z_Teen_d_1 | BN1: X_Instee_1 | BO1: Y_Instee_1 | BP1: Z_Instee_1 | BQ1: X_Slootbod | BR1: Y_Slootbod | BS1: Z_Slootbod | BT1: X_Slootb_1 | BU1: Y_Slootb_1 | BV1: Z_Slootb_1 | BW1: X_Instee_2 | BX1: Y_Instee_2 | BY1: Z_Instee_2 | BZ1: X_Maaive_1 | CA1: Y_Maaive_1 | CB1: Z_Maaive_1 | CC1: X_Dijktafe | CD1: Y_Dijktafe | CE1: Z_Dijktafe | CF1: Methode | CG1: Iteratie | CH1: Stabilitei | CI1: Ontgraving | CJ1: UittredeCi | CK1: AlleProfSt | CL1: X_middenkr | CM1: KernZone_B | CN1: KernZone_1 | CO1: Bzone_BI | CP1: Bzone_BU | CQ1: BBzone_BI | CR1: BBzone_BU | CS1: BA_KernZon | CT1: BA_KernZ_1 | CU1: BA_Bzone_B | CV1: BA_Bzone_1 | CW1: BA_BBzone_ | CX1: BA_BBzone1 | CY1: BA_PVVR_BI | CZ1: Shape_Leng | DA1: PIPING
A2: 89 | B2: 104_042_00034 | C2: OR_1.01_012A | D2: 1 | E2: 104_042_00011 | F2: 104 | G2: Oosteinderpolder | H2: \OR-1.01\RP-09\STBI\RP_09_STBI_hoogwater_met_belasting_param.sti | I2: gedetailleerd | J2: inclusief 104-043-00012 | K2: BOEZEMKADE | L2: 104_042_00034 | M2: 104_042_00034.sti | N2: 1 | O2: <Null> | Q2: c | R2: -0.49 | S2: -2.5 | T2: 1.5 | U2: -0.1 | V2: 5.5 | W2: 3 | X2: -2.7 | Y2: -4.14 | Z2: -2.15 | AA2: 0.55 | AB2: -2.15 | AC2: -0.6 | AD2: 13 | AE2: III | AF2: 0.9 | AG2: 2.1 | AH2: 0 | AI2: 0 | AJ2: 0 | AK2: -4.14 | AL2: 9.63 | AM2: 0 | AN2: -4.14 | AO2: -1 | AP2: -1 | AQ2: -1 | AR2: -1 | AS2: -1 | AT2: -1 | AU2: 21.75 | AV2: 0 | AW2: -0.1 | AX2: 21.75 | AY2: 0 | AZ2: -0.1 | BA2: 24.25 | BB2: 0 | BC2: -0.28181818 | BD2: 23.25 | BE2: 0 | BF2: -0.1 | BG2: -1 | BH2: -1 | BI2: -1 | BJ2: -1 | BK2: 34.525 | BL2: -1 | BM2: -2.15 | BN2: -1 | BO2: -1 | BP2: -1 | BQ2: -1 | BR2: -1 | BS2: -1 | BT2: -1 | BU2: -1 | BV2: -1 | BW2: -1 | BX2: -1 | BY2: -1 | BZ2: 105.125 | CA2: 0 | CB2: -2.15 | CC2: 21.75 | CD2: 0 | CE2: -0.1 | CF2: StabilityInsideMStab (Bishop) | CG2: 11 | CH2: 0.897 | CI2: 36.075 | CJ2: 37.95 | CK2: 0 | CL2: 22.5 | CM2: 15.05 | CN2: 12.87 | CO2: 11 | CP2: 15 | CQ2: 50 | CR2: 50 | CS2: 15.05 | CT2: 12.87 | CU2: 26.05 | CV2: 27.87 | CW2: 76.05 | CX2: 77.87 | CY2: 20.05 | CZ2: 210.74573
A3: 91 | B3: 157_042_00021 | C3: OR_1.02_003A | D3: 1 | E3: 157_042_00004 | F3: 157 | G3: Vosse- en Weerlanerpolder | H3: \OR-1.02\OR-1.02-005B\OR-1.02-005B_HW_metbelasting.sti | I3: gedetailleerd | K3: BOEZEMKADE | L3: 157_042_00021 | M3: 157_042_00021.sti | N3: 1 | O3: drooglegging aangepast door Bouke d.d. 18 maart 2013 | Q3: c | R3: -0.49 | S3: -2.2 | T3: 1.5 | U3: -0.1 | V3: 3 | W3: 3 | X3: -1.75 | Y3: -1.64 | Z3: -0.21 | AA3: 1 | AB3: -0.75 | AC3: -0.6 | AD3: 5 | AE3: III | AF3: 0.9 | AG3: 1.15 | AH3: 2.31 | AI3: 0 | AJ3: 0 | AK3: -1.64 | AL3: 4.19 | AM3: 0 | AN3: -1.64 | AO3: -1 | AP3: -1 | AQ3: -1 | AR3: -1 | AS3: -1 | AT3: -1 | AU3: 8.81 | AV3: 0 | AW3: -0.1 | AX3: 8.81 | AY3: 0 | AZ3: -0.1 | BA3: 11.31 | BB3: 0 | BC3: -0.43333333 | BD3: 10.31 | BE3: 0 | BF3: -0.1 | BG3: -1 | BH3: -1 | BI3: -1 | BJ3: -1 | BK3: 12.26 | BL3: -1 | BM3: -0.75 | BN3: -1 | BO3: -1 | BP3: -1 | BQ3: -1 | BR3: -1 | BS3: -1 | BT3: -1 | BU3: -1 | BV3: -1 | BW3: -1 | BX3: -1 | BY3: -1 | BZ3: 27.81 | CA3: 0 | CB3: -0.75 | CC3: 8.81 | CD3: 0 | CE3: -0.1 | CF3: StabilityInsideMStab (UpliftVan) | CG3: 11 | CH3: 0.94095238 | CI3: 13.81 | CJ3: 20.159 | CK3: 0 | CL3: 9.56 | CM3: 5.7 | CN3: 5.37 | CO3: 11 | CP3: 15 | CQ3: 50 | CR3: 50 | CS3: 5.7 | CT3: 5.37 | CU3: 16.7 | CV3: 20.37 | CW3: 66.7 | CX3: 70.37 | CY3: 10.7 | CZ3: 111.12831
A4: 92 | B4: 157_042_00023 | C4: OR_1.02_004B | D4: 1 | E4: 157_042_00005 | F4: 157 | G4: Vosse- en Weerlanerpolder | H4: \OR-1.02\OR-1.02-005B\OR-1.02-005B_HW_metbelasting.sti | I4: gedetailleerd | K4: BOEZEMKADE | L4: 157_042_00023 | M4: 157_042_00023.sti | N4: 1 | O4: drooglegging aangepast door Bouke d.d. 18 maart 2013 | Q4: c | R4: -0.49 | S4: -2.2 | T4: 1.5 | U4: -0.1 | V4: 3 | W4: 3 | X4: -1.45 | Y4: -1.64 | Z4: -0.06 | AA4: 1 | AB4: -0.45 | AC4: -0.6 | AD4: 5 | AE4: III | AF4: 0.9 | AG4: 0.85 | AH4: 2.31 | AI4: 0 | AJ4: 0 | AK4: -1.64 | AL4: 4.19 | AM4: 0 | AN4: -1.64 | AO4: -1 | AP4: -1 | AQ4: -1 | AR4: -1 | AS4: -1 | AT4: -1 | AU4: 8.81 | AV4: 0 | AW4: -0.1 | AX4: 8.81 | AY4: 0 | AZ4: -0.1 | BA4: 11.31 | BB4: 0 | BC4: -0.43333333 | BD4: 10.31 | BE4: 0 | BF4: -0.1 | BG4: -1 | BH4: -1 | BI4: -1 | BJ4: -1 | BK4: 11.36 | BL4: -1 | BM4: -0.45 | BN4: -1 | BO4: -1 | BP4: -1 | BQ4: -1 | BR4: -1 | BS4: -1 | BT4: -1 | BU4: -1 | BV4: -1 | BW4: -1 | BX4: -1 | BY4: -1 | BZ4: 27.81 | CA4: 0 | CB4: -0.45 | CC4: 8.81 | CD4: 0 | CE4: -0.1 | CF4: StabilityInsideMStab (UpliftVan) | CG4: 11 | CH4: 0.98 | CI4: 12.91 | CJ4: 18.886 | CK4: 0 | CL4: 9.56 | CM4: 4.8 | CN4: 5.37 | CO4: 11 | CP4: 15 | CQ4: 50 | CR4: 50 | CS4: 4.8 | CT4: 5.37 | CU4: 15.8 | CV4: 20.37 | CW4: 65.8 | CX4: 70.37 | CY4: 9.8 | CZ4: 118.23478
A5: 93 | B5: 157_042_00032 | C5: OR_1.02_006C | D5: 1 | E5: 157_042_00010 | F5: 157 | G5: Vosse- en Weerlanerpolder | H5: \OR-1.02\OR-1.02-005H\OR-1.02-005H_HW_metbelasting.sti | I5: gedetailleerd | K5: BOEZEMKADE | L5: 157_042_00032 | M5: 157_042_00032.sti | N5: 1 | O5: drooglegging aangepast door Bouke d.d. 18 maart 2013 | Q5: c | R5: -0.49 | S5: -2.25 | T5: 1.5 | U5: -0.1 | V5: 3 | W5: 3 | X5: -1.45 | Y5: -1.14 | Z5: -0.06 | AA5: 1 | AB5: -0.45 | AC5: -0.6 | AD5: 5 | AE5: III | AF5: 0.9 | AG5: 0.85 | AH5: 3.08 | AI5: 0 | AJ5: 0 | AK5: -1.14 | AL5: 5.71 | AM5: 0 | AN5: -1.14 | AO5: -1 | AP5: -1 | AQ5: -1 | AR5: -1 | AS5: -1 | AT5: -1 | AU5: 8.83 | AV5: 0 | AW5: -0.1 | AX5: 8.83 | AY5: 0 | AZ5: -0.1 | BA5: 11.33 | BB5: 0 | BC5: -0.43333333 | BD5: 10.33 | BE5: 0 | BF5: -0.1 | BG5: -1 | BH5: -1 | BI5: -1 | BJ5: -1 | BK5: 11.38 | BL5: -1 | BM5: -0.45 | BN5: -1 | BO5: -1 | BP5: -1 | BQ5: -1 | BR5: -1 | BS5: -1 | BT5: -1 | BU5: -1 | BV5: -1 | BW5: -1 | BX5: -1 | BY5: -1 | BZ5: 26.08 | CA5: 0 | CB5: -0.45 | CC5: 8.83 | CD5: 0 | CE5: -0.1 | CF5: StabilityInsideMStab (Bishop) | CG5: 10 | CH5: 0.899 | CI5: 13.88 | CJ5: 19.81 | CK5: 0 | CL5: 9.58 | CM5: 4.8 | CN5: 3.87 | CO5: 11 | CP5: 15 | CQ5: 50 | CR5: 50 | CS5: 4.8 | CT5: 3.87 | CU5: 15.8 | CV5: 18.87 | CW5: 65.8 | CX5: 68.87 | CY5: 9.8 | CZ5: 234.8475
A6: 94 | B6: 157_042_00040 | C6: OR_1.02_010A | D6: 1 | E6: 157_042_00014 | F6: 157 | G6: Vosse- en Weerlanerpolder | H6: \OR-1.02\OR-1.02-010A\OR-1.02-010A_HW_metbelasting.sti | I6: gedetailleerd | K6: BOEZEMKADE | L6: 157_042_00040 | M6: 157_042_00040.sti | N6: 1 | Q6: c | R6: -0.49 | S6: -2.25 | T6: 1.5 | U6: -0.1 | V6: 3 | W6: 3 | X6: -3.45 | Y6: -1.64 | Z6: -2.82 | AA6: 0.63 | AB6: -2.82 | AC6: -0.6 | AD6: 13 | AE6: III | AF6: 0.9 | AG6: 2.85 | AH6: 0.66 | AI6: 0 | AJ6: 0 | AK6: -1.64 | AL6: 5.29 | AM6: 0 | AN6: -1.64 | AO6: -1 | AP6: -1 | AQ6: -1 | AR6: -1 | AS6: -1 | AT6: -1 | AU6: 9.91 | AV6: 0 | AW6: -0.1 | AX6: 9.91 | AY6: 0 | AZ6: -0.1 | BA6: 12.41 | BB6: 0 | BC6: -0.43333333 | BD6: 11.41 | BE6: 0 | BF6: -0.1 | BG6: -1 | BH6: -1 | BI6: -1 | BJ6: -1 | BK6: 19.57 | BL6: -1 | BM6: -2.82 | BN6: -1 | BO6: -1 | BP6: -1 | BQ6: -1 | BR6: -1 | BS6: -1 | BT6: -1 | BU6: -1 | BV6: -1 | BW6: -1 | BX6: -1 | BY6: -1 | BZ6: 48.66 | CA6: 0 | CB6: -2.82 | CC6: 9.91 | CD6: 0 | CE6: -0.1 | CF6: StabilityInsideMStab (UpliftVan) | CG6: 12 | CH6: 0.96285714 | CI6: 20.17 | CJ6: 25.304 | CK6: 0 | CL6: 10.66 | CM6: 10.8 | CN6: 5.37 | CO6: 11 | CP6: 15 | CQ6: 50 | CR6: 50 | CS6: 10.8 | CT6: 5.37 | CU6: 21.8 | CV6: 20.37 | CW6: 71.8 | CX6: 70.37 | CY6: 15.8 | CZ6: 512.07981
A7: 95 | B7: 144_042_00024 | C7: OR_3.42_013 | D7: 1 | E7: 144_042_00014 | F7: 144 | G7: Veenderpolder | H7: \OR-3.42\DWP-0532\OR-3.42-013 hoogwater m. belasting.sti | I7: gedetailleerd | J7: inclusief 144-042-00015 en 144-042-00016 | K7: BOEZEMKADE | L7: 144_042_00024 | M7: 144_042_00024.sti | N7: 1 | O7: <Null> | Q7: c | R7: -0.45 | S7: -3.3 | T7: 1.5 | U7: 0 | V7: 5 | W7: 3 | X7: -5.12 | Y7: -3.64 | Z7: -4.39 | AA7: 0.73 | AB7: -4.39 | AC7: -0.6 | AD7: 13 | AE7: III | AF7: 0.9 | AG7: 4.52 | AH7: -5 | AI7: 0 | AJ7: 0 | AK7: -3.64 | AL7: 5.33 | AM7: 0 | AN7: -3.64 | AO7: -1 | AP7: -1 | AQ7: -1 | AR7: -1 | AS7: -1 | AT7: -1 | AU7: 16.25 | AV7: 0 | AW7: 0 | AX7: 16.25 | AY7: 0 | AZ7: 0 | BA7: 18.75 | BB7: 0 | BC7: -0.2 | BD7: 17.75 | BE7: 0 | BF7: 0 | BG7: -1 | BH7: -1 | BI7: -1 | BJ7: -1 | BK7: 39.7 | BL7: -1 | BM7: -4.39 | BN7: -1 | BO7: -1 | BP7: -1 | BQ7: -1 | BR7: -1 | BS7: -1 | BT7: -1 | BU7: -1 | BV7: -1 | BW7: -1 | BX7: -1 | BY7: -1 | BZ7: 80.78 | CA7: 0 | CB7: -4.39 | CC7: 16.25 | CD7: 0 | CE7: 0 | CF7: StabilityInsideMStab (Bishop) | CG7: 12 | CH7: 1.032 | CI7: 40.3 | CJ7: 36.557 | CK7: 0 | CL7: 17 | CM7: 26.35 | CN7: 11.67 | CO7: 11 | CP7: 15 | CQ7: 50 | CR7: 50 | CS7: 26.35 | CT7: 11.67 | CU7: 37.35 | CV7: 26.67 | CW7: 87.35 | CX7: 76.67 | CY7: 31.35 | CZ7: 657.58356
A8: 97 | B8: 002_042_00004 | C8: OR_3.10_002 | D8: 1 | E8: 002_042_00004 | F8: 002 | G8: Polder Achthoven | H8: \OR-3.10\DWP 01.73\OR-3.10-002 hoogwater m. belasting.sti | I8: gedetailleerd | K8: POLDERKADE | L8: 002_042_00004 | M8: 002_042_00004.sti | N8: 1 | Q8: a | R8: -0.66 | S8: -2.1 | T8: 1.5 | U8: -0.35 | V8: 3 | W8: 2 | X8: -1.95 | Y8: -1.64 | Z8: -1.3 | AA8: 0.65 | AB8: -1.3 | AC8: -0.75 | AD8: 13 | AE8: III | AF8: 0.9 | AG8: 1.2 | AH8: 6 | AI8: 0 | AJ8: 0 | AK8: -1.64 | AL8: 8.67 | AM8: 0 | AN8: -1.64 | AO8: -1 | AP8: -1 | AQ8: -1 | AR8: -1 | AS8: -1 | AT8: -1 | AU8: 11.25 | AV8: 0 | AW8: -0.35 | AX8: 11.25 | AY8: 0 | AZ8: -0.35 | BA8: 13.75 | BB8: 0 | BC8: -0.68333333 | BD8: 12.75 | BE8: 0 | BF8: -0.35 | BG8: -1 | BH8: -1 | BI8: -1 | BJ8: -1 | BK8: 15.6 | BL8: -1 | BM8: -1.3 | BN8: -1 | BO8: -1 | BP8: -1 | BQ8: -1 | BR8: -1 | BS8: -1 | BT8: -1 | BU8: -1 | BV8: -1 | BW8: -1 | BX8: -1 | BY8: -1 | BZ8: 26 | CA8: 0 | CB8: -1.3 | CC8: 11.25 | CD8: 0 | CE8: -0.35 | CF8: StabilityInsideMStab (Bishop) | CG8: 9 | CH8: 0.908 | CI8: 19.05 | CJ8: 24.881 | CK8: 0 | CL8: 12 | CM8: 5.55 | CN8: 3.33 | CO8: 11 | CP8: 15 | CQ8: 50 | CR8: 50 | CS8: 5.55 | CT8: 3.33 | CU8: 16.55 | CV8: 18.33 | CW8: 66.55 | CX8: 68.33 | CY8: 10.55 | CZ8: 786.23282
A9: 98 | B9: 002_042_00012 | C9: OR_3.10_004A4 | D9: 1 | E9: 002_042_00012 | F9: 002 | G9: Polder Achthoven | H9: \OR-3.10\DWP 02.30\OR-3.10-004A hoogwater m. belasting.sti | I9: gedetailleerd | K9: BOEZEMKADE | L9: 002_042_00012 | M9: 002_042_00012.sti | N9: 1 | Q9: a | R9: -0.43 | S9: -2.1 | T9: 1.5 | U9: -0.1 | V9: 3 | W9: 2 | X9: -1.95 | Y9: -4.04 | Z9: -1.3 | AA9: 0.65 | AB9: -1.3 | AC9: -0.6 | AD9: 13 | AE9: III | AF9: 0.9 | AG9: 1.35 | AH9: 8 | AI9: 0 | AJ9: 0 | AK9: -4.04 | AL9: 7.62 | AM9: 0 | AN9: -4.04 | AO9: -1 | AP9: -1 | AQ9: -1 | AR9: -1 | AS9: -1 | AT9: -1 | AU9: 15.5 | AV9: 0 | AW9: -0.1 | AX9: 15.5 | AY9: 0 | AZ9: -0.1 | BA9: 18 | BB9: 0 | BC9: -0.43333333 | BD9: 17 | BE9: 0 | BF9: -0.1 | BG9: -1 | BH9: -1 | BI9: -1 | BJ9: -1 | BK9: 20.6 | BL9: -1 | BM9: -1.3 | BN9: -1 | BO9: -1 | BP9: -1 | BQ9: -1 | BR9: -1 | BS9: -1 | BT9: -1 | BU9: -1 | BV9: -1 | BW9: -1 | BX9: -1 | BY9: -1 | BZ9: 28 | CA9: 0 | CB9: -1.3 | CC9: 15.5 | CD9: 0 | CE9: -0.1 | CF9: StabilityInsideMStab (Bishop) | CG9: 12 | CH9: 1.396 | CI9: 21.2 | CJ9: 26.713 | CK9: 0 | CL9: 16.25 | CM9: 6.3 | CN9: 8.63 | CO9: 11 | CP9: 15 | CQ9: 50 | CR9: 50 | CS9: 6.3 | CT9: 8.63 | CU9: 17.3 | CV9: 23.63 | CW9: 67.3 | CX9: 73.63 | CY9: 11.3 | CZ9: 296.55255
A10: 99 | B10: 002_042_00044 | C10: OR_3.10_005B | D10: 1 | E10: 002_042_00015 | F10: 002 | G10: Polder Achthoven | H10: \OR-3.10\DWP 03.60\OR-3.10-005B hoogwater m. belasting.sti | I10: gedetailleerd | K10: BOEZEMKADE | L10: 002_042_00044 | M10: 002_042_00044.sti | N10: 1 | Q10: a | R10: -0.44 | S10: -2.1 | T10: 1.5 | U10: -0.1 | V10: 3 | W10: 2 | X10: -2.05 | Y10: -1.39 | Z10: -1.33 | AA10: 0.72 | AB10: -1.33 | AC10: -0.6 | AD10: 5 | AE10: III | AF10: 0.9 | AG10: 1.45 | AH10: 0 | AI10: 0 | AJ10: 0 | AK10: -1.39 | AL10: 0.67 | AM10: 0 | AN10: -1.39 | AO10: -1 | AP10: -1 | AQ10: -1 | AR10: -1 | AS10: -1 | AT10: -1 | AU10: 3.25 | AV10: 0 | AW10: -0.1 | AX10: 3.25 | AY10: 0 | AZ10: -0.1 | BA10: 5.75 | BB10: 0 | BC10: -0.43333333 | BD10: 4.75 | BE10: 0 | BF10: -0.1 | BG10: -1 | BH10: -1 | BI10: -1 | BJ10: -1 | BK10: 8.44 | BL10: -1 | BM10: -1.33 | BN10: -1 | BO10: -1 | BP10: -1 | BQ10: -1 | BR10: -1 | BS10: -1 | BT10: -1 | BU10: -1 | BV10: -1 | BW10: -1 | BX10: -1 | BY10: -1 | BZ10: 15 | CA10: 0 | CB10: -1.33 | CC10: 3.25 | CD10: 0 | CE10: -0.1 | CF10: StabilityInsideMStab (Bishop) | CG10: 10 | CH10: 1.527 | CI10: 10.94 | CJ10: 16.217 | CK10: 0 | CL10: 4 | CM10: 6.6 | CN10: 3.33 | CO10: 11 | CP10: 15 | CQ10: 50 | CR10: 50 | CS10: 6.6 | CT10: 3.33 | CU10: 17.6 | CV10: 18.33 | CW10: 67.6 | CX10: 68.33 | CY10: 11.6 | CZ10: 204.7077
A11: 100 | B11: 002_042_00050 | C11: OR_3.10_007B | D11: 1 | E11: 002_042_00037 | F11: 002 | G11: Polder Achthoven | H11: \OR-3.10\DWP 08.94\OR-3.10-007B hoogwater m. belasting.sti | I11: gedetailleerd | J11: inclusief deel 020-042-00038 | K11: BOEZEMKADE | L11: 002_042_00050 | M11: 002_042_00050.sti | N11: 1 | Q11: a | R11: -0.42 | S11: -1.8 | T11: 1.5 | U11: -0.1 | V11: 3 | W11: 2 | X11: -1.5 | Y11: -2.44 | Z11: -1.12 | AA11: 0.5 | AB11: -1 | AC11: -0.6 | AD11: 5 | AE11: III | AF11: 0.9 | AG11: 0.9 | AH11: 10 | AI11: 0 | AJ11: 0 | AK11: -2.44 | AL11: 10.32 | AM11: 0 | AN11: -2.44 | AO11: -1 | AP11: -1 | AQ11: -1 | AR11: -1 | AS11: -1 | AT11: -1 | AU11: 15 | AV11: 0 | AW11: -0.1 | AX11: 15 | AY11: 0 | AZ11: -0.1 | BA11: 17.5 | BB11: 0 | BC11: -0.43333333 | BD11: 16.5 | BE11: 0 | BF11: -0.1 | BG11: -1 | BH11: -1 | BI11: -1 | BJ11: -1 | BK11: 19.2 | BL11: -1 | BM11: -1 | BN11: -1 | BO11: -1 | BP11: -1 | BQ11: -1 | BR11: -1 | BS11: -1 | BT11: -1 | BU11: -1 | BV11: -1 | BW11: -1 | BX11: -1 | BY11: -1 | BZ11: 30 | CA11: 0 | CB11: -1 | CC11: 15 | CD11: 0 | CE11: -0.1 | CF11: StabilityInsideMStab (Bishop) | CG11: 12 | CH11: 1.104 | CI11: 19.8 | CJ11: 25.631 | CK11: 0 | CL11: 15.75 | CM11: 4.95 | CN11: 5.43 | CO11: 11 | CP11: 15 | CQ11: 50 | CR11: 50 | CS11: 4.95 | CT11: 5.43 | CU11: 15.95 | CV11: 20.43 | CW11: 65.95 | CX11: 70.43 | CY11: 9.95 | CZ11: 974.38225
A12: 101 | B12: 002_042_00039 | C12: OR_3.10_008 | D12: 1 | E12: 002_042_00039 | F12: 002 | G12: Polder Achthoven | H12: \OR-3.10\DWP 09.67\OR-3.10-008 hoogwater m. belasting.sti | I12: gedetailleerd | K12: BOEZEMKADE | L12: 002_042_00039 | M12: 002_042_00039.sti | N12: 1 | Q12: a | R12: -0.44 | S12: -2.1 | T12: 1.5 | U12: -0.1 | V12: 3 | W12: 2 | X12: -1.95 | Y12: -1.64 | Z12: -1.3 | AA12: 0.65 | AB12: -1.3 | AC12: -0.6 | AD12: 5 | AE12: III | AF12: 0.9 | AG12: 1.35 | AH12: 2 | AI12: 0 | AJ12: 0 | AK12: -1.64 | AL12: 1.67 | AM12: 0 | AN12: -1.64 | AO12: -1 | AP12: -1 | AQ12: -1 | AR12: -1 | AS12: -1 | AT12: -1 | AU12: 4.75 | AV12: 0 | AW12: -0.1 | AX12: 4.75 | AY12: 0 | AZ12: -0.1 | BA12: 7.25 | BB12: 0 | BC12: -0.43333333 | BD12: 6.25 | BE12: 0 | BF12: -0.1 | BG12: -1 | BH12: -1 | BI12: -1 | BJ12: -1 | BK12: 9.85 | BL12: -1 | BM12: -1.3 | BN12: -1 | BO12: -1 | BP12: -1 | BQ12: -1 | BR12: -1 | BS12: -1 | BT12: -1 | BU12: -1 | BV12: -1 | BW12: -1 | BX12: -1 | BY12: -1 | BZ12: 16 | CA12: 0 | CB12: -1.3 | CC12: 4.75 | CD12: 0 | CE12: -0.1 | CF12: StabilityInsideMStab (Bishop) | CG12: 12 | CH12: 1.094 | CI12: 10.45 | CJ12: 17.432 | CK12: 0 | CL12: 5.5 | CM12: 6.3 | CN12: 3.83 | CO12: 11 | CP12: 15 | CQ12: 50 | CR12: 50 | CS12: 6.3 | CT12: 3.83 | CU12: 17.3 | CV12: 18.83 | CW12: 67.3 | CX12: 68.83 | CY12: 11.3 | CZ12: 41.330203
A13: 103 | B13: 144_042_00005 | C13: OR_3.42_003 | D13: 1 | E13: 144_042_00005 | F13: 144 | G13: Veenderpolder | H13: \OR-3.42\DWP-0228\OR-3.42-003 hoogwater m. belasting.sti | I13: gedetailleerd | K13: BOEZEMKADE | L13: 144_042_00005 | M13: 144_042_00005.sti | N13: 1 | Q13: c | R13: -0.46 | S13: -2.8 | T13: 1.5 | U13: -0.1 | V13: 5 | W13: 3 | X13: -4.5 | Y13: -2.14 | Z13: -3.81 | AA13: 0.69 | AB13: -3.81 | AC13: -0.6 | AD13: 13 | AE13: III | AF13: 0.9 | AG13: 3.9 | AH13: 5 | AI13: 0 | AJ13: 0 | AK13: -2.14 | AL13: 8.38 | AM13: 0 | AN13: -2.14 | AO13: -1 | AP13: -1 | AQ13: -1 | AR13: -1 | AS13: -1 | AT13: -1 | AU13: 14.5 | AV13: 0 | AW13: -0.1 | AX13: 14.5 | AY13: 0 | AZ13: -0.1 | BA13: 17 | BB13: 0 | BC13: -0.3 | BD13: 16 | BE13: 0 | BF13: -0.1 | BG13: -1 | BH13: -1 | BI13: -1 | BJ13: -1 | BK13: 34.55 | BL13: -1 | BM13: -3.81 | BN13: -1 | BO13: -1 | BP13: -1 | BQ13: -1 | BR13: -1 | BS13: -1 | BT13: -1 | BU13: -1 | BV13: -1 | BW13: -1 | BX13: -1 | BY13: -1 | BZ13: 60.42 | CA13: 0 | CB13: -3.81 | CC13: 14.5 | CD13: 0 | CE13: -0.1 | CF13: StabilityInsideMStab (Bishop) | CG13: 12 | CH13: 0.987 | CI13: 37.005 | CJ13: 34.774 | CK13: 0 | CL13: 15.25 | CM13: 22.75 | CN13: 6.87 | CO13: 11 | CP13: 15 | CQ13: 50 | CR13: 50 | CS13: 22.75 | CT13: 6.87 | CU13: 33.75 | CV13: 21.87 | CW13: 83.75 | CX13: 71.87 | CY13: 27.75 | CZ13: 260.60206
A14: 104 | B14: 144_042_00006 | C14: OR_3.42_004 | D14: 1 | E14: 144_042_00006 | F14: 144 | G14: Veenderpolder | H14: \OR-3.42\DWP-0272\OR-3.42-004 hoogwater m. belasting.sti | I14: gedetailleerd | K14: BOEZEMKADE | L14: 144_042_00006 | M14: 144_042_00006.sti | N14: 1 | Q14: c | R14: -0.46 | S14: -2.8 | T14: 1.5 | U14: -0.1 | V14: 5 | W14: 3 | X14: -4.55 | Y14: -2.14 | Z14: -3.6 | AA14: 0.95 | AB14: -3.6 | AC14: -0.6 | AD14: 13 | AE14: III | AF14: 0.9 | AG14: 3.95 | AH14: 5 | AI14: 0 | AJ14: 0 | AK14: -2.14 | AL14: 9.13 | AM14: 0 | AN14: -2.14 | AO14: -1 | AP14: -1 | AQ14: -1 | AR14: -1 | AS14: -1 | AT14: -1 | AU14: 15.25 | AV14: 0 | AW14: -0.1 | AX14: 15.25 | AY14: 0 | AZ14: -0.1 | BA14: 17.75 | BB14: 0 | BC14: -0.3 | BD14: 16.75 | BE14: 0 | BF14: -0.1 | BG14: -1 | BH14: -1 | BI14: -1 | BJ14: -1 | BK14: 34.25 | BL14: -1 | BM14: -3.6 | BN14: -1 | BO14: -1 | BP14: -1 | BQ14: -1 | BR14: -1 | BS14: -1 | BT14: -1 | BU14: -1 | BV14: -1 | BW14: -1 | BX14: -1 | BY14: -1 | BZ14: 64 | CA14: 0 | CB14: -3.6 | CC14: 15.25 | CD14: 0 | CE14: -0.1 | CF14: StabilityInsideMStab (Bishop) | CG14: 12 | CH14: 0.919 | CI14: 34.85 | CJ14: 32.695 | CK14: 0 | CL14: 16 | CM14: 23 | CN14: 6.87 | CO14: 11 | CP14: 15 | CQ14: 50 | CR14: 50 | CS14: 23 | CT14: 6.87 | CU14: 34 | CV14: 21.87 | CW14: 84 | CX14: 71.87 | CY14: 28 | CZ14: 465.42778
A15: 105 | B15: 144_042_00018 | C15: OR_3.42_010 | D15: 1 | E15: 144_042_00008 | F15: 144 | G15: Veenderpolder | H15: \OR-3.42\DWP-0312\OR-3.42-010 hoogwater m. belasting.sti | I15: gedetailleerd | K15: POLDERKADE | L15: 144_042_00018 | M15: 144_042_00018.sti | N15: 1 | Q15: c | R15: -1.22 | S15: -3.05 | T15: 1.5 | U15: -1.06 | V15: 5 | W15: 3 | X15: -5.12 | Y15: -3.74 | Z15: -4.39 | AA15: 0.73 | AB15: -4.39 | AC15: -1.46 | AD15: 13 | AE15: III | AF15: 0.9 | AG15: 3.66 | AH15: 0 | AI15: 0 | AJ15: 0 | AK15: -3.74 | AL15: 2.46 | AM15: 0 | AN15: -3.74 | AO15: -1 | AP15: -1 | AQ15: -1 | AR15: -1 | AS15: -1 | AT15: -1 | AU15: 10.5 | AV15: 0 | AW15: -1.06 | AX15: 10.5 | AY15: 0 | AZ15: -1.06 | BA15: 13 | BB15: 0 | BC15: -1.26 | BD15: 12 | BE15: 0 | BF15: -1.06 | BG15: -1 | BH15: -1 | BI15: -1 | BJ15: -1 | BK15: 28.65 | BL15: -1 | BM15: -4.39 | BN15: -1 | BO15: -1 | BP15: -1 | BQ15: -1 | BR15: -1 | BS15: -1 | BT15: -1 | BU15: -1 | BV15: -1 | BW15: -1 | BX15: -1 | BY15: -1 | BZ15: 57.66 | CA15: 0 | CB15: -4.39 | CC15: 10.5 | CD15: 0 | CE15: -1.06 | CF15: StabilityInsideMStab (Bishop) | CG15: 12 | CH15: 1.042 | CI15: 29.25 | CJ15: 25.254 | CK15: 0 | CL15: 11.25 | CM15: 21.05 | CN15: 8.79 | CO15: 11 | CP15: 15 | CQ15: 50 | CR15: 50 | CS15: 21.05 | CT15: 8.79 | CU15: 32.05 | CV15: 23.79 | CW15: 82.05 | CX15: 73.79 | CY15: 26.05 | CZ15: 260.6258
A16: 106 | B16: 028_042_00031 | C16: OR_3.43_007 | D16: 1 | E16: 028_042_00011 | F16: 028 | G16: Drooggemaakte Veender- en Lijkerpolder | H16: \OR-3.43\STBI_hoogwater\Kadevak_006b_007_STBI_hoogwater_met_verkeer.sti | I16: gedetailleerd | J16: inclusief 028-042-00012 | K16: POLDERKADE | L16: 028_042_00031 | M16: 028_042_00031.sti | N16: 1 | Q16: a | R16: -1.22 | S16: -3.2 | T16: 1.5 | U16: -1.06 | V16: 4 | W16: 3 | X16: -4.71 | Y16: -3.04 | Z16: -3.82 | AA16: 0.89 | AB16: -3.82 | AC16: -1.46 | AD16: 13 | AE16: III | AF16: 0.9 | AG16: 3.25 | AH16: 0 | AI16: 0 | AJ16: 0 | AK16: -3.04 | AL16: 2.06 | AM16: 0 | AN16: -3.04 | AO16: -1 | AP16: -1 | AQ16: -1 | AR16: -1 | AS16: -1 | AT16: -1 | AU16: 8 | AV16: 0 | AW16: -1.06 | AX16: 8 | AY16: 0 | AZ16: -1.06 | BA16: 10.5 | BB16: 0 | BC16: -1.31 | BD16: 9.5 | BE16: 0 | BF16: -1.06 | BG16: -1 | BH16: -1 | BI16: -1 | BJ16: -1 | BK16: 20.54 | BL16: -1 | BM16: -3.82 | BN16: -1 | BO16: -1 | BP16: -1 | BQ16: -1 | BR16: -1 | BS16: -1 | BT16: -1 | BU16: -1 | BV16: -1 | BW16: -1 | BX16: -1 | BY16: -1 | BZ16: 62.76 | CA16: 0 | CB16: -3.82 | CC16: 8 | CD16: 0 | CE16: -1.06 | CF16: StabilityInsideMStab (Bishop) | CG16: 12 | CH16: 0.981 | CI16: 22.52 | CJ16: 19.137 | CK16: 0 | CL16: 8.75 | CM16: 15.35 | CN16: 6.69 | CO16: 11 | CP16: 15 | CQ16: 50 | CR16: 50 | CS16: 15.35 | CT16: 6.69 | CU16: 26.35 | CV16: 21.69 | CW16: 76.35 | CX16: 71.69 | CY16: 20.35 | CZ16: 638.76466
A17: 107 | B17: 028_042_00035 | C17: OR_3.43_011 | D17: 1 | E17: 028_042_00019 | F17: 028 | G17: Drooggemaakte Veender- en Lijkerpolder | H17: \OR-3.43\STBI_hoogwater\Kadevak_011_STBI_hoogwater_met_verkeer.sti | I17: gedetailleerd | J17: inclusief 028-042-00020 | K17: POLDERKADE | L17: 028_042_00035 | M17: 028_042_00035.sti | N17: 1 | Q17: a | R17: -1.21 | S17: -2.6 | T17: 1.5 | U17: -0.98 | V17: 4 | W17: 3 | X17: -4.5 | Y17: -3.25 | Z17: -3.68 | AA17: 0.82 | AB17: -3.68 | AC17: -1.38 | AD17: 13 | AE17: III | AF17: 0.9 | AG17: 3.12 | AH17: 0 | AI17: 0 | AJ17: 0 | AK17: -3.25 | AL17: 7.94 | AM17: 0 | AN17: -3.25 | AO17: -1 | AP17: -1 | AQ17: -1 | AR17: -1 | AS17: -1 | AT17: -1 | AU17: 14.75 | AV17: 0 | AW17: -0.98 | AX17: 14.75 | AY17: 0 | AZ17: -0.98 | BA17: 17.25 | BB17: 0 | BC17: -1.23 | BD17: 16.25 | BE17: 0 | BF17: -0.98 | BG17: -1 | BH17: -1 | BI17: -1 | BJ17: -1 | BK17: 27.05 | BL17: -1 | BM17: -3.68 | BN17: -1 | BO17: -1 | BP17: -1 | BQ17: -1 | BR17: -1 | BS17: -1 | BT17: -1 | BU17: -1 | BV17: -1 | BW17: -1 | BX17: -1 | BY17: -1 | BZ17: 54.2 | CA17: 0 | CB17: -3.68 | CC17: 14.75 | CD17: 0 | CE17: -0.98 | CF17: StabilityInsideMStab (Bishop) | CG17: 12 | CH17: 1.029 | CI17: 29 | CJ17: 34.685 | CK17: 0 | CL17: 15.5 | CM17: 14.83 | CN17: 7.56 | CO17: 11 | CP17: 15 | CQ17: 50 | CR17: 50 | CS17: 14.83 | CT17: 7.56 | CU17: 25.83 | CV17: 22.56 | CW17: 75.83 | CX17: 72.56 | CY17: 19.83 | CZ17: 634.63611
A18: 108 | B18: 028_042_00036 | C18: OR_3.43_012 | D18: 1 | E18: 028_042_00021 | F18: 028 | G18: Drooggemaakte Veender- en Lijkerpolder | H18: \OR-3.43\STBI_hoogwater\Kadevak_012_STBI_hoogwater_met_verkeer.sti | I18: gedetailleerd | J18: inclusief 028-042-00022 | K18: POLDERKADE | L18: 028_042_00036 | M18: 028_042_00036.sti | N18: 1 | Q18: a | R18: -1.21 | S18: -2.5 | T18: 1.5 | U18: -0.98 | V18: 4 | W18: 3 | X18: -4.47 | Y18: -2.75 | Z18: -3.76 | AA18: 0.71 | AB18: -3.76 | AC18: -1.38 | AD18: 13 | AE18: III | AF18: 0.9 | AG18: 3.09 | AH18: 0 | AI18: 0 | AJ18: 0 | AK18: -2.75 | AL18: 4.69 | AM18: 0 | AN18: -2.75 | AO18: -1 | AP18: -1 | AQ18: -1 | AR18: -1 | AS18: -1 | AT18: -1 | AU18: 10 | AV18: 0 | AW18: -0.98 | AX18: 10 | AY18: 0 | AZ18: -0.98 | BA18: 12.5 | BB18: 0 | BC18: -1.23 | BD18: 11.5 | BE18: 0 | BF18: -0.98 | BG18: -1 | BH18: -1 | BI18: -1 | BJ18: -1 | BK18: 22.62 | BL18: -1 | BM18: -3.76 | BN18: -1 | BO18: -1 | BP18: -1 | BQ18: -1 | BR18: -1 | BS18: -1 | BT18: -1 | BU18: -1 | BV18: -1 | BW18: -1 | BX18: -1 | BY18: -1 | BZ18: 66.28 | CA18: 0 | CB18: -3.76 | CC18: 10 | CD18: 0 | CE18: -0.98 | CF18: StabilityInsideMStab (Bishop) | CG18: 12 | CH18: 1.035 | CI18: 24.61 | CJ18: 30.93 | CK18: 0 | CL18: 10.75 | CM18: 14.71 | CN18: 6.06 | CO18: 11 | CP18: 15 | CQ18: 50 | CR18: 50 | CS18: 14.71 | CT18: 6.06 | CU18: 25.71 | CV18: 21.06 | CW18: 75.71 | CX18: 71.06 | CY18: 19.71 | CZ18: 286.87284
A19: 110 | B19: 021_042_00012 | C19: OR_3.18_006B | D19: 1 | E19: 021_042_00004 | F19: 021 | G19: Doespolder | H19: \OR-3.18\OR-3.18-006B\Doespolder006B_HW_VK5.sti | I19: gedetailleerd | K19: POLDERKADE | L19: 021_042_00012 | M19: 021_042_00012.sti | N19: 1 | Q19: a | R19: -0.66 | S19: -2.3 | T19: 1.5 | U19: -0.35 | V19: 3 | W19: 2.5 | X19: -2.25 | Y19: -1.64 | Z19: -1.49 | AA19: 0.76 | AB19: -1.49 | AC19: -0.75 | AD19: 5 | AE19: III | AF19: 0.9 | AG19: 1.5 | AH19: 3.41 | AI19: 0 | AJ19: 0 | AK19: -1.64 | AL19: 1.185 | AM19: 0 | AN19: -1.64 | AO19: -1 | AP19: -1 | AQ19: -1 | AR19: -1 | AS19: -1 | AT19: -1 | AU19: 4.41 | AV19: 0 | AW19: -0.35 | AX19: 4.41 | AY19: 0 | AZ19: -0.35 | BA19: 6.91 | BB19: 0 | BC19: -0.68333333 | BD19: 5.91 | BE19: 0 | BF19: -0.35 | BG19: -1 | BH19: -1 | BI19: -1 | BJ19: -1 | BK19: 9.33 | BL19: -1 | BM19: -1.49 | BN19: -1 | BO19: -1 | BP19: -1 | BQ19: -1 | BR19: -1 | BS19: -1 | BT19: -1 | BU19: -1 | BV19: -1 | BW19: -1 | BX19: -1 | BY19: -1 | BZ19: 33.41 | CA19: 0 | CB19: -1.49 | CC19: 4.41 | CD19: 0 | CE19: -0.35 | CF19: StabilityInsideMStab (Bishop) | CG19: 7 | CH19: 0.965 | CI19: 14.68 | CJ19: 21.572 | CK19: 0 | CL19: 5.16 | CM19: 6.45 | CN19: 3.975 | CO19: 11 | CP19: 15 | CQ19: 50 | CR19: 50 | CS19: 6.45 | CT19: 3.975 | CU19: 17.45 | CV19: 18.975 | CW19: 67.45 | CX19: 68.975 | CY19: 11.45 | CZ19: 652.3039
A20: 111 | B20: 021_042_00015 | C20: OR_3.18_007C | D20: 1 | E20: 021_042_00006 | F20: 021 | G20: Doespolder | H20: \Verschoven_MStab\Doespolder007C_HW_VK5.sti | I20: gedetailleerd | K20: BOEZEMKADE | L20: 021_042_00015 | M20: 021_042_00015_V.sti | N20: 1 | O20: Mstab verschoven | Q20: a | R20: -0.44 | S20: -2.2 | T20: 1.5 | U20: -0.1 | V20: 3 | W20: 2.5 | X20: -2.25 | Y20: -2.44 | Z20: -1.49 | AA20: 0.76 | AB20: -1.49 | AC20: -0.6 | AD20: 5 | AE20: III | AF20: 0.9 | AG20: 1.65 | AH20: 10 | AI20: 0 | AJ20: 0 | AK20: -2.44 | AL20: 5.15 | AM20: 0 | AN20: -2.44 | AO20: -1 | AP20: -1 | AQ20: -1 | AR20: -1 | AS20: -1 | AT20: -1 | AU20: 11 | AV20: 0 | AW20: -0.1 | AX20: 11 | AY20: 0 | AZ20: -0.1 | BA20: 13.5 | BB20: 0 | BC20: -0.43333333 | BD20: 12.5 | BE20: 0 | BF20: -0.1 | BG20: -1 | BH20: -1 | BI20: -1 | BJ20: -1 | BK20: 16.67 | BL20: -1 | BM20: -1.49 | BN20: -1 | BO20: -1 | BP20: -1 | BQ20: -1 | BR20: -1 | BS20: -1 | BT20: -1 | BU20: -1 | BV20: -1 | BW20: -1 | BX20: -1 | BY20: -1 | BZ20: 30 | CA20: 0 | CB20: -1.49 | CC20: 11 | CD20: 0 | CE20: -0.1 | CF20: StabilityInsideMStab (Bishop) | CG20: 7 | CH20: 0.96 | CI20: 22.02 | CJ20: 27.181 | CK20: 0 | CL20: 11.75 | CM20: 7.2 | CN20: 6.6 | CO20: 11 | CP20: 15 | CQ20: 50 | CR20: 50 | CS20: 7.2 | CT20: 6.6 | CU20: 18.2 | CV20: 21.6 | CW20: 68.2 | CX20: 71.6 | CY20: 12.2 | CZ20: 886.38242
A21: 112 | B21: 157_042_00035 | C21: OR_1.02_009B | D21: 1 | E21: 157_042_00012 | F21: 157 | G21: Vosse- en Weerlanerpolder | H21: \OR-1.02\OR-1.02-009A\OR-1.02-009A_HW_metbelasting.sti | I21: gedetailleerd | K21: BOEZEMKADE | L21: 157_042_00035 | M21: 157_042_00035.sti | N21: 1 | O21: drooglegging aangepast door Bouke d.d. 18 maart 2013 | Q21: c | R21: -0.49 | S21: -1.6 | T21: 1.5 | U21: -0.1 | V21: 3 | W21: 3 | X21: -1.75 | Y21: -1.39 | Z21: -0.21 | AA21: 1 | AB21: -0.75 | AC21: -0.6 | AD21: 5 | AE21: III | AF21: 0.9 | AG21: 1.15 | AH21: 2.94 | AI21: 0 | AJ21: 0 | AK21: -1.39 | AL21: 2.07 | AM21: 0 | AN21: -1.39 | AO21: -1 | AP21: -1 | AQ21: -1 | AR21: -1 | AS21: -1 | AT21: -1 | AU21: 5.94 | AV21: 0 | AW21: -0.1 | AX21: 5.94 | AY21: 0 | AZ21: -0.1 | BA21: 8.44 | BB21: 0 | BC21: -0.43333333 | BD21: 7.44 | BE21: 0 | BF21: -0.1 | BG21: -1 | BH21: -1 | BI21: -1 | BJ21: -1 | BK21: 9.39 | BL21: -1 | BM21: -0.75 | BN21: -1 | BO21: -1 | BP21: -1 | BQ21: -1 | BR21: -1 | BS21: -1 | BT21: -1 | BU21: -1 | BV21: -1 | BW21: -1 | BX21: -1 | BY21: -1 | BZ21: 49.94 | CA21: 0 | CB21: -0.75 | CC21: 5.94 | CD21: 0 | CE21: -0.1 | CF21: StabilityInsideMStab (Bishop) | CG21: 11 | CH21: 1.169 | CI21: 10.94 | CJ21: 17.851 | CK21: 0 | CL21: 6.69 | CM21: 5.7 | CN21: 4.62 | CO21: 11 | CP21: 15 | CQ21: 50 | CR21: 50 | CS21: 5.7 | CT21: 4.62 | CU21: 16.7 | CV21: 19.62 | CW21: 66.7 | CX21: 69.62 | CY21: 10.7 | CZ21: 143.13608
A22: 113 | B22: 002_042_00040 | C22: OR_3.10_001A | D22: 1 | E22: 002_042_00002 | F22: 002 | G22: Polder Achthoven | H22: \OR-3.10\DWP 00.34\OR-3.10-001A hoogwater m. belasting.sti | I22: gedetailleerd | K22: BOEZEMKADE | L22: 002_042_00040 | M22: 002_042_00040.sti | N22: 1 | Q22: a | R22: -0.44 | S22: -2.1 | T22: 1.5 | U22: -0.1 | V22: 3 | W22: 2 | X22: -1.95 | Y22: -1.64 | Z22: -1.3 | AA22: 0.65 | AB22: -1.3 | AC22: -0.6 | AD22: 5 | AE22: III | AF22: 0.9 | AG22: 1.35 | AH22: 0 | AI22: 0 | AJ22: 0 | AK22: -1.64 | AL22: 5.67 | AM22: 0 | AN22: -1.64 | AO22: -1 | AP22: -1 | AQ22: -1 | AR22: -1 | AS22: -1 | AT22: -1 | AU22: 8.75 | AV22: 0 | AW22: -0.1 | AX22: 8.75 | AY22: 0 | AZ22: -0.1 | BA22: 11.25 | BB22: 0 | BC22: -0.43333333 | BD22: 10.25 | BE22: 0 | BF22: -0.1 | BG22: -1 | BH22: -1 | BI22: -1 | BJ22: -1 | BK22: 13.85 | BL22: -1 | BM22: -1.3 | BN22: -1 | BO22: -1 | BP22: -1 | BQ22: -1 | BR22: -1 | BS22: -1 | BT22: -1 | BU22: -1 | BV22: -1 | BW22: -1 | BX22: -1 | BY22: -1 | BZ22: 25 | CA22: 0 | CB22: -1.3 | CC22: 8.75 | CD22: 0 | CE22: -0.1 | CF22: StabilityInsideMStab (Bishop) | CG22: 9 | CH22: 0.993 | CI22: 17.3 | CJ22: 22.239 | CK22: 0 | CL22: 9.5 | CM22: 6.3 | CN22: 3.83 | CO22: 11 | CP22: 15 | CQ22: 50 | CR22: 50 | CS22: 6.3 | CT22: 3.83 | CU22: 17.3 | CV22: 18.83 | CW22: 67.3 | CX22: 68.83 | CY22: 11.3 | CZ22: 75.90104
A23: 114 | B23: 002_042_00005 | C23: OR_3.10_004A1 | D23: 1 | E23: 002_042_00005 | F23: 002 | G23: Polder Achthoven | H23: \OR-3.10\DWP 02.30\OR-3.10-004A hoogwater m. belasting.sti | I23: gedetailleerd | K23: BOEZEMKADE | L23: 002_042_00005 | M23: 002_042_00005.sti | N23: 1 | Q23: a | R23: -0.43 | S23: -2.1 | T23: 1.5 | U23: -0.1 | V23: 3 | W23: 2 | X23: -1.95 | Y23: -2.47 | Z23: -1.3 | AA23: 0.65 | AB23: -1.3 | AC23: -0.6 | AD23: 13 | AE23: III | AF23: 0.9 | AG23: 1.35 | AH23: 8 | AI23: 0 | AJ23: 0 | AK23: -2.47 | AL23: 9.76 | AM23: 0 | AN23: -2.47 | AO23: -1 | AP23: -1 | AQ23: -1 | AR23: -1 | AS23: -1 | AT23: -1 | AU23: 14.5 | AV23: 0 | AW23: -0.1 | AX23: 14.5 | AY23: 0 | AZ23: -0.1 | BA23: 17 | BB23: 0 | BC23: -0.43333333 | BD23: 16 | BE23: 0 | BF23: -0.1 | BG23: -1 | BH23: -1 | BI23: -1 | BJ23: -1 | BK23: 19.6 | BL23: -1 | BM23: -1.3 | BN23: -1 | BO23: -1 | BP23: -1 | BQ23: -1 | BR23: -1 | BS23: -1 | BT23: -1 | BU23: -1 | BV23: -1 | BW23: -1 | BX23: -1 | BY23: -1 | BZ23: 28 | CA23: 0 | CB23: -1.3 | CC23: 14.5 | CD23: 0 | CE23: -0.1 | CF23: StabilityInsideMStab (Bishop) | CG23: 12 | CH23: 1.397 | CI23: 20.2 | CJ23: 25.713 | CK23: 0 | CL23: 15.25 | CM23: 6.3 | CN23: 5.49 | CO23: 11 | CP23: 15 | CQ23: 50 | CR23: 50 | CS23: 6.3 | CT23: 5.49 | CU23: 17.3 | CV23: 20.49 | CW23: 67.3 | CX23: 70.49 | CY23: 11.3 | CZ23: 139.05985
A24: 115 | B24: 002_042_00006 | C24: OR_3.10_004B1 | D24: 1 | E24: 002_042_00006 | F24: 002 | G24: Polder Achthoven | H24: \OR-3.10\DWP 02.23\OR-3.10-00B1 hoogwater m. belasting.sti | I24: gedetailleerd | K24: BOEZEMKADE | L24: 002_042_00006 | M24: 002_042_00006.sti | N24: 1 | Q24: a | R24: -0.43 | S24: -2.1 | T24: 1.5 | U24: -0.1 | V24: 3 | W24: 2 | X24: -1.95 | Y24: -1.14 | Z24: -1.3 | AA24: 0.65 | AB24: -1.3 | AC24: -0.6 | AD24: 5 | AE24: III | AF24: 0.9 | AG24: 1.35 | AH24: 0 | AI24: 0 | AJ24: 0 | AK24: -1.14 | AL24: 5.17 | AM24: 0 | AN24: -1.14 | AO24: -1 | AP24: -1 | AQ24: -1 | AR24: -1 | AS24: -1 | AT24: -1 | AU24: 7.25 | AV24: 0 | AW24: -0.1 | AX24: 7.25 | AY24: 0 | AZ24: -0.1 | BA24: 9.75 | BB24: 0 | BC24: -0.43333333 | BD24: 8.75 | BE24: 0 | BF24: -0.1 | BG24: -1 | BH24: -1 | BI24: -1 | BJ24: -1 | BK24: 12.35 | BL24: -1 | BM24: -1.3 | BN24: -1 | BO24: -1 | BP24: -1 | BQ24: -1 | BR24: -1 | BS24: -1 | BT24: -1 | BU24: -1 | BV24: -1 | BW24: -1 | BX24: -1 | BY24: -1 | BZ24: 25 | CA24: 0 | CB24: -1.3 | CC24: 7.25 | CD24: 0 | CE24: -0.1 | CF24: StabilityInsideMStab (UpliftVan) | CG24: 12 | CH24: 1.1638095 | CI24: 12.95 | CJ24: 19.829 | CK24: 0 | CL24: 8 | CM24: 6.3 | CN24: 2.83 | CO24: 11 | CP24: 15 | CQ24: 50 | CR24: 50 | CS24: 6.3 | CT24: 2.83 | CU24: 17.3 | CV24: 17.83 | CW24: 67.3 | CX24: 67.83 | CY24: 11.3 | CZ24: 173.43951
A25: 116 | B25: 002_042_00007 | C25: OR_3.10_004A2 | D25: 1 | E25: 002_042_00007 | F25: 002 | G25: Polder Achthoven | H25: \OR-3.10\DWP 02.30\OR-3.10-004A hoogwater m. belasting.sti | I25: gedetailleerd | K25: BOEZEMKADE | L25: 002_042_00007 | M25: 002_042_00007.sti | N25: 1 | Q25: a | R25: -0.43 | S25: -2.1 | T25: 1.5 | U25: -0.1 | V25: 3 | W25: 2 | X25: -1.95 | Y25: -4.04 | Z25: -1.3 | AA25: 0.65 | AB25: -1.3 | AC25: -0.6 | AD25: 13 | AE25: III | AF25: 0.9 | AG25: 1.35 | AH25: 8 | AI25: 0 | AJ25: 0 | AK25: -4.04 | AL25: 6.62 | AM25: 0 | AN25: -4.04 | AO25: -1 | AP25: -1 | AQ25: -1 | AR25: -1 | AS25: -1 | AT25: -1 | AU25: 14.5 | AV25: 0 | AW25: -0.1 | AX25: 14.5 | AY25: 0 | AZ25: -0.1 | BA25: 17 | BB25: 0 | BC25: -0.43333333 | BD25: 16 | BE25: 0 | BF25: -0.1 | BG25: -1 | BH25: -1 | BI25: -1 | BJ25: -1 | BK25: 19.6 | BL25: -1 | BM25: -1.3 | BN25: -1 | BO25: -1 | BP25: -1 | BQ25: -1 | BR25: -1 | BS25: -1 | BT25: -1 | BU25: -1 | BV25: -1 | BW25: -1 | BX25: -1 | BY25: -1 | BZ25: 28 | CA25: 0 | CB25: -1.3 | CC25: 14.5 | CD25: 0 | CE25: -0.1 | CF25: StabilityInsideMStab (Bishop) | CG25: 12 | CH25: 1.397 | CI25: 20.2 | CJ25: 25.713 | CK25: 0 | CL25: 15.25 | CM25: 6.3 | CN25: 8.63 | CO25: 11 | CP25: 15 | CQ25: 50 | CR25: 50 | CS25: 6.3 | CT25: 8.63 | CU25: 17.3 | CV25: 23.63 | CW25: 67.3 | CX25: 73.63 | CY25: 11.3 | CZ25: 291.95865
A26: 117 | B26: 002_042_00041 | C26: OR_3.10_004B2 | D26: 1 | E26: 002_042_00008 | F26: 002 | G26: Polder Achthoven | H26: \OR-3.10\DWP 02.73\OR-3.10-004B2 hoogwater m. belasting HW.sti | I26: gedetailleerd | J26: inclusief 002-042-00009 en deel 002-042-00010 | K26: BOEZEMKADE | L26: 002_042_00041 | M26: 002_042_00041.sti | N26: 1 | Q26: a | R26: -0.43 | S26: -2.1 | T26: 1.5 | U26: -0.1 | V26: 3 | W26: 2 | X26: -1.95 | Y26: -1.14 | Z26: -1.3 | AA26: 0.65 | AB26: -1.3 | AC26: -0.6 | AD26: 5 | AE26: III | AF26: 0.9 | AG26: 1.35 | AH26: 2 | AI26: 0 | AJ26: 0 | AK26: -1.14 | AL26: 3.42 | AM26: 0 | AN26: -1.14 | AO26: -1 | AP26: -1 | AQ26: -1 | AR26: -1 | AS26: -1 | AT26: -1 | AU26: 5.5 | AV26: 0 | AW26: -0.1 | AX26: 5.5 | AY26: 0 | AZ26: -0.1 | BA26: 8 | BB26: 0 | BC26: -0.43333333 | BD26: 7 | BE26: 0 | BF26: -0.1 | BG26: -1 | BH26: -1 | BI26: -1 | BJ26: -1 | BK26: 10.6 | BL26: -1 | BM26: -1.3 | BN26: -1 | BO26: -1 | BP26: -1 | BQ26: -1 | BR26: -1 | BS26: -1 | BT26: -1 | BU26: -1 | BV26: -1 | BW26: -1 | BX26: -1 | BY26: -1 | BZ26: 14 | CA26: 0 | CB26: -1.3 | CC26: 5.5 | CD26: 0 | CE26: -0.1 | CF26: StabilityInsideMStab (Bishop) | CG26: 12 | CH26: 1.236 | CI26: 11.2 | CJ26: 15.624 | CK26: 0 | CL26: 6.25 | CM26: 6.3 | CN26: 2.83 | CO26: 11 | CP26: 15 | CQ26: 50 | CR26: 50 | CS26: 6.3 | CT26: 2.83 | CU26: 17.3 | CV26: 17.83 | CW26: 67.3 | CX26: 67.83 | CY26: 11.3 | CZ26: 327.89524
A27: 118 | B27: 002_042_00042 | C27: OR_3.10_004A3 | D27: 1 | E27: 002_042_00010 | F27: 002 | G27: Polder Achthoven | H27: \OR-3.10\DWP 02.30\OR-3.10-004A hoogwater m. belasting.sti | I27: gedetailleerd | K27: BOEZEMKADE | L27: 002_042_00042 | M27: 002_042_00042.sti | N27: 1 | Q27: a | R27: -0.43 | S27: -2.1 | T27: 1.5 | U27: -0.1 | V27: 3 | W27: 2 | X27: -1.95 | Y27: -4.04 | Z27: -1.3 | AA27: 0.65 | AB27: -1.3 | AC27: -0.6 | AD27: 13 | AE27: III | AF27: 0.9 | AG27: 1.35 | AH27: 8 | AI27: 0 | AJ27: 0 | AK27: -4.04 | AL27: 6.62 | AM27: 0 | AN27: -4.04 | AO27: -1 | AP27: -1 | AQ27: -1 | AR27: -1 | AS27: -1 | AT27: -1 | AU27: 14.5 | AV27: 0 | AW27: -0.1 | AX27: 14.5 | AY27: 0 | AZ27: -0.1 | BA27: 17 | BB27: 0 | BC27: -0.43333333 | BD27: 16 | BE27: 0 | BF27: -0.1 | BG27: -1 | BH27: -1 | BI27: -1 | BJ27: -1 | BK27: 19.6 | BL27: -1 | BM27: -1.3 | BN27: -1 | BO27: -1 | BP27: -1 | BQ27: -1 | BR27: -1 | BS27: -1 | BT27: -1 | BU27: -1 | BV27: -1 | BW27: -1 | BX27: -1 | BY27: -1 | BZ27: 28 | CA27: 0 | CB27: -1.3 | CC27: 14.5 | CD27: 0 | CE27: -0.1 | CF27: StabilityInsideMStab (Bishop) | CG27: 12 | CH27: 1.397 | CI27: 20.2 | CJ27: 25.713 | CK27: 0 | CL27: 15.25 | CM27: 6.3 | CN27: 8.63 | CO27: 11 | CP27: 15 | CQ27: 50 | CR27: 50 | CS27: 6.3 | CT27: 8.63 | CU27: 17.3 | CV27: 23.63 | CW27: 67.3 | CX27: 73.63 | CY27: 11.3 | CZ27: 43.23874
A28: 120 | B28: 157_042_00022 | C28: OR_1.02_004A | D28: 1 | E28: 157_042_00005 | F28: 157 | G28: Vosse- en Weerlanerpolder | H28: \OR-1.02\OR-1.02-005B\OR-1.02-005B_HW_metbelasting.sti | I28: gedetailleerd | K28: BOEZEMKADE | L28: 157_042_00022 | M28: 157_042_00022.sti | N28: 1 | O28: drooglegging aangepast door Bouke d.d. 18 maart 2013 | Q28: c | R28: -0.49 | S28: -2.2 | T28: 1.5 | U28: -0.1 | V28: 3 | W28: 3 | X28: -1.45 | Y28: -1.64 | Z28: -0.06 | AA28: 1 | AB28: -0.45 | AC28: -0.6 | AD28: 5 | AE28: III | AF28: 0.9 | AG28: 0.85 | AH28: 2.31 | AI28: 0 | AJ28: 0 | AK28: -1.64 | AL28: 4.44 | AM28: 0 | AN28: -1.64 | AO28: -1 | AP28: -1 | AQ28: -1 | AR28: -1 | AS28: -1 | AT28: -1 | AU28: 9.06 | AV28: 0 | AW28: -0.1 | AX28: 9.06 | AY28: 0 | AZ28: -0.1 | BA28: 11.56 | BB28: 0 | BC28: -0.43333333 | BD28: 10.56 | BE28: 0 | BF28: -0.1 | BG28: -1 | BH28: -1 | BI28: -1 | BJ28: -1 | BK28: 11.61 | BL28: -1 | BM28: -0.45 | BN28: -1 | BO28: -1 | BP28: -1 | BQ28: -1 | BR28: -1 | BS28: -1 | BT28: -1 | BU28: -1 | BV28: -1 | BW28: -1 | BX28: -1 | BY28: -1 | BZ28: 27.81 | CA28: 0 | CB28: -0.45 | CC28: 9.06 | CD28: 0 | CE28: -0.1 | CF28: StabilityInsideMStab (UpliftVan) | CG28: 11 | CH28: 0.98285714 | CI28: 13.16 | CJ28: 19.136 | CK28: 0 | CL28: 9.81 | CM28: 4.8 | CN28: 5.37 | CO28: 11 | CP28: 15 | CQ28: 50 | CR28: 50 | CS28: 4.8 | CT28: 5.37 | CU28: 15.8 | CV28: 20.37 | CW28: 65.8 | CX28: 70.37 | CY28: 9.8 | CZ28: 109.92542
A29: 121 | B29: 157_042_00025 | C29: OR_1.02_005B | D29: 1 | E29: 157_042_00007 | F29: 157 | G29: Vosse- en Weerlanerpolder | H29: \OR-1.02\OR-1.02-005B\OR-1.02-005B_HW_metbelasting.sti | I29: gedetailleerd | J29: inclusief deel 157-042-00006 | K29: BOEZEMKADE | L29: 157_042_00025 | M29: 157_042_00025.sti | N29: 1 | Q29: c | R29: -0.49 | S29: -2.2 | T29: 1.5 | U29: -0.1 | V29: 3 | W29: 3 | X29: -1.8 | Y29: -1.64 | Z29: -0.7 | AA29: 1.1 | AB29: -0.7 | AC29: -0.6 | AD29: 5 | AE29: III | AF29: 0.9 | AG29: 1.2 | AH29: 2.31 | AI29: 0 | AJ29: 0 | AK29: -1.64 | AL29: 4.44 | AM29: 0 | AN29: -1.64 | AO29: -1 | AP29: -1 | AQ29: -1 | AR29: -1 | AS29: -1 | AT29: -1 | AU29: 9.06 | AV29: 0 | AW29: -0.1 | AX29: 9.06 | AY29: 0 | AZ29: -0.1 | BA29: 11.56 | BB29: 0 | BC29: -0.43333333 | BD29: 10.56 | BE29: 0 | BF29: -0.1 | BG29: -1 | BH29: -1 | BI29: -1 | BJ29: -1 | BK29: 12.36 | BL29: -1 | BM29: -0.7 | BN29: -1 | BO29: -1 | BP29: -1 | BQ29: -1 | BR29: -1 | BS29: -1 | BT29: -1 | BU29: -1 | BV29: -1 | BW29: -1 | BX29: -1 | BY29: -1 | BZ29: 27.81 | CA29: 0 | CB29: -0.7 | CC29: 9.06 | CD29: 0 | CE29: -0.1 | CF29: StabilityInsideMStab (UpliftVan) | CG29: 11 | CH29: 0.91333333 | CI29: 13.91 | CJ29: 19.905 | CK29: 0 | CL29: 9.81 | CM29: 5.85 | CN29: 5.37 | CO29: 11 | CP29: 15 | CQ29: 50 | CR29: 50 | CS29: 5.85 | CT29: 5.37 | CU29: 16.85 | CV29: 20.37 | CW29: 66.85 | CX29: 70.37 | CY29: 10.85 | CZ29: 413.153
A30: 122 | B30: 157_042_00026 | C30: OR_1.02_005C | D30: 1 | E30: 157_042_00007 | F30: 157 | G30: Vosse- en Weerlanerpolder | H30: \OR-1.02\OR-1.02-005B\OR-1.02-005B_HW_metbelasting.sti | I30: gedetailleerd | K30: BOEZEMKADE | L30: 157_042_00026 | M30: 157_042_00026.sti | N30: 1 | Q30: c | R30: -0.49 | S30: -2.2 | T30: 1.5 | U30: -0.1 | V30: 3 | W30: 3 | X30: -1.8 | Y30: -1.64 | Z30: -0.7 | AA30: 1.1 | AB30: -0.7 | AC30: -0.6 | AD30: 5 | AE30: III | AF30: 0.9 | AG30: 1.2 | AH30: 2.31 | AI30: 0 | AJ30: 0 | AK30: -1.64 | AL30: 4.44 | AM30: 0 | AN30: -1.64 | AO30: -1 | AP30: -1 | AQ30: -1 | AR30: -1 | AS30: -1 | AT30: -1 | AU30: 9.06 | AV30: 0 | AW30: -0.1 | AX30: 9.06 | AY30: 0 | AZ30: -0.1 | BA30: 11.56 | BB30: 0 | BC30: -0.43333333 | BD30: 10.56 | BE30: 0 | BF30: -0.1 | BG30: -1 | BH30: -1 | BI30: -1 | BJ30: -1 | BK30: 12.36 | BL30: -1 | BM30: -0.7 | BN30: -1 | BO30: -1 | BP30: -1 | BQ30: -1 | BR30: -1 | BS30: -1 | BT30: -1 | BU30: -1 | BV30: -1 | BW30: -1 | BX30: -1 | BY30: -1 | BZ30: 27.81 | CA30: 0 | CB30: -0.7 | CC30: 9.06 | CD30: 0 | CE30: -0.1 | CF30: StabilityInsideMStab (UpliftVan) | CG30: 11 | CH30: 0.91333333 | CI30: 13.91 | CJ30: 19.905 | CK30: 0 | CL30: 9.81 | CM30: 5.85 | CN30: 5.37 | CO30: 11 | CP30: 15 | CQ30: 50 | CR30: 50 | CS30: 5.85 | CT30: 5.37 | CU30: 16.85 | CV30: 20.37 | CW30: 66.85 | CX30: 70.37 | CY30: 10.85 | CZ30: 51.745873
A31: 123 | B31: 157_042_00027 | C31: OR_1.02_005D | D31: 1 | E31: 157_042_00007 | F31: 157 | G31: Vosse- en Weerlanerpolder | H31: \OR-1.02\OR-1.02-005B\OR-1.02-005B_HW_metbelasting.sti | I31: gedetailleerd | K31: BOEZEMKADE | L31: 157_042_00027 | M31: 157_042_00027.sti | N31: 1 | Q31: c | R31: -0.49 | S31: -2.2 | T31: 1.5 | U31: -0.1 | V31: 3 | W31: 3 | X31: -1.8 | Y31: -1.64 | Z31: -0.7 | AA31: 1.1 | AB31: -0.7 | AC31: -0.6 | AD31: 5 | AE31: III | AF31: 0.9 | AG31: 1.2 | AH31: 2.31 | AI31: 0 | AJ31: 0 | AK31: -1.64 | AL31: 4.44 | AM31: 0 | AN31: -1.64 | AO31: -1 | AP31: -1 | AQ31: -1 | AR31: -1 | AS31: -1 | AT31: -1 | AU31: 9.06 | AV31: 0 | AW31: -0.1 | AX31: 9.06 | AY31: 0 | AZ31: -0.1 | BA31: 11.56 | BB31: 0 | BC31: -0.43333333 | BD31: 10.56 | BE31: 0 | BF31: -0.1 | BG31: -1 | BH31: -1 | BI31: -1 | BJ31: -1 | BK31: 12.36 | BL31: -1 | BM31: -0.7 | BN31: -1 | BO31: -1 | BP31: -1 | BQ31: -1 | BR31: -1 | BS31: -1 | BT31: -1 | BU31: -1 | BV31: -1 | BW31: -1 | BX31: -1 | BY31: -1 | BZ31: 27.81 | CA31: 0 | CB31: -0.7 | CC31: 9.06 | CD31: 0 | CE31: -0.1 | CF31: StabilityInsideMStab (UpliftVan) | CG31: 11 | CH31: 0.91333333 | CI31: 13.91 | CJ31: 19.905 | CK31: 0 | CL31: 9.81 | CM31: 5.85 | CN31: 5.37 | CO31: 11 | CP31: 15 | CQ31: 50 | CR31: 50 | CS31: 5.85 | CT31: 5.37 | CU31: 16.85 | CV31: 20.37 | CW31: 66.85 | CX31: 70.37 | CY31: 10.85 | CZ31: 170.21585
A32: 124 | B32: 157_042_00030 | C32: OR_1.02_006A | D32: 1 | E32: 157_042_00010 | F32: 157 | G32: Vosse- en Weerlanerpolder | H32: \OR-1.02\OR-1.02-005H\OR-1.02-005H_HW_metbelasting.sti | I32: gedetailleerd | K32: BOEZEMKADE | L32: 157_042_00030 | M32: 157_042_00030.sti | N32: 1 | O32: drooglegging aangepast door Bouke d.d. 18 maart 2013 | Q32: c | R32: -0.49 | S32: -2.25 | T32: 1.5 | U32: -0.1 | V32: 3 | W32: 3 | X32: -1.45 | Y32: -1.64 | Z32: -0.06 | AA32: 1 | AB32: -0.45 | AC32: -0.6 | AD32: 5 | AE32: III | AF32: 0.9 | AG32: 0.85 | AH32: 3.08 | AI32: 0 | AJ32: 0 | AK32: -1.64 | AL32: 4.16 | AM32: 0 | AN32: -1.64 | AO32: -1 | AP32: -1 | AQ32: -1 | AR32: -1 | AS32: -1 | AT32: -1 | AU32: 8.78 | AV32: 0 | AW32: -0.1 | AX32: 8.78 | AY32: 0 | AZ32: -0.1 | BA32: 11.28 | BB32: 0 | BC32: -0.43333333 | BD32: 10.28 | BE32: 0 | BF32: -0.1 | BG32: -1 | BH32: -1 | BI32: -1 | BJ32: -1 | BK32: 11.33 | BL32: -1 | BM32: -0.45 | BN32: -1 | BO32: -1 | BP32: -1 | BQ32: -1 | BR32: -1 | BS32: -1 | BT32: -1 | BU32: -1 | BV32: -1 | BW32: -1 | BX32: -1 | BY32: -1 | BZ32: 26.08 | CA32: 0 | CB32: -0.45 | CC32: 8.78 | CD32: 0 | CE32: -0.1 | CF32: StabilityInsideMStab (Bishop) | CG32: 10 | CH32: 0.899 | CI32: 13.83 | CJ32: 19.76 | CK32: 0 | CL32: 9.53 | CM32: 4.8 | CN32: 5.37 | CO32: 11 | CP32: 15 | CQ32: 50 | CR32: 50 | CS32: 4.8 | CT32: 5.37 | CU32: 15.8 | CV32: 20.37 | CW32: 65.8 | CX32: 70.37 | CY32: 9.8 | CZ32: 231.98064
A33: 125 | B33: 157_042_00031 | C33: OR_1.02_006B | D33: 1 | E33: 157_042_00010 | F33: 157 | G33: Vosse- en Weerlanerpolder | H33: \OR-1.02\OR-1.02-005H\OR-1.02-005H_HW_metbelasting.sti | I33: gedetailleerd | K33: BOEZEMKADE | L33: 157_042_00031 | M33: 157_042_00031.sti | N33: 1 | O33: drooglegging aangepast door Bouke d.d. 18 maart 2013 | Q33: c | R33: -0.49 | S33: -2.25 | T33: 1.5 | U33: -0.1 | V33: 3 | W33: 3 | X33: -1.45 | Y33: -0.99 | Z33: -0.06 | AA33: 1 | AB33: -0.45 | AC33: -0.6 | AD33: 5 | AE33: III | AF33: 0.9 | AG33: 0.85 | AH33: 3.08 | AI33: 0 | AJ33: 0 | AK33: -0.99 | AL33: 6.16 | AM33: 0 | AN33: -0.99 | AO33: -1 | AP33: -1 | AQ33: -1 | AR33: -1 | AS33: -1 | AT33: -1 | AU33: 8.83 | AV33: 0 | AW33: -0.1 | AX33: 8.83 | AY33: 0 | AZ33: -0.1 | BA33: 11.33 | BB33: 0 | BC33: -0.43333333 | BD33: 10.33 | BE33: 0 | BF33: -0.1 | BG33: -1 | BH33: -1 | BI33: -1 | BJ33: -1 | BK33: 11.38 | BL33: -1 | BM33: -0.45 | BN33: -1 | BO33: -1 | BP33: -1 | BQ33: -1 | BR33: -1 | BS33: -1 | BT33: -1 | BU33: -1 | BV33: -1 | BW33: -1 | BX33: -1 | BY33: -1 | BZ33: 26.08 | CA33: 0 | CB33: -0.45 | CC33: 8.83 | CD33: 0 | CE33: -0.1 | CF33: StabilityInsideMStab (Bishop) | CG33: 10 | CH33: 0.899 | CI33: 13.88 | CJ33: 19.81 | CK33: 0 | CL33: 9.58 | CM33: 4.8 | CN33: 3.42 | CO33: 11 | CP33: 15 | CQ33: 50 | CR33: 50 | CS33: 4.8 | CT33: 3.42 | CU33: 15.8 | CV33: 18.42 | CW33: 65.8 | CX33: 68.42 | CY33: 9.8 | CZ33: 168.58293
A34: 126 | B34: 157_042_00033 | C34: OR_1.02_006D | D34: 1 | E34: 157_042_00010 | F34: 157 | G34: Vosse- en Weerlanerpolder | H34: \OR-1.02\OR-1.02-005H\OR-1.02-005H_HW_metbelasting.sti | I34: gedetailleerd | K34: BOEZEMKADE | L34: 157_042_00033 | M34: 157_042_00033.sti | N34: 1 | O34: drooglegging aangepast door Bouke d.d. 18 maart 2013 | Q34: c | R34: -0.49 | S34: -2.25 | T34: 1.5 | U34: -0.1 | V34: 3 | W34: 3 | X34: -1.45 | Y34: -1.14 | Z34: -0.06 | AA34: 1 | AB34: -0.45 | AC34: -0.6 | AD34: 5 | AE34: III | AF34: 0.9 | AG34: 0.85 | AH34: 3.08 | AI34: 0 | AJ34: 0 | AK34: -1.14 | AL34: 5.71 | AM34: 0 | AN34: -1.14 | AO34: -1 | AP34: -1 | AQ34: -1 | AR34: -1 | AS34: -1 | AT34: -1 | AU34: 8.83 | AV34: 0 | AW34: -0.1 | AX34: 8.83 | AY34: 0 | AZ34: -0.1 | BA34: 11.33 | BB34: 0 | BC34: -0.43333333 | BD34: 10.33 | BE34: 0 | BF34: -0.1 | BG34: -1 | BH34: -1 | BI34: -1 | BJ34: -1 | BK34: 11.38 | BL34: -1 | BM34: -0.45 | BN34: -1 | BO34: -1 | BP34: -1 | BQ34: -1 | BR34: -1 | BS34: -1 | BT34: -1 | BU34: -1 | BV34: -1 | BW34: -1 | BX34: -1 | BY34: -1 | BZ34: 26.08 | CA34: 0 | CB34: -0.45 | CC34: 8.83 | CD34: 0 | CE34: -0.1 | CF34: StabilityInsideMStab (Bishop) | CG34: 10 | CH34: 0.899 | CI34: 13.88 | CJ34: 19.81 | CK34: 0 | CL34: 9.58 | CM34: 4.8 | CN34: 3.87 | CO34: 11 | CP34: 15 | CQ34: 50 | CR34: 50 | CS34: 4.8 | CT34: 3.87 | CU34: 15.8 | CV34: 18.87 | CW34: 65.8 | CX34: 68.87 | CY34: 9.8 | CZ34: 77.675805
A35: 127 | B35: 157_042_00039 | C35: OR_1.02_009E | D35: 1 | E35: 157_042_00013 | F35: 157 | G35: Vosse- en Weerlanerpolder | H35: \OR-1.02\OR-1.02-009A\OR-1.02-009A_HW_metbelasting.sti | I35: gedetailleerd | K35: BOEZEMKADE | L35: 157_042_00039 | M35: 157_042_00039.sti | N35: 1 | O35: drooglegging aangepast door Bouke d.d. 18 maart 2013 | Q35: c | R35: -0.49 | S35: -1.6 | T35: 1.5 | U35: -0.1 | V35: 3 | W35: 3 | X35: -1.75 | Y35: -1.64 | Z35: -0.21 | AA35: 1 | AB35: -0.75 | AC35: -0.6 | AD35: 5 | AE35: III | AF35: 0.9 | AG35: 1.15 | AH35: 2.94 | AI35: 0 | AJ35: 0 | AK35: -1.64 | AL35: 1.32 | AM35: 0 | AN35: -1.64 | AO35: -1 | AP35: -1 | AQ35: -1 | AR35: -1 | AS35: -1 | AT35: -1 | AU35: 5.94 | AV35: 0 | AW35: -0.1 | AX35: 5.94 | AY35: 0 | AZ35: -0.1 | BA35: 8.44 | BB35: 0 | BC35: -0.43333333 | BD35: 7.44 | BE35: 0 | BF35: -0.1 | BG35: -1 | BH35: -1 | BI35: -1 | BJ35: -1 | BK35: 9.39 | BL35: -1 | BM35: -0.75 | BN35: -1 | BO35: -1 | BP35: -1 | BQ35: -1 | BR35: -1 | BS35: -1 | BT35: -1 | BU35: -1 | BV35: -1 | BW35: -1 | BX35: -1 | BY35: -1 | BZ35: 49.94 | CA35: 0 | CB35: -0.75 | CC35: 5.94 | CD35: 0 | CE35: -0.1 | CF35: StabilityInsideMStab (Bishop) | CG35: 11 | CH35: 1.169 | CI35: 10.94 | CJ35: 17.851 | CK35: 0 | CL35: 6.69 | CM35: 5.7 | CN35: 5.37 | CO35: 11 | CP35: 15 | CQ35: 50 | CR35: 50 | CS35: 5.7 | CT35: 5.37 | CU35: 16.7 | CV35: 20.37 | CW35: 66.7 | CX35: 70.37 | CY35: 10.7 | CZ35: 72.497094
A36: 128 | B36: 157_042_00038 | C36: OR_1.02_009D | D36: 1 | E36: 157_042_00013 | F36: 157 | G36: Vosse- en Weerlanerpolder | H36: \OR-1.02\OR-1.02-009D\OR-1.02-009D_HW_metbelasting.sti | I36: gedetailleerd | K36: BOEZEMKADE | L36: 157_042_00038 | M36: 157_042_00038.sti | N36: 1 | O36: drooglegging aangepast door Bouke d.d. 18 maart 2013 | Q36: c | R36: -0.49 | S36: -2.25 | T36: 1.5 | U36: -0.1 | V36: 3 | W36: 3 | X36: -1.75 | Y36: -1.64 | Z36: -0.21 | AA36: 1 | AB36: -0.75 | AC36: -0.6 | AD36: 13 | AE36: III | AF36: 0.9 | AG36: 1.15 | AH36: 0.66 | AI36: 0 | AJ36: 0 | AK36: -1.64 | AL36: 5.79 | AM36: 0 | AN36: -1.64 | AO36: -1 | AP36: -1 | AQ36: -1 | AR36: -1 | AS36: -1 | AT36: -1 | AU36: 10.41 | AV36: 0 | AW36: -0.1 | AX36: 10.41 | AY36: 0 | AZ36: -0.1 | BA36: 12.91 | BB36: 0 | BC36: -0.43333333 | BD36: 11.91 | BE36: 0 | BF36: -0.1 | BG36: -1 | BH36: -1 | BI36: -1 | BJ36: -1 | BK36: 13.86 | BL36: -1 | BM36: -0.75 | BN36: -1 | BO36: -1 | BP36: -1 | BQ36: -1 | BR36: -1 | BS36: -1 | BT36: -1 | BU36: -1 | BV36: -1 | BW36: -1 | BX36: -1 | BY36: -1 | BZ36: 48.66 | CA36: 0 | CB36: -0.75 | CC36: 10.41 | CD36: 0 | CE36: -0.1 | CF36: StabilityInsideMStab (UpliftVan) | CG36: 12 | CH36: 0.94380952 | CI36: 14.46 | CJ36: 19.695 | CK36: 0 | CL36: 11.16 | CM36: 5.7 | CN36: 5.37 | CO36: 11 | CP36: 15 | CQ36: 50 | CR36: 50 | CS36: 5.7 | CT36: 5.37 | CU36: 16.7 | CV36: 20.37 | CW36: 66.7 | CX36: 70.37 | CY36: 10.7 | CZ36: 68.643951
A37: 129 | B37: 242_042_00041 | C37: WW_09_32_01B | D37: 1 | E37: 242_042_00026 | F37: 242 | G37: Polder Groenendijk | H37: \WW-09\WW-09-32-01B\WW-09-32-01B_hoogwater_metbelasting.sti | I37: gedetailleerd | K37: POLDERKADE | L37: 242_042_00041 | M37: 242_042_00041.sti | N37: 1 | Q37: c | R37: -0.44 | S37: -2.4 | T37: 1.5 | U37: -0.2 | V37: 3 | W37: 3 | X37: -2.4 | Y37: -1.52 | Z37: -1.52 | AA37: 0.88 | AB37: -1.52 | AC37: -0.6 | AD37: 5 | AE37: III | AF37: 0.9 | AG37: 1.8 | AH37: 5 | AI37: 0 | AJ37: 0 | AK37: -1.52 | AL37: 5.04 | AM37: 0 | AN37: -1.52 | AO37: -1 | AP37: -1 | AQ37: -1 | AR37: -1 | AS37: -1 | AT37: -1 | AU37: 9 | AV37: 0 | AW37: -0.2 | AX37: 9 | AY37: 0 | AZ37: -0.2 | BA37: 11.5 | BB37: 0 | BC37: -0.53333333 | BD37: 10.5 | BE37: 0 | BF37: -0.2 | BG37: -1 | BH37: -1 | BI37: -1 | BJ37: -1 | BK37: 14.46 | BL37: -1 | BM37: -1.52 | BN37: -1 | BO37: -1 | BP37: -1 | BQ37: -1 | BR37: -1 | BS37: -1 | BT37: -1 | BU37: -1 | BV37: -1 | BW37: -1 | BX37: -1 | BY37: -1 | BZ37: 70.5 | CA37: 0 | CB37: -1.52 | CC37: 9 | CD37: 0 | CE37: -0.2 | CF37: StabilityInsideMStab (Bishop) | CG37: 12 | CH37: 1.003 | CI37: 15.06 | CJ37: 20.699 | CK37: 0 | CL37: 9.75 | CM37: 7.35 | CN37: 4.71 | CO37: 11 | CP37: 15 | CQ37: 50 | CR37: 50 | CS37: 7.35 | CT37: 4.71 | CU37: 18.35 | CV37: 19.71 | CW37: 68.35 | CX37: 69.71 | CY37: 12.35 | CZ37: 666.66381
A38: 130 | B38: 055_042_00009 | C38: OR_3.27_003 | D38: 1 | E38: 055_042_00009 | F38: 055 | G38: Hoogmadesepolder | H38: \OR-3.27\STBI\003\003_STBI_hoogwater_metbelasting.sti | I38: gedetailleerd | J38: is ander peilvak | K38: BOEZEMKADE | L38: 055_042_00009 | M38: 055_042_00009.sti | N38: 1 | Q38: b | R38: -0.45 | S38: -2.25 | T38: 1.5 | U38: -0.1 | V38: 4 | W38: 3 | X38: -2.31 | Y38: -1.14 | Z38: -1.83 | AA38: 0.5 | AB38: -1.81 | AC38: -0.6 | AD38: 13 | AE38: III | AF38: 0.9 | AG38: 1.71 | AH38: 10.49 | AI38: 0 | AJ38: 0 | AK38: -1.14 | AL38: 22.115 | AM38: 0 | AN38: -1.14 | AO38: -1 | AP38: -1 | AQ38: -1 | AR38: -1 | AS38: -1 | AT38: -1 | AU38: 25.235 | AV38: 0 | AW38: -0.1 | AX38: 25.235 | AY38: 0 | AZ38: -0.1 | BA38: 27.735 | BB38: 0 | BC38: -0.35 | BD38: 26.735 | BE38: 0 | BF38: -0.1 | BG38: -1 | BH38: -1 | BI38: -1 | BJ38: -1 | BK38: 33.575 | BL38: -1 | BM38: -1.81 | BN38: -1 | BO38: -1 | BP38: -1 | BQ38: -1 | BR38: -1 | BS38: -1 | BT38: -1 | BU38: -1 | BV38: -1 | BW38: -1 | BX38: -1 | BY38: -1 | BZ38: 52.2 | CA38: 0 | CB38: -1.81 | CC38: 25.235 | CD38: 0 | CE38: -0.1 | CF38: StabilityInsideMStab (Bishop) | CG38: 0 | CH38: 0.92 | CI38: 38.2 | CJ38: 35.67 | CK38: 0 | CL38: 25.985 | CM38: 9.59 | CN38: 3.87 | CO38: 11 | CP38: 15 | CQ38: 50 | CR38: 50 | CS38: 9.59 | CT38: 3.87 | CU38: 20.59 | CV38: 18.87 | CW38: 70.59 | CX38: 68.87 | CY38: 14.59 | CZ38: 86.891478
A39: 131 | B39: 055_042_00010 | C39: OR_3.27_005a | D39: 1 | E39: 055_042_00010 | F39: 055 | G39: Hoogmadesepolder | H39: \OR-3.27\STBI\005a\005a_STBI_hoogwater_metbelasting.sti | I39: gedetailleerd | K39: BOEZEMKADE | L39: 055_042_00010 | M39: 055_042_00010.sti | N39: 1 | Q39: b | R39: -0.44 | S39: -2.25 | T39: 1.5 | U39: -0.1 | V39: 3 | W39: 3 | X39: -2.31 | Y39: -1.64 | Z39: -1.83 | AA39: 0.5 | AB39: -1.81 | AC39: -0.6 | AD39: 13 | AE39: III | AF39: 0.9 | AG39: 1.71 | AH39: 0.05 | AI39: 0 | AJ39: 0 | AK39: -1.64 | AL39: 8.18 | AM39: 0 | AN39: -1.64 | AO39: -1 | AP39: -1 | AQ39: -1 | AR39: -1 | AS39: -1 | AT39: -1 | AU39: 12.8 | AV39: 0 | AW39: -0.1 | AX39: 12.8 | AY39: 0 | AZ39: -0.1 | BA39: 15.3 | BB39: 0 | BC39: -0.43333333 | BD39: 14.3 | BE39: 0 | BF39: -0.1 | BG39: -1 | BH39: -1 | BI39: -1 | BJ39: -1 | BK39: 19.43 | BL39: -1 | BM39: -1.81 | BN39: -1 | BO39: -1 | BP39: -1 | BQ39: -1 | BR39: -1 | BS39: -1 | BT39: -1 | BU39: -1 | BV39: -1 | BW39: -1 | BX39: -1 | BY39: -1 | BZ39: 40.05 | CA39: 0 | CB39: -1.81 | CC39: 12.8 | CD39: 0 | CE39: -0.1 | CF39: StabilityInsideMStab (Bishop) | CG39: 12 | CH39: 1.073 | CI39: 20.03 | CJ39: 22.277 | CK39: 0 | CL39: 13.55 | CM39: 7.38 | CN39: 5.37 | CO39: 11 | CP39: 15 | CQ39: 50 | CR39: 50 | CS39: 7.38 | CT39: 5.37 | CU39: 18.38 | CV39: 20.37 | CW39: 68.38 | CX39: 70.37 | CY39: 12.38 | CZ39: 704.27047
A40: 132 | B40: 055_042_00033 | C40: OR_3.27_006a | D40: 1 | E40: 055_042_00013 | F40: 055 | G40: Hoogmadesepolder | H40: \OR-3.27\STBI\006a\006a_STBI_hoogwater_metbelasting.sti | I40: gedetailleerd | K40: BOEZEMKADE | L40: 055_042_00033 | M40: 055_042_00033.sti | N40: 1 | Q40: b | R40: -0.45 | S40: -2.25 | T40: 1.5 | U40: -0.1 | V40: 3 | W40: 3 | X40: -2.38 | Y40: -2.14 | Z40: -1.75 | AA40: 0.63 | AB40: -1.75 | AC40: -0.6 | AD40: 5 | AE40: III | AF40: 0.9 | AG40: 1.78 | AH40: 6.46 | AI40: 0 | AJ40: 0 | AK40: -2.14 | AL40: 4.34 | AM40: 0 | AN40: -2.14 | AO40: -1 | AP40: -1 | AQ40: -1 | AR40: -1 | AS40: -1 | AT40: -1 | AU40: 10.46 | AV40: 0 | AW40: -0.1 | AX40: 10.46 | AY40: 0 | AZ40: -0.1 | BA40: 12.96 | BB40: 0 | BC40: -0.43333333 | BD40: 11.96 | BE40: 0 | BF40: -0.1 | BG40: -1 | BH40: -1 | BI40: -1 | BJ40: -1 | BK40: 16.91 | BL40: -1 | BM40: -1.75 | BN40: -1 | BO40: -1 | BP40: -1 | BQ40: -1 | BR40: -1 | BS40: -1 | BT40: -1 | BU40: -1 | BV40: -1 | BW40: -1 | BX40: -1 | BY40: -1 | BZ40: 46.46 | CA40: 0 | CB40: -1.75 | CC40: 10.46 | CD40: 0 | CE40: -0.1 | CF40: StabilityInsideMStab (Bishop) | CG40: 6 | CH40: 0.983 | CI40: 23.21 | CJ40: 28.919 | CK40: 0 | CL40: 11.21 | CM40: 7.59 | CN40: 6.87 | CO40: 11 | CP40: 15 | CQ40: 50 | CR40: 50 | CS40: 7.59 | CT40: 6.87 | CU40: 18.59 | CV40: 21.87 | CW40: 68.59 | CX40: 71.87 | CY40: 12.59 | CZ40: 796.80592
A41: 133 | B41: 055_042_00035 | C41: OR_3.27_007a | D41: 1 | E41: 055_042_00014 | F41: 055 | G41: Hoogmadesepolder | H41: \OR-3.27\STBI\007a\007a_STBI_hoogwater_metbelasting.sti | I41: gedetailleerd | K41: POLDERKADE | L41: 055_042_00035 | M41: 055_042_00035.sti | N41: 1 | Q41: b | R41: -0.68 | S41: -2.25 | T41: 1.5 | U41: -0.43 | V41: 3 | W41: 3 | X41: -2.38 | Y41: -1.35 | Z41: -1.75 | AA41: 0.63 | AB41: -1.75 | AC41: -0.83 | AD41: 5 | AE41: III | AF41: 0.9 | AG41: 1.55 | AH41: 2 | AI41: 0 | AJ41: 0 | AK41: -1.35 | AL41: 5.74 | AM41: 0 | AN41: -1.35 | AO41: -1 | AP41: -1 | AQ41: -1 | AR41: -1 | AS41: -1 | AT41: -1 | AU41: 8.5 | AV41: 0 | AW41: -0.43 | AX41: 8.5 | AY41: 0 | AZ41: -0.43 | BA41: 11 | BB41: 0 | BC41: -0.76333333 | BD41: 10 | BE41: 0 | BF41: -0.43 | BG41: -1 | BH41: -1 | BI41: -1 | BJ41: -1 | BK41: 13.96 | BL41: -1 | BM41: -1.75 | BN41: -1 | BO41: -1 | BP41: -1 | BQ41: -1 | BR41: -1 | BS41: -1 | BT41: -1 | BU41: -1 | BV41: -1 | BW41: -1 | BX41: -1 | BY41: -1 | BZ41: 32 | CA41: 0 | CB41: -1.75 | CC41: 8.5 | CD41: 0 | CE41: -0.43 | CF41: StabilityInsideMStab (Bishop) | CG41: 10 | CH41: 0.938 | CI41: 16.46 | CJ41: 20.087 | CK41: 0 | CL41: 9.25 | CM41: 6.6 | CN41: 3.51 | CO41: 11 | CP41: 15 | CQ41: 50 | CR41: 50 | CS41: 6.6 | CT41: 3.51 | CU41: 17.6 | CV41: 18.51 | CW41: 67.6 | CX41: 68.51 | CY41: 11.6 | CZ41: 1443.9441
A42: 134 | B42: 055_042_00040 | C42: OR_3.27_011e | D42: 1 | E42: 055_042_00021 | F42: 055 | G42: Hoogmadesepolder | H42: \OR-3.27\STBI\011e\011e_STBI_hoogwater_metbelasting.sti | I42: gedetailleerd | K42: BOEZEMKADE | L42: 055_042_00040 | M42: 055_042_00040.sti | N42: 1 | Q42: b | R42: -0.45 | S42: -2.25 | T42: 1.5 | U42: -0.1 | V42: 3.5 | W42: 3 | X42: -2.31 | Y42: -1.64 | Z42: -1.83 | AA42: 0.5 | AB42: -1.81 | AC42: -0.6 | AD42: 13 | AE42: III | AF42: 0.9 | AG42: 1.71 | AH42: 5.79 | AI42: 0 | AJ42: 0 | AK42: -1.64 | AL42: 6.67 | AM42: 0 | AN42: -1.64 | AO42: -1 | AP42: -1 | AQ42: -1 | AR42: -1 | AS42: -1 | AT42: -1 | AU42: 11.29 | AV42: 0 | AW42: -0.1 | AX42: 11.29 | AY42: 0 | AZ42: -0.1 | BA42: 13.79 | BB42: 0 | BC42: -0.38571429 | BD42: 12.79 | BE42: 0 | BF42: -0.1 | BG42: -1 | BH42: -1 | BI42: -1 | BJ42: -1 | BK42: 18.775 | BL42: -1 | BM42: -1.81 | BN42: -1 | BO42: -1 | BP42: -1 | BQ42: -1 | BR42: -1 | BS42: -1 | BT42: -1 | BU42: -1 | BV42: -1 | BW42: -1 | BX42: -1 | BY42: -1 | BZ42: 36.645 | CA42: 0 | CB42: -1.81 | CC42: 11.29 | CD42: 0 | CE42: -0.1 | CF42: StabilityInsideMStab (Bishop) | CG42: 2 | CH42: 0.926 | CI42: 20.745 | CJ42: 22.045 | CK42: 0 | CL42: 12.04 | CM42: 8.485 | CN42: 5.37 | CO42: 11 | CP42: 15 | CQ42: 50 | CR42: 50 | CS42: 8.485 | CT42: 5.37 | CU42: 19.485 | CV42: 20.37 | CW42: 69.485 | CX42: 70.37 | CY42: 13.485 | CZ42: 79.7445
A43: 135 | B43: 021_042_00013 | C43: OR_3.18_007A | D43: 1 | E43: 021_042_00005 | F43: 021 | G43: Doespolder | H43: \Verschoven_MStab\Doespolder007A_HW_VK5.sti | I43: gedetailleerd | K43: BOEZEMKADE | L43: 021_042_00013 | M43: 021_042_00013_V.sti | N43: 1 | O43: Mstab verschoven | Q43: a | R43: -0.44 | S43: -2.2 | T43: 1.5 | U43: -0.1 | V43: 3 | W43: 2.5 | X43: -2.25 | Y43: -1.64 | Z43: -1.49 | AA43: 0.76 | AB43: -1.49 | AC43: -0.6 | AD43: 5 | AE43: III | AF43: 0.9 | AG43: 1.65 | AH43: 10 | AI43: 0 | AJ43: 0 | AK43: -1.64 | AL43: 6.65 | AM43: 0 | AN43: -1.64 | AO43: -1 | AP43: -1 | AQ43: -1 | AR43: -1 | AS43: -1 | AT43: -1 | AU43: 10.5 | AV43: 0 | AW43: -0.1 | AX43: 10.5 | AY43: 0 | AZ43: -0.1 | BA43: 13 | BB43: 0 | BC43: -0.43333333 | BD43: 12 | BE43: 0 | BF43: -0.1 | BG43: -1 | BH43: -1 | BI43: -1 | BJ43: -1 | BK43: 16.17 | BL43: -1 | BM43: -1.49 | BN43: -1 | BO43: -1 | BP43: -1 | BQ43: -1 | BR43: -1 | BS43: -1 | BT43: -1 | BU43: -1 | BV43: -1 | BW43: -1 | BX43: -1 | BY43: -1 | BZ43: 24.298 | CA43: 0 | CB43: -1.49 | CC43: 10.5 | CD43: 0 | CE43: -0.1 | CF43: StabilityInsideMStab (Bishop) | CG43: 9 | CH43: 0.896 | CI43: 19.62 | CJ43: 24.39 | CK43: 0 | CL43: 11.25 | CM43: 7.2 | CN43: 4.6 | CO43: 11 | CP43: 15 | CQ43: 50 | CR43: 50 | CS43: 7.2 | CT43: 4.6 | CU43: 18.2 | CV43: 19.6 | CW43: 68.2 | CX43: 69.6 | CY43: 12.2 | CZ43: 205.41889
A44: 136 | B44: 049_042_00030 | C44: OR_3.24_004A | D44: 1 | E44: 049_042_00004 | F44: 049 | G44: Hemmeerpolder | H44: \OR-3.24\STBI hoogwater\OR-3.24-004A\OR-3.24-004A_hoogwater_met_belasting.sti | I44: gedetailleerd | K44: BOEZEMKADE | L44: 049_042_00030 | M44: 049_042_00030.sti | N44: 1 | Q44: b | R44: -0.51 | S44: -1.3 | T44: 1.5 | U44: -0.1 | V44: 3 | W44: 2.5 | X44: -1.7 | Y44: -4.04 | Z44: -1.27 | AA44: 0.5 | AB44: -1.2 | AC44: -0.6 | AD44: 5 | AE44: III | AF44: 0.9 | AG44: 1.1 | AH44: 30.365 | AI44: 0 | AJ44: 0 | AK44: -4.04 | AL44: 19.515 | AM44: 0 | AN44: -4.04 | AO44: -1 | AP44: -1 | AQ44: -1 | AR44: -1 | AS44: -1 | AT44: -1 | AU44: 29.365 | AV44: 0 | AW44: -0.1 | AX44: 29.365 | AY44: 0 | AZ44: -0.1 | BA44: 31.865 | BB44: 0 | BC44: -0.43333333 | BD44: 30.865 | BE44: 0 | BF44: -0.1 | BG44: -1 | BH44: -1 | BI44: -1 | BJ44: -1 | BK44: 34.165 | BL44: -1 | BM44: -1.2 | BN44: -1 | BO44: -1 | BP44: -1 | BQ44: -1 | BR44: -1 | BS44: -1 | BT44: -1 | BU44: -1 | BV44: -1 | BW44: -1 | BX44: -1 | BY44: -1 | BZ44: 47.187 | CA44: 0 | CB44: -1.2 | CC44: 29.365 | CD44: 0 | CE44: -0.1 | CF44: StabilityInsideMStab (Bishop) | CG44: 11 | CH44: 0.926 | CI44: 35.715 | CJ44: 38.132 | CK44: 0 | CL44: 30.115 | CM44: 5.55 | CN44: 10.6 | CO44: 11 | CP44: 15 | CQ44: 50 | CR44: 50 | CS44: 5.55 | CT44: 10.6 | CU44: 16.55 | CV44: 25.6 | CW44: 66.55 | CX44: 75.6 | CY44: 10.55 | CZ44: 1132.9957
A45: 137 | B45: 049_042_00011 | C45: OR_3.24_010 | D45: 1 | E45: 049_042_00011 | F45: 049 | G45: Hemmeerpolder | H45: \OR-3.24\STBI hoogwater\OR-3.24-010\OR-3.24-010_hoogwater_met_belasting (zonder kopsloot).sti | I45: gedetailleerd | K45: BOEZEMKADE | L45: 049_042_00011 | M45: 049_042_00011.sti | N45: 1 | O45: drooglegging aangepast door Bouke d.d. 18 maart 2013 | Q45: b | R45: -0.51 | S45: -1.3 | T45: 1.5 | U45: -0.1 | V45: 3 | W45: 2 | X45: -1.3 | Y45: -2.14 | Z45: -0.01 | AA45: 0.5 | AB45: -0.8 | AC45: -0.6 | AD45: 5 | AE45: III | AF45: 0.9 | AG45: 0.7 | AH45: 19.644 | AI45: 0 | AJ45: 0 | AK45: -2.14 | AL45: 14.314 | AM45: 0 | AN45: -2.14 | AO45: -1 | AP45: -1 | AQ45: -1 | AR45: -1 | AS45: -1 | AT45: -1 | AU45: 18.394 | AV45: 0 | AW45: -0.1 | AX45: 18.394 | AY45: 0 | AZ45: -0.1 | BA45: 20.894 | BB45: 0 | BC45: -0.43333333 | BD45: 19.894 | BE45: 0 | BF45: -0.1 | BG45: -1 | BH45: -1 | BI45: -1 | BJ45: -1 | BK45: 21.994 | BL45: -1 | BM45: -0.8 | BN45: -1 | BO45: -1 | BP45: -1 | BQ45: -1 | BR45: -1 | BS45: -1 | BT45: -1 | BU45: -1 | BV45: -1 | BW45: -1 | BX45: -1 | BY45: -1 | BZ45: 31.196 | CA45: 0 | CB45: -0.8 | CC45: 18.394 | CD45: 0 | CE45: -0.1 | CF45: StabilityInsideMStab (Bishop) | CG45: 11 | CH45: 0.989 | CI45: 23.544 | CJ45: 28.229 | CK45: 0 | CL45: 19.144 | CM45: 4.35 | CN45: 4.83 | CO45: 11 | CP45: 15 | CQ45: 50 | CR45: 50 | CS45: 4.35 | CT45: 4.83 | CU45: 15.35 | CV45: 19.83 | CW45: 65.35 | CX45: 69.83 | CY45: 9.35 | CZ45: 224.96405
A46: 140 | B46: 016_042_00031 | C46: OR_3.15_003M | D46: 1 | E46: 016_042_00013 | F46: 016 | G46: Polder Boterhuis | H46: \OR-3.15\STBI\Hoogwater\STBI_003M_HW_metbelasting.sti | I46: gedetailleerd | J46: inclusief deel 016-042-00014 | K46: BOEZEMKADE | L46: 016_042_00031 | M46: 016_042_00031.sti | N46: 1 | Q46: a | R46: -0.48 | S46: -1.6 | T46: 1.5 | U46: -0.1 | V46: 3 | W46: 2 | X46: -2.24 | Y46: -4.04 | Z46: -1.67 | AA46: 0.57 | AB46: -1.67 | AC46: -0.6 | AD46: 13 | AE46: III | AF46: 0.9 | AG46: 1.64 | AH46: 4 | AI46: 0 | AJ46: 0 | AK46: -4.04 | AL46: 4.6585 | AM46: 0 | AN46: -4.04 | AO46: -1 | AP46: -1 | AQ46: -1 | AR46: -1 | AS46: -1 | AT46: -1 | AU46: 12.5385 | AV46: 0 | AW46: -0.1 | AX46: 12.5385 | AY46: 0 | AZ46: -0.1 | BA46: 15.0385 | BB46: 0 | BC46: -0.43333333 | BD46: 14.0385 | BE46: 0 | BF46: -0.1 | BG46: -1 | BH46: -1 | BI46: -1 | BJ46: -1 | BK46: 18.7485 | BL46: -1 | BM46: -1.67 | BN46: -1 | BO46: -1 | BP46: -1 | BQ46: -1 | BR46: -1 | BS46: -1 | BT46: -1 | BU46: -1 | BV46: -1 | BW46: -1 | BX46: -1 | BY46: -1 | BZ46: 45 | CA46: 0 | CB46: -1.67 | CC46: 12.5385 | CD46: 0 | CE46: -0.1 | CF46: StabilityInsideMStab (Bishop) | CG46: 8 | CH46: 0.915 | CI46: 23.1485 | CJ46: 25.472 | CK46: 0 | CL46: 13.2885 | CM46: 7.17 | CN46: 8.63 | CO46: 11 | CP46: 15 | CQ46: 50 | CR46: 50 | CS46: 7.17 | CT46: 8.63 | CU46: 18.17 | CV46: 23.63 | CW46: 68.17 | CX46: 73.63 | CY46: 12.17 | CZ46: 121.00582
A47: 141 | B47: 016_042_00033 | C47: OR_3.15_003O | D47: 1 | E47: 016_042_00015 | F47: 016 | G47: Polder Boterhuis | H47: \OR-3.15\STBI\Hoogwater\STBI_003O_HW_metbelasting.sti | I47: gedetailleerd | K47: BOEZEMKADE | L47: 016_042_00033 | M47: 016_042_00033.sti | N47: 1 | Q47: a | R47: -0.48 | S47: -1.6 | T47: 1.5 | U47: -0.1 | V47: 3 | W47: 2 | X47: -2.24 | Y47: -2.14 | Z47: -1.67 | AA47: 0.57 | AB47: -1.67 | AC47: -0.6 | AD47: 5 | AE47: III | AF47: 0.9 | AG47: 1.64 | AH47: 0 | AI47: 0 | AJ47: 0 | AK47: -2.14 | AL47: 20.92 | AM47: 0 | AN47: -2.14 | AO47: -1 | AP47: -1 | AQ47: -1 | AR47: -1 | AS47: -1 | AT47: -1 | AU47: 25 | AV47: 0 | AW47: -0.1 | AX47: 25 | AY47: 0 | AZ47: -0.1 | BA47: 27.5 | BB47: 0 | BC47: -0.43333333 | BD47: 26.5 | BE47: 0 | BF47: -0.1 | BG47: -1 | BH47: -1 | BI47: -1 | BJ47: -1 | BK47: 31.21 | BL47: -1 | BM47: -1.67 | BN47: -1 | BO47: -1 | BP47: -1 | BQ47: -1 | BR47: -1 | BS47: -1 | BT47: -1 | BU47: -1 | BV47: -1 | BW47: -1 | BX47: -1 | BY47: -1 | BZ47: 58.5 | CA47: 0 | CB47: -1.67 | CC47: 25 | CD47: 0 | CE47: -0.1 | CF47: StabilityInsideMStab (Bishop) | CG47: 10 | CH47: 0.962 | CI47: 33.71 | CJ47: 35.748 | CK47: 0 | CL47: 25.75 | CM47: 7.17 | CN47: 4.83 | CO47: 11 | CP47: 15 | CQ47: 50 | CR47: 50 | CS47: 7.17 | CT47: 4.83 | CU47: 18.17 | CV47: 19.83 | CW47: 68.17 | CX47: 69.83 | CY47: 12.17 | CZ47: 163.80449
A48: 143 | B48: 010_042_00001 | C48: OR_3.13_001 | D48: 1 | E48: 010_042_00001 | F48: 010 | G48: Blauwe Polder | H48: \OR-3.13\OR3.13-001\001_STBI_hoogwater_metvb.sti | I48: gedetailleerd | K48: BOEZEMKADE | L48: 010_042_00001 | M48: 010_042_00001.sti | N48: 1 | Q48: a | R48: -0.46 | S48: -2.5 | T48: 1.5 | U48: -0.1 | V48: 3 | W48: 3 | X48: -2.23 | Y48: -2.14 | Z48: -1.71 | AA48: 0.52 | AB48: -1.71 | AC48: -0.6 | AD48: 5 | AE48: III | AF48: 0.9 | AG48: 1.63 | AH48: 6.2 | AI48: 0 | AJ48: 0 | AK48: -2.14 | AL48: 2.08 | AM48: 0 | AN48: -2.14 | AO48: -1 | AP48: -1 | AQ48: -1 | AR48: -1 | AS48: -1 | AT48: -1 | AU48: 8.2 | AV48: 0 | AW48: -0.1 | AX48: 8.2 | AY48: 0 | AZ48: -0.1 | BA48: 10.7 | BB48: 0 | BC48: -0.43333333 | BD48: 9.7 | BE48: 0 | BF48: -0.1 | BG48: -1 | BH48: -1 | BI48: -1 | BJ48: -1 | BK48: 14.53 | BL48: -1 | BM48: -1.71 | BN48: -1 | BO48: -1 | BP48: -1 | BQ48: -1 | BR48: -1 | BS48: -1 | BT48: -1 | BU48: -1 | BV48: -1 | BW48: -1 | BX48: -1 | BY48: -1 | BZ48: 36.474 | CA48: 0 | CB48: -1.71 | CC48: 8.2 | CD48: 0 | CE48: -0.1 | CF48: StabilityInsideMStab (UpliftVan) | CG48: 7 | CH48: 0.9 | CI48: 19.88 | CJ48: 25.864 | CK48: 0 | CL48: 8.95 | CM48: 7.14 | CN48: 6.87 | CO48: 11 | CP48: 15 | CQ48: 50 | CR48: 50 | CS48: 7.14 | CT48: 6.87 | CU48: 18.14 | CV48: 21.87 | CW48: 68.14 | CX48: 71.87 | CY48: 12.14 | CZ48: 240.95541
A49: 144 | B49: 010_042_00008 | C49: OR_3.13_002C | D49: 1 | E49: 010_042_00002 | F49: 010 | G49: Blauwe Polder | H49: \OR-3.13\OR3.13_002c\002C_STBI_hoogwater_metvk.sti | I49: gedetailleerd | K49: POLDERKADE | L49: 010_042_00008 | M49: 010_042_00008.sti | N49: 1 | O49: Toetspeil_aangepast_BRR | Q49: a | R49: -0.75 | S49: -2.5 | T49: 1.5 | U49: -0.43 | V49: 3 | W49: 3 | X49: -2.23 | Y49: -1.35 | Z49: -1.71 | AA49: 0.52 | AB49: -1.71 | AC49: -0.83 | AD49: 5 | AE49: III | AF49: 0.9 | AG49: 1.4 | AH49: 0 | AI49: 0 | AJ49: 0 | AK49: -1.35 | AL49: 5.99 | AM49: 0 | AN49: -1.35 | AO49: -1 | AP49: -1 | AQ49: -1 | AR49: -1 | AS49: -1 | AT49: -1 | AU49: 8.75 | AV49: 0 | AW49: -0.43 | AX49: 8.75 | AY49: 0 | AZ49: -0.43 | BA49: 11.25 | BB49: 0 | BC49: -0.76333333 | BD49: 10.25 | BE49: 0 | BF49: -0.43 | BG49: -1 | BH49: -1 | BI49: -1 | BJ49: -1 | BK49: 14.09 | BL49: -1 | BM49: -1.71 | BN49: -1 | BO49: -1 | BP49: -1 | BQ49: -1 | BR49: -1 | BS49: -1 | BT49: -1 | BU49: -1 | BV49: -1 | BW49: -1 | BX49: -1 | BY49: -1 | BZ49: 35 | CA49: 0 | CB49: -1.71 | CC49: 8.75 | CD49: 0 | CE49: -0.43 | CF49: StabilityInsideMStab (Bishop) | CG49: 11 | CH49: 0.905 | CI49: 15.64 | CJ49: 20.223 | CK49: 0 | CL49: 9.5 | CM49: 6.15 | CN49: 3.51 | CO49: 11 | CP49: 15 | CQ49: 50 | CR49: 50 | CS49: 6.15 | CT49: 3.51 | CU49: 17.15 | CV49: 18.51 | CW49: 67.15 | CX49: 68.51 | CY49: 11.15 | CZ49: 420.86148
A50: 145 | B50: 010_042_00004 | C50: OR_3.13_004 | D50: 1 | E50: 010_042_00004 | F50: 010 | G50: Blauwe Polder | H50: \OR-3.13\OR3.13_004\004_STBI_hoogwater_metvk_zonderkopsloot.sti | I50: gedetailleerd | K50: BOEZEMKADE | L50: 010_042_00004 | M50: 010_042_00004.sti | N50: 1 | Q50: a | R50: -0.47 | S50: -2 | T50: 1.5 | U50: -0.1 | V50: 3 | W50: 3 | X50: -2.34 | Y50: -2.14 | Z50: -1.8 | AA50: 0.54 | AB50: -1.8 | AC50: -0.6 | AD50: 5 | AE50: III | AF50: 0.9 | AG50: 1.74 | AH50: 0 | AI50: 0 | AJ50: 0 | AK50: -2.14 | AL50: 1.13 | AM50: 0 | AN50: -2.14 | AO50: -1 | AP50: -1 | AQ50: -1 | AR50: -1 | AS50: -1 | AT50: -1 | AU50: 7.25 | AV50: 0 | AW50: -0.1 | AX50: 7.25 | AY50: 0 | AZ50: -0.1 | BA50: 9.75 | BB50: 0 | BC50: -0.43333333 | BD50: 8.75 | BE50: 0 | BF50: -0.1 | BG50: -1 | BH50: -1 | BI50: -1 | BJ50: -1 | BK50: 13.85 | BL50: -1 | BM50: -1.8 | BN50: -1 | BO50: -1 | BP50: -1 | BQ50: -1 | BR50: -1 | BS50: -1 | BT50: -1 | BU50: -1 | BV50: -1 | BW50: -1 | BX50: -1 | BY50: -1 | BZ50: 29 | CA50: 0 | CB50: -1.8 | CC50: 7.25 | CD50: 0 | CE50: -0.1 | CF50: StabilityInsideMStab (UpliftVan) | CG50: 8 | CH50: 0.89904762 | CI50: 18.25 | CJ50: 23.534 | CK50: 0 | CL50: 8 | CM50: 7.47 | CN50: 6.87 | CO50: 11 | CP50: 15 | CQ50: 50 | CR50: 50 | CS50: 7.47 | CT50: 6.87 | CU50: 18.47 | CV50: 21.87 | CW50: 68.47 | CX50: 71.87 | CY50: 12.47 | CZ50: 711.41054
A51: 146 | B51: 010_042_00006 | C51: OR_3.13_002A | D51: 1 | E51: 010_042_00002 | F51: 010 | G51: Blauwe Polder | H51: \OR-3.13\OR3.13_002a\002a_STBI_hoogwater_metvk.sti | I51: gedetailleerd | K51: POLDERKADE | L51: 010_042_00006 | M51: 010_042_00006.sti | N51: 1 | Q51: a | R51: -0.76 | S51: -2.5 | T51: 1.5 | U51: -0.43 | V51: 3 | W51: 3 | X51: -2.23 | Y51: -1.35 | Z51: -1.71 | AA51: 0.52 | AB51: -1.71 | AC51: -0.83 | AD51: 5 | AE51: III | AF51: 0.9 | AG51: 1.4 | AH51: 0 | AI51: 0 | AJ51: 0 | AK51: -1.35 | AL51: 1.99 | AM51: 0 | AN51: -1.35 | AO51: -1 | AP51: -1 | AQ51: -1 | AR51: -1 | AS51: -1 | AT51: -1 | AU51: 4.75 | AV51: 0 | AW51: -0.43 | AX51: 4.75 | AY51: 0 | AZ51: -0.43 | BA51: 7.25 | BB51: 0 | BC51: -0.76333333 | BD51: 6.25 | BE51: 0 | BF51: -0.43 | BG51: -1 | BH51: -1 | BI51: -1 | BJ51: -1 | BK51: 10.09 | BL51: -1 | BM51: -1.71 | BN51: -1 | BO51: -1 | BP51: -1 | BQ51: -1 | BR51: -1 | BS51: -1 | BT51: -1 | BU51: -1 | BV51: -1 | BW51: -1 | BX51: -1 | BY51: -1 | BZ51: 35 | CA51: 0 | CB51: -1.71 | CC51: 4.75 | CD51: 0 | CE51: -0.43 | CF51: StabilityInsideMStab (UpliftVan) | CG51: 9 | CH51: 0.8952381 | CI51: 13.54 | CJ51: 17.835 | CK51: 0 | CL51: 5.5 | CM51: 6.15 | CN51: 3.51 | CO51: 11 | CP51: 15 | CQ51: 50 | CR51: 50 | CS51: 6.15 | CT51: 3.51 | CU51: 17.15 | CV51: 18.51 | CW51: 67.15 | CX51: 68.51 | CY51: 11.15 | CZ51: 487.99598
A52: 149 | B52: 157_042_00024 | C52: OR_1.02_005A | D52: 1 | E52: 157_042_00006 | F52: 157 | G52: Vosse- en Weerlanerpolder | H52: \OR-1.02\OR-1.02-005B\OR-1.02-005B_HW_metbelasting.sti | I52: gedetailleerd | K52: BOEZEMKADE | L52: 157_042_00024 | M52: 157_042_00024.sti | N52: 1 | Q52: c | R52: -0.49 | S52: -2.2 | T52: 1.5 | U52: -0.1 | V52: 3 | W52: 3 | X52: -1.8 | Y52: -1.64 | Z52: -0.7 | AA52: 1.1 | AB52: -0.7 | AC52: -0.6 | AD52: 5 | AE52: III | AF52: 0.9 | AG52: 1.2 | AH52: 2.31 | AI52: 0 | AJ52: 0 | AK52: -1.64 | AL52: 4.44 | AM52: 0 | AN52: -1.64 | AO52: -1 | AP52: -1 | AQ52: -1 | AR52: -1 | AS52: -1 | AT52: -1 | AU52: 9.06 | AV52: 0 | AW52: -0.1 | AX52: 9.06 | AY52: 0 | AZ52: -0.1 | BA52: 11.56 | BB52: 0 | BC52: -0.43333333 | BD52: 10.56 | BE52: 0 | BF52: -0.1 | BG52: -1 | BH52: -1 | BI52: -1 | BJ52: -1 | BK52: 12.36 | BL52: -1 | BM52: -0.7 | BN52: -1 | BO52: -1 | BP52: -1 | BQ52: -1 | BR52: -1 | BS52: -1 | BT52: -1 | BU52: -1 | BV52: -1 | BW52: -1 | BX52: -1 | BY52: -1 | BZ52: 27.81 | CA52: 0 | CB52: -0.7 | CC52: 9.06 | CD52: 0 | CE52: -0.1 | CF52: StabilityInsideMStab (UpliftVan) | CG52: 11 | CH52: 0.91333333 | CI52: 13.91 | CJ52: 19.905 | CK52: 0 | CL52: 9.81 | CM52: 5.85 | CN52: 5.37 | CO52: 11 | CP52: 15 | CQ52: 50 | CR52: 50 | CS52: 5.85 | CT52: 5.37 | CU52: 16.85 | CV52: 20.37 | CW52: 66.85 | CX52: 70.37 | CY52: 10.85 | CZ52: 60.041975
A53: 150 | B53: 157_042_00034 | C53: OR_1.02_009A | D53: 1 | E53: 157_042_00011 | F53: 157 | G53: Vosse- en Weerlanerpolder | H53: \OR-1.02\OR-1.02-009A\OR-1.02-009A_HW_metbelasting.sti | I53: gedetailleerd | K53: BOEZEMKADE | L53: 157_042_00034 | M53: 157_042_00034.sti | N53: 1 | O53: drooglegging aangepast door Bouke d.d. 18 maart 2013 | Q53: c | R53: -0.49 | S53: -1.6 | T53: 1.5 | U53: -0.1 | V53: 3 | W53: 3 | X53: -1.75 | Y53: -1.39 | Z53: -0.21 | AA53: 1 | AB53: -0.75 | AC53: -0.6 | AD53: 5 | AE53: III | AF53: 0.9 | AG53: 1.15 | AH53: 2.94 | AI53: 0 | AJ53: 0 | AK53: -1.39 | AL53: 2.07 | AM53: 0 | AN53: -1.39 | AO53: -1 | AP53: -1 | AQ53: -1 | AR53: -1 | AS53: -1 | AT53: -1 | AU53: 5.94 | AV53: 0 | AW53: -0.1 | AX53: 5.94 | AY53: 0 | AZ53: -0.1 | BA53: 8.44 | BB53: 0 | BC53: -0.43333333 | BD53: 7.44 | BE53: 0 | BF53: -0.1 | BG53: -1 | BH53: -1 | BI53: -1 | BJ53: -1 | BK53: 9.39 | BL53: -1 | BM53: -0.75 | BN53: -1 | BO53: -1 | BP53: -1 | BQ53: -1 | BR53: -1 | BS53: -1 | BT53: -1 | BU53: -1 | BV53: -1 | BW53: -1 | BX53: -1 | BY53: -1 | BZ53: 49.94 | CA53: 0 | CB53: -0.75 | CC53: 5.94 | CD53: 0 | CE53: -0.1 | CF53: StabilityInsideMStab (Bishop) | CG53: 11 | CH53: 1.169 | CI53: 10.94 | CJ53: 17.851 | CK53: 0 | CL53: 6.69 | CM53: 5.7 | CN53: 4.62 | CO53: 11 | CP53: 15 | CQ53: 50 | CR53: 50 | CS53: 5.7 | CT53: 4.62 | CU53: 16.7 | CV53: 19.62 | CW53: 66.7 | CX53: 69.62 | CY53: 10.7 | CZ53: 342.42222
A54: 151 | B54: 002_042_00052 | C54: OR_3.10_004B4 | D54: 1 | E54: 002_042_00013 | F54: 002 | G54: Polder Achthoven | H54: \OR-3.10\DWP 03.58\OR-3.10-004B4 hoogwater m. belasting.sti | I54: gedetailleerd | J54: inclusief 002-042-00014 | K54: BOEZEMKADE | L54: 002_042_00052 | M54: 002_042_00052.sti | N54: 1 | Q54: a | R54: -0.43 | S54: -2.1 | T54: 1.5 | U54: -0.1 | V54: 3 | W54: 2 | X54: -1.95 | Y54: -1.39 | Z54: -1.3 | AA54: 0.65 | AB54: -1.3 | AC54: -0.6 | AD54: 5 | AE54: III | AF54: 0.9 | AG54: 1.35 | AH54: 0 | AI54: 0 | AJ54: 0 | AK54: -1.39 | AL54: 1.42 | AM54: 0 | AN54: -1.39 | AO54: -1 | AP54: -1 | AQ54: -1 | AR54: -1 | AS54: -1 | AT54: -1 | AU54: 4 | AV54: 0 | AW54: -0.1 | AX54: 4 | AY54: 0 | AZ54: -0.1 | BA54: 6.5 | BB54: 0 | BC54: -0.43333333 | BD54: 5.5 | BE54: 0 | BF54: -0.1 | BG54: -1 | BH54: -1 | BI54: -1 | BJ54: -1 | BK54: 9.1 | BL54: -1 | BM54: -1.3 | BN54: -1 | BO54: -1 | BP54: -1 | BQ54: -1 | BR54: -1 | BS54: -1 | BT54: -1 | BU54: -1 | BV54: -1 | BW54: -1 | BX54: -1 | BY54: -1 | BZ54: 33.5 | CA54: 0 | CB54: -1.3 | CC54: 4 | CD54: 0 | CE54: -0.1 | CF54: StabilityInsideMStab (Bishop) | CG54: 11 | CH54: 1.381 | CI54: 10.65 | CJ54: 16.224 | CK54: 0 | CL54: 4.75 | CM54: 6.3 | CN54: 3.33 | CO54: 11 | CP54: 15 | CQ54: 50 | CR54: 50 | CS54: 6.3 | CT54: 3.33 | CU54: 17.3 | CV54: 18.33 | CW54: 67.3 | CX54: 68.33 | CY54: 11.3 | CZ54: 156.64824
A55: 153 | B55: 002_042_00046 | C55: OR_3.10_006B1 | D55: 1 | E55: 002_042_00020 | F55: 002 | G55: Polder Achthoven | H55: \OR-3.10\DWP 04.25\OR-3.10-006B1 hoogwater m. belasting.sti | I55: gedetailleerd | J55: inclusief 002-042-00021 en 002-042-00022 | K55: BOEZEMKADE | L55: 002_042_00046 | M55: 002_042_00046.sti | N55: 1 | Q55: a | R55: -0.41 | S55: -2.1 | T55: 1.5 | U55: -0.1 | V55: 3 | W55: 2 | X55: -1.95 | Y55: -1.14 | Z55: -1.3 | AA55: 0.65 | AB55: -1.3 | AC55: -0.6 | AD55: 5 | AE55: III | AF55: 0.9 | AG55: 1.35 | AH55: 0 | AI55: 0 | AJ55: 0 | AK55: -1.14 | AL55: 7.42 | AM55: 0 | AN55: -1.14 | AO55: -1 | AP55: -1 | AQ55: -1 | AR55: -1 | AS55: -1 | AT55: -1 | AU55: 9.5 | AV55: 0 | AW55: -0.1 | AX55: 9.5 | AY55: 0 | AZ55: -0.1 | BA55: 12 | BB55: 0 | BC55: -0.43333333 | BD55: 11 | BE55: 0 | BF55: -0.1 | BG55: -1 | BH55: -1 | BI55: -1 | BJ55: -1 | BK55: 14.6 | BL55: -1 | BM55: -1.3 | BN55: -1 | BO55: -1 | BP55: -1 | BQ55: -1 | BR55: -1 | BS55: -1 | BT55: -1 | BU55: -1 | BV55: -1 | BW55: -1 | BX55: -1 | BY55: -1 | BZ55: 20 | CA55: 0 | CB55: -1.3 | CC55: 9.5 | CD55: 0 | CE55: -0.1 | CF55: StabilityInsideMStab (Bishop) | CG55: 12 | CH55: 1.367 | CI55: 15.2 | CJ55: 19.624 | CK55: 0 | CL55: 10.25 | CM55: 6.3 | CN55: 2.83 | CO55: 11 | CP55: 15 | CQ55: 50 | CR55: 50 | CS55: 6.3 | CT55: 2.83 | CU55: 17.3 | CV55: 17.83 | CW55: 67.3 | CX55: 67.83 | CY55: 11.3 | CZ55: 738.07709
A56: 156 | B56: 002_042_00026 | C56: OR_3.10_006B3 | D56: 1 | E56: 002_042_00026 | F56: 002 | G56: Polder Achthoven | H56: \OR-3.10\DWP 05.69\OR-3.10-006B3 hoogwater m. belasting.sti | I56: gedetailleerd | K56: BOEZEMKADE | L56: 002_042_00026 | M56: 002_042_00026.sti | N56: 1 | Q56: a | R56: -0.41 | S56: -2.1 | T56: 1.5 | U56: -0.1 | V56: 3 | W56: 2 | X56: -1.95 | Y56: -1.14 | Z56: -1.3 | AA56: 0.65 | AB56: -1.3 | AC56: -0.6 | AD56: 5 | AE56: III | AF56: 0.9 | AG56: 1.35 | AH56: 0 | AI56: 0 | AJ56: 0 | AK56: -1.14 | AL56: 3.7075 | AM56: 0 | AN56: -1.14 | AO56: -1 | AP56: -1 | AQ56: -1 | AR56: -1 | AS56: -1 | AT56: -1 | AU56: 5.7875 | AV56: 0 | AW56: -0.1 | AX56: 5.7875 | AY56: 0 | AZ56: -0.1 | BA56: 8.2875 | BB56: 0 | BC56: -0.43333333 | BD56: 7.2875 | BE56: 0 | BF56: -0.1 | BG56: -1 | BH56: -1 | BI56: -1 | BJ56: -1 | BK56: 10.8875 | BL56: -1 | BM56: -1.3 | BN56: -1 | BO56: -1 | BP56: -1 | BQ56: -1 | BR56: -1 | BS56: -1 | BT56: -1 | BU56: -1 | BV56: -1 | BW56: -1 | BX56: -1 | BY56: -1 | BZ56: 18 | CA56: 0 | CB56: -1.3 | CC56: 5.7875 | CD56: 0 | CE56: -0.1 | CF56: StabilityInsideMStab (Bishop) | CG56: 12 | CH56: 1.38 | CI56: 11.4875 | CJ56: 15.913 | CK56: 0 | CL56: 6.5375 | CM56: 6.3 | CN56: 2.83 | CO56: 11 | CP56: 15 | CQ56: 50 | CR56: 50 | CS56: 6.3 | CT56: 2.83 | CU56: 17.3 | CV56: 17.83 | CW56: 67.3 | CX56: 67.83 | CY56: 11.3 | CZ56: 440.78883
A57: 158 | B57: 002_042_00047 | C57: OR_3.10_006B4 | D57: 1 | E57: 002_042_00028 | F57: 002 | G57: Polder Achthoven | H57: \OR-3.10\DWP 06.26\OR-3.10-006B4 hoogwater m. belasting.sti | I57: gedetailleerd | J57: inclusief 002-042-00029 | K57: BOEZEMKADE | L57: 002_042_00047 | M57: 002_042_00047.sti | N57: 1 | Q57: a | R57: -0.41 | S57: -1.8 | T57: 1.5 | U57: -0.1 | V57: 3 | W57: 2 | X57: -1.95 | Y57: -1.14 | Z57: -1.3 | AA57: 0.65 | AB57: -1.3 | AC57: -0.6 | AD57: 5 | AE57: III | AF57: 0.9 | AG57: 1.35 | AH57: 3 | AI57: 0 | AJ57: 0 | AK57: -1.14 | AL57: 3.224 | AM57: 0 | AN57: -1.14 | AO57: -1 | AP57: -1 | AQ57: -1 | AR57: -1 | AS57: -1 | AT57: -1 | AU57: 5.304 | AV57: 0 | AW57: -0.1 | AX57: 5.304 | AY57: 0 | AZ57: -0.1 | BA57: 7.804 | BB57: 0 | BC57: -0.43333333 | BD57: 6.804 | BE57: 0 | BF57: -0.1 | BG57: -1 | BH57: -1 | BI57: -1 | BJ57: -1 | BK57: 10.404 | BL57: -1 | BM57: -1.3 | BN57: -1 | BO57: -1 | BP57: -1 | BQ57: -1 | BR57: -1 | BS57: -1 | BT57: -1 | BU57: -1 | BV57: -1 | BW57: -1 | BX57: -1 | BY57: -1 | BZ57: 18 | CA57: 0 | CB57: -1.3 | CC57: 5.304 | CD57: 0 | CE57: -0.1 | CF57: StabilityInsideMStab (Bishop) | CG57: 12 | CH57: 1.353 | CI57: 11.004 | CJ57: 15.428 | CK57: 0 | CL57: 6.054 | CM57: 6.3 | CN57: 2.83 | CO57: 11 | CP57: 15 | CQ57: 50 | CR57: 50 | CS57: 6.3 | CT57: 2.83 | CU57: 17.3 | CV57: 17.83 | CW57: 67.3 | CX57: 67.83 | CY57: 11.3 | CZ57: 811.82409
A58: 159 | B58: 002_042_00049 | C58: OR_3.10_007A | D58: 1 | E58: 002_042_00033 | F58: 002 | G58: Polder Achthoven | H58: \OR-3.10\DWP 07.46\OR-3.10-007A hoogwater m. belasting.sti | I58: gedetailleerd | J58: inclusief 002-042-00034, 002-042-00035 en 002-042-00036 | K58: BOEZEMKADE | L58: 002_042_00049 | M58: 002_042_00049.sti | N58: 1 | Q58: a | R58: -0.42 | S58: -1.8 | T58: 1.5 | U58: -0.1 | V58: 3 | W58: 2 | X58: -1.7 | Y58: -2.44 | Z58: -1.04 | AA58: 0.66 | AB58: -1.04 | AC58: -0.6 | AD58: 5 | AE58: III | AF58: 0.9 | AG58: 1.1 | AH58: 12 | AI58: 0 | AJ58: 0 | AK58: -2.44 | AL58: 12.57 | AM58: 0 | AN58: -2.44 | AO58: -1 | AP58: -1 | AQ58: -1 | AR58: -1 | AS58: -1 | AT58: -1 | AU58: 17.25 | AV58: 0 | AW58: -0.1 | AX58: 17.25 | AY58: 0 | AZ58: -0.1 | BA58: 19.75 | BB58: 0 | BC58: -0.43333333 | BD58: 18.75 | BE58: 0 | BF58: -0.1 | BG58: -1 | BH58: -1 | BI58: -1 | BJ58: -1 | BK58: 21.57 | BL58: -1 | BM58: -1.04 | BN58: -1 | BO58: -1 | BP58: -1 | BQ58: -1 | BR58: -1 | BS58: -1 | BT58: -1 | BU58: -1 | BV58: -1 | BW58: -1 | BX58: -1 | BY58: -1 | BZ58: 34 | CA58: 0 | CB58: -1.04 | CC58: 17.25 | CD58: 0 | CE58: -0.1 | CF58: StabilityInsideMStab (Bishop) | CG58: 12 | CH58: 1.198 | CI58: 22.17 | CJ58: 26.882 | CK58: 0 | CL58: 18 | CM58: 5.55 | CN58: 5.43 | CO58: 11 | CP58: 15 | CQ58: 50 | CR58: 50 | CS58: 5.55 | CT58: 5.43 | CU58: 16.55 | CV58: 20.43 | CW58: 66.55 | CX58: 70.43 | CY58: 10.55 | CZ58: 430.9363
A59: 160 | B59: 002_042_00036 | C59: OR_3.10_007B | D59: 1 | E59: 002_042_00036 | F59: 002 | G59: Polder Achthoven | H59: \OR-3.10\DWP 08.94\OR-3.10-007B hoogwater m. belasting.sti | I59: gedetailleerd | K59: BOEZEMKADE | L59: 002_042_00036 | M59: 002_042_00036.sti | N59: 1 | Q59: a | R59: -0.42 | S59: -1.8 | T59: 1.5 | U59: -0.1 | V59: 3 | W59: 2 | X59: -1.7 | Y59: -2.44 | Z59: -1.04 | AA59: 0.66 | AB59: -1.04 | AC59: -0.6 | AD59: 5 | AE59: III | AF59: 0.9 | AG59: 1.1 | AH59: 10 | AI59: 0 | AJ59: 0 | AK59: -2.44 | AL59: 10.32 | AM59: 0 | AN59: -2.44 | AO59: -1 | AP59: -1 | AQ59: -1 | AR59: -1 | AS59: -1 | AT59: -1 | AU59: 15 | AV59: 0 | AW59: -0.1 | AX59: 15 | AY59: 0 | AZ59: -0.1 | BA59: 17.5 | BB59: 0 | BC59: -0.43333333 | BD59: 16.5 | BE59: 0 | BF59: -0.1 | BG59: -1 | BH59: -1 | BI59: -1 | BJ59: -1 | BK59: 19.32 | BL59: -1 | BM59: -1.04 | BN59: -1 | BO59: -1 | BP59: -1 | BQ59: -1 | BR59: -1 | BS59: -1 | BT59: -1 | BU59: -1 | BV59: -1 | BW59: -1 | BX59: -1 | BY59: -1 | BZ59: 30 | CA59: 0 | CB59: -1.04 | CC59: 15 | CD59: 0 | CE59: -0.1 | CF59: StabilityInsideMStab (Bishop) | CG59: 12 | CH59: 1.029 | CI59: 19.92 | CJ59: 25.729 | CK59: 0 | CL59: 15.75 | CM59: 5.55 | CN59: 5.43 | CO59: 11 | CP59: 15 | CQ59: 50 | CR59: 50 | CS59: 5.55 | CT59: 5.43 | CU59: 16.55 | CV59: 20.43 | CW59: 66.55 | CX59: 70.43 | CY59: 10.55 | CZ59: 764.8752
A60: 161 | B60: 002_042_00051 | C60: OR_3.10_007C | D60: 1 | E60: 002_042_00038 | F60: 002 | G60: Polder Achthoven | H60: \OR-3.10\DWP 09.66\OR-3.10-007C hoogwater m. belasting.sti | I60: gedetailleerd | K60: BOEZEMKADE | L60: 002_042_00051 | M60: 002_042_00051.sti | N60: 1 | Q60: a | R60: -0.42 | S60: -2.1 | T60: 1.5 | U60: -0.1 | V60: 3 | W60: 2 | X60: -1.5 | Y60: -1.64 | Z60: -1.12 | AA60: 0.5 | AB60: -1 | AC60: -0.6 | AD60: 5 | AE60: III | AF60: 0.9 | AG60: 0.9 | AH60: 2 | AI60: 0 | AJ60: 0 | AK60: -1.64 | AL60: 6.17 | AM60: 0 | AN60: -1.64 | AO60: -1 | AP60: -1 | AQ60: -1 | AR60: -1 | AS60: -1 | AT60: -1 | AU60: 9.25 | AV60: 0 | AW60: -0.1 | AX60: 9.25 | AY60: 0 | AZ60: -0.1 | BA60: 11.75 | BB60: 0 | BC60: -0.43333333 | BD60: 10.75 | BE60: 0 | BF60: -0.1 | BG60: -1 | BH60: -1 | BI60: -1 | BJ60: -1 | BK60: 13.45 | BL60: -1 | BM60: -1 | BN60: -1 | BO60: -1 | BP60: -1 | BQ60: -1 | BR60: -1 | BS60: -1 | BT60: -1 | BU60: -1 | BV60: -1 | BW60: -1 | BX60: -1 | BY60: -1 | BZ60: 17 | CA60: 0 | CB60: -1 | CC60: 9.25 | CD60: 0 | CE60: -0.1 | CF60: StabilityInsideMStab (Bishop) | CG60: 12 | CH60: 1.27 | CI60: 14.05 | CJ60: 18.434 | CK60: 0 | CL60: 10 | CM60: 4.95 | CN60: 3.83 | CO60: 11 | CP60: 15 | CQ60: 50 | CR60: 50 | CS60: 4.95 | CT60: 3.83 | CU60: 15.95 | CV60: 18.83 | CW60: 65.95 | CX60: 68.83 | CY60: 9.95 | CZ60: 86.805751
A61: 162 | B61: 242_042_00010 | C61: WW_09_32_02B | D61: 1 | E61: 242_042_00010 | F61: 242 | G61: Polder Groenendijk | H61: \WW-09\WW-09-32-02B\WW-09-32-02B_hoogwater_metbelasting.sti | I61: gedetailleerd | K61: POLDERKADE | L61: 242_042_00010 | M61: 242_042_00010.sti | N61: 1 | Q61: c | R61: -0.52 | S61: -2.5 | T61: 1.5 | U61: -0.2 | V61: 3 | W61: 3 | X61: -1.8 | Y61: -1.52 | Z61: -1.47 | AA61: 0.5 | AB61: -1.3 | AC61: -0.6 | AD61: 5 | AE61: III | AF61: 0.9 | AG61: 1.2 | AH61: 0 | AI61: 0 | AJ61: 0 | AK61: -1.52 | AL61: 4.54 | AM61: 0 | AN61: -1.52 | AO61: -1 | AP61: -1 | AQ61: -1 | AR61: -1 | AS61: -1 | AT61: -1 | AU61: 8.5 | AV61: 0 | AW61: -0.2 | AX61: 8.5 | AY61: 0 | AZ61: -0.2 | BA61: 11 | BB61: 0 | BC61: -0.53333333 | BD61: 10 | BE61: 0 | BF61: -0.2 | BG61: -1 | BH61: -1 | BI61: -1 | BJ61: -1 | BK61: 13.3 | BL61: -1 | BM61: -1.3 | BN61: -1 | BO61: -1 | BP61: -1 | BQ61: -1 | BR61: -1 | BS61: -1 | BT61: -1 | BU61: -1 | BV61: -1 | BW61: -1 | BX61: -1 | BY61: -1 | BZ61: 30 | CA61: 0 | CB61: -1.3 | CC61: 8.5 | CD61: 0 | CE61: -0.2 | CF61: StabilityInsideMStab (Bishop) | CG61: 10 | CH61: 0.951 | CI61: 15.8 | CJ61: 21.246 | CK61: 0 | CL61: 9.25 | CM61: 5.55 | CN61: 4.71 | CO61: 11 | CP61: 15 | CQ61: 50 | CR61: 50 | CS61: 5.55 | CT61: 4.71 | CU61: 16.55 | CV61: 19.71 | CW61: 66.55 | CX61: 69.71 | CY61: 10.55 | CZ61: 142.49051
A62: 163 | B62: 242_042_00040 | C62: WW_09_32_01A | D62: 1 | E62: 242_042_00024 | F62: 242 | G62: Polder Groenendijk | H62: \WW-09\WW-09-32-01A\WW-09-32-01A_hoogwater_metbelasting.sti | I62: gedetailleerd | J62: inclusief 242-042-00025 en 242-042-00026 | K62: POLDERKADE | L62: 242_042_00040 | M62: 242_042_00040.sti | N62: 1 | Q62: c | R62: -0.44 | S62: -2.4 | T62: 1.5 | U62: -0.2 | V62: 3 | W62: 3 | X62: -2.4 | Y62: -1.12 | Z62: -1.52 | AA62: 0.88 | AB62: -1.52 | AC62: -0.6 | AD62: 13 | AE62: III | AF62: 0.9 | AG62: 1.8 | AH62: 0 | AI62: 0 | AJ62: 0 | AK62: -1.12 | AL62: 4.99 | AM62: 0 | AN62: -1.12 | AO62: -1 | AP62: -1 | AQ62: -1 | AR62: -1 | AS62: -1 | AT62: -1 | AU62: 7.75 | AV62: 0 | AW62: -0.2 | AX62: 7.75 | AY62: 0 | AZ62: -0.2 | BA62: 10.25 | BB62: 0 | BC62: -0.53333333 | BD62: 9.25 | BE62: 0 | BF62: -0.2 | BG62: -1 | BH62: -1 | BI62: -1 | BJ62: -1 | BK62: 13.21 | BL62: -1 | BM62: -1.52 | BN62: -1 | BO62: -1 | BP62: -1 | BQ62: -1 | BR62: -1 | BS62: -1 | BT62: -1 | BU62: -1 | BV62: -1 | BW62: -1 | BX62: -1 | BY62: -1 | BZ62: 25 | CA62: 0 | CB62: -1.52 | CC62: 7.75 | CD62: 0 | CE62: -0.2 | CF62: StabilityInsideMStab (Bishop) | CG62: 12 | CH62: 1.034 | CI62: 13.81 | CJ62: 19.449 | CK62: 0 | CL62: 8.5 | CM62: 7.35 | CN62: 3.51 | CO62: 11 | CP62: 15 | CQ62: 50 | CR62: 50 | CS62: 7.35 | CT62: 3.51 | CU62: 18.35 | CV62: 18.51 | CW62: 68.35 | CX62: 68.51 | CY62: 12.35 | CZ62: 525.90387
A63: 164 | B63: 242_042_00023 | C63: WW_09_31_01B | D63: 1 | E63: 242_042_00023 | F63: 242 | G63: Polder Groenendijk | H63: \WW-09\WW-09-31-01B\WW-09-31-01B_hoogwater_metbelasting.sti | I63: gedetailleerd | K63: BOEZEMKADE | L63: 242_042_00023 | M63: 242_042_00023.sti | N63: 1 | Q63: c | R63: -0.43 | S63: -2.1 | T63: 1.5 | U63: -0.1 | V63: 3 | W63: 3 | X63: -2.55 | Y63: -1.64 | Z63: -1.8 | AA63: 0.75 | AB63: -1.8 | AC63: -0.6 | AD63: 5 | AE63: III | AF63: 0.9 | AG63: 1.95 | AH63: 2 | AI63: 0 | AJ63: 0 | AK63: -1.64 | AL63: 1.38 | AM63: 0 | AN63: -1.64 | AO63: -1 | AP63: -1 | AQ63: -1 | AR63: -1 | AS63: -1 | AT63: -1 | AU63: 6 | AV63: 0 | AW63: -0.1 | AX63: 6 | AY63: 0 | AZ63: -0.1 | BA63: 8.5 | BB63: 0 | BC63: -0.43333333 | BD63: 7.5 | BE63: 0 | BF63: -0.1 | BG63: -1 | BH63: -1 | BI63: -1 | BJ63: -1 | BK63: 12.6 | BL63: -1 | BM63: -1.8 | BN63: -1 | BO63: -1 | BP63: -1 | BQ63: -1 | BR63: -1 | BS63: -1 | BT63: -1 | BU63: -1 | BV63: -1 | BW63: -1 | BX63: -1 | BY63: -1 | BZ63: 21.5 | CA63: 0 | CB63: -1.8 | CC63: 6 | CD63: 0 | CE63: -0.1 | CF63: StabilityInsideMStab (Bishop) | CG63: 12 | CH63: 1.203 | CI63: 13.2 | CJ63: 19.063 | CK63: 0 | CL63: 6.75 | CM63: 8.1 | CN63: 5.37 | CO63: 11 | CP63: 15 | CQ63: 50 | CR63: 50 | CS63: 8.1 | CT63: 5.37 | CU63: 19.1 | CV63: 20.37 | CW63: 69.1 | CX63: 70.37 | CY63: 13.1 | CZ63: 46.721628
A64: 165 | B64: 242_042_00027 | C64: WW_09_32_04D | D64: 1 | E64: 242_042_00027 | F64: 242 | G64: Polder Groenendijk | H64: \WW-09\WW-09-32-04D\WW-09-32-04D_hoogwater_metbelasting.sti | I64: gedetailleerd | K64: POLDERKADE | L64: 242_042_00027 | M64: 242_042_00027.sti | N64: 1 | Q64: c | R64: -0.5 | S64: -2.3 | T64: 1.5 | U64: -0.2 | V64: 3 | W64: 3 | X64: -2.4 | Y64: -1.12 | Z64: -1.4 | AA64: 1 | AB64: -1.4 | AC64: -0.6 | AD64: 5 | AE64: III | AF64: 0.9 | AG64: 1.8 | AH64: 5 | AI64: 0 | AJ64: 0 | AK64: -1.12 | AL64: 7.99 | AM64: 0 | AN64: -1.12 | AO64: -1 | AP64: -1 | AQ64: -1 | AR64: -1 | AS64: -1 | AT64: -1 | AU64: 10.75 | AV64: 0 | AW64: -0.2 | AX64: 10.75 | AY64: 0 | AZ64: -0.2 | BA64: 13.25 | BB64: 0 | BC64: -0.53333333 | BD64: 12.25 | BE64: 0 | BF64: -0.2 | BG64: -1 | BH64: -1 | BI64: -1 | BJ64: -1 | BK64: 15.85 | BL64: -1 | BM64: -1.4 | BN64: -1 | BO64: -1 | BP64: -1 | BQ64: -1 | BR64: -1 | BS64: -1 | BT64: -1 | BU64: -1 | BV64: -1 | BW64: -1 | BX64: -1 | BY64: -1 | BZ64: 35 | CA64: 0 | CB64: -1.4 | CC64: 10.75 | CD64: 0 | CE64: -0.2 | CF64: StabilityInsideMStab (Bishop) | CG64: 9 | CH64: 1.041 | CI64: 19.3 | CJ64: 23.189 | CK64: 0 | CL64: 11.5 | CM64: 7.35 | CN64: 3.51 | CO64: 11 | CP64: 15 | CQ64: 50 | CR64: 50 | CS64: 7.35 | CT64: 3.51 | CU64: 18.35 | CV64: 18.51 | CW64: 68.35 | CX64: 68.51 | CY64: 12.35 | CZ64: 913.57977
A65: 166 | B65: 242_042_00001 | C65: WW_09_31_01B | D65: 1 | E65: 242_042_00001 | F65: 242 | G65: Polder Groenendijk | H65: \WW-09\WW-09-31-01B\WW-09-31-01B_hoogwater_metbelasting.sti | I65: gedetailleerd | K65: BOEZEMKADE | L65: 242_042_00001 | M65: 242_042_00001.sti | N65: 1 | Q65: c | R65: -0.43 | S65: -2.1 | T65: 1.5 | U65: -0.1 | V65: 3 | W65: 3 | X65: -2.4 | Y65: -1.64 | Z65: -1.52 | AA65: 0.88 | AB65: -1.52 | AC65: -0.6 | AD65: 5 | AE65: III | AF65: 0.9 | AG65: 1.8 | AH65: 2 | AI65: 0 | AJ65: 0 | AK65: -1.64 | AL65: 1.38 | AM65: 0 | AN65: -1.64 | AO65: -1 | AP65: -1 | AQ65: -1 | AR65: -1 | AS65: -1 | AT65: -1 | AU65: 6 | AV65: 0 | AW65: -0.1 | AX65: 6 | AY65: 0 | AZ65: -0.1 | BA65: 8.5 | BB65: 0 | BC65: -0.43333333 | BD65: 7.5 | BE65: 0 | BF65: -0.1 | BG65: -1 | BH65: -1 | BI65: -1 | BJ65: -1 | BK65: 11.76 | BL65: -1 | BM65: -1.52 | BN65: -1 | BO65: -1 | BP65: -1 | BQ65: -1 | BR65: -1 | BS65: -1 | BT65: -1 | BU65: -1 | BV65: -1 | BW65: -1 | BX65: -1 | BY65: -1 | BZ65: 21.5 | CA65: 0 | CB65: -1.52 | CC65: 6 | CD65: 0 | CE65: -0.1 | CF65: StabilityInsideMStab (Bishop) | CG65: 12 | CH65: 1.189 | CI65: 12.36 | CJ65: 17.107 | CK65: 0 | CL65: 6.75 | CM65: 7.65 | CN65: 5.37 | CO65: 11 | CP65: 15 | CQ65: 50 | CR65: 50 | CS65: 7.65 | CT65: 5.37 | CU65: 18.65 | CV65: 20.37 | CW65: 68.65 | CX65: 70.37 | CY65: 12.65 | CZ65: 214.19146
A66: 167 | B66: 242_042_00022 | C66: WW_09_31_01B | D66: 1 | E66: 242_042_00022 | F66: 242 | G66: Polder Groenendijk | H66: \WW-09\WW-09-31-01B\WW-09-31-01B_hoogwater_metbelasting.sti | I66: gedetailleerd | K66: BOEZEMKADE | L66: 242_042_00022 | M66: 242_042_00022.sti | N66: 1 | Q66: c | R66: -0.43 | S66: -2.1 | T66: 1.5 | U66: -0.1 | V66: 3 | W66: 3 | X66: -2.1 | Y66: -1.64 | Z66: -0.83 | AA66: 1.27 | AB66: -0.83 | AC66: -0.6 | AD66: 5 | AE66: III | AF66: 0.9 | AG66: 1.5 | AH66: 2 | AI66: 0 | AJ66: 0 | AK66: -1.64 | AL66: 1.38 | AM66: 0 | AN66: -1.64 | AO66: -1 | AP66: -1 | AQ66: -1 | AR66: -1 | AS66: -1 | AT66: -1 | AU66: 6 | AV66: 0 | AW66: -0.1 | AX66: 6 | AY66: 0 | AZ66: -0.1 | BA66: 8.5 | BB66: 0 | BC66: -0.43333333 | BD66: 7.5 | BE66: 0 | BF66: -0.1 | BG66: -1 | BH66: -1 | BI66: -1 | BJ66: -1 | BK66: 9.69 | BL66: -1 | BM66: -0.83 | BN66: -1 | BO66: -1 | BP66: -1 | BQ66: -1 | BR66: -1 | BS66: -1 | BT66: -1 | BU66: -1 | BV66: -1 | BW66: -1 | BX66: -1 | BY66: -1 | BZ66: 21.5 | CA66: 0 | CB66: -0.83 | CC66: 6 | CD66: 0 | CE66: -0.1 | CF66: StabilityInsideMStab (Bishop) | CG66: 12 | CH66: 1.081 | CI66: 10.29 | CJ66: 16.1 | CK66: 0 | CL66: 6.75 | CM66: 6.75 | CN66: 5.37 | CO66: 11 | CP66: 15 | CQ66: 50 | CR66: 50 | CS66: 6.75 | CT66: 5.37 | CU66: 17.75 | CV66: 20.37 | CW66: 67.75 | CX66: 70.37 | CY66: 11.75 | CZ66: 189.6476
A67: 168 | B67: 034_042_00026 | C67: OR_3.20_004a | D67: 1 | E67: 034_042_00004 | F67: 034 | G67: Frederikspolder | H67: \OR-3.20\STBI_Hoogwater\Kadevak_004a_004c_met_verkeer.sti | I67: gedetailleerd | K67: BOEZEMKADE | L67: 034_042_00026 | M67: 034_042_00026.sti | N67: 1 | Q67: b | R67: -0.46 | S67: -2.8 | T67: 1.5 | U67: -0.1 | V67: 3 | W67: 2.5 | X67: -2.3 | Y67: -2.14 | Z67: -1.74 | AA67: 0.56 | AB67: -1.74 | AC67: -0.6 | AD67: 5 | AE67: III | AF67: 0.9 | AG67: 1.7 | AH67: 0 | AI67: 0 | AJ67: 0 | AK67: -2.14 | AL67: 0.9 | AM67: 0 | AN67: -2.14 | AO67: -1 | AP67: -1 | AQ67: -1 | AR67: -1 | AS67: -1 | AT67: -1 | AU67: 6 | AV67: 0 | AW67: -0.1 | AX67: 6 | AY67: 0 | AZ67: -0.1 | BA67: 8.5 | BB67: 0 | BC67: -0.43333333 | BD67: 7.5 | BE67: 0 | BF67: -0.1 | BG67: -1 | BH67: -1 | BI67: -1 | BJ67: -1 | BK67: 12.42 | BL67: -1 | BM67: -1.74 | BN67: -1 | BO67: -1 | BP67: -1 | BQ67: -1 | BR67: -1 | BS67: -1 | BT67: -1 | BU67: -1 | BV67: -1 | BW67: -1 | BX67: -1 | BY67: -1 | BZ67: 23.764 | CA67: 0 | CB67: -1.74 | CC67: 6 | CD67: 0 | CE67: -0.1 | CF67: StabilityInsideMStab (Bishop) | CG67: 7 | CH67: 0.904 | CI67: 17.77 | CJ67: 14.346 | CK67: 0 | CL67: 6.75 | CM67: 7.35 | CN67: 5.85 | CO67: 11 | CP67: 15 | CQ67: 50 | CR67: 50 | CS67: 7.35 | CT67: 5.85 | CU67: 18.35 | CV67: 20.85 | CW67: 68.35 | CX67: 70.85 | CY67: 12.35 | CZ67: 154.45571
A68: 169 | B68: 034_042_00028 | C68: OR_3.20_004c | D68: 1 | E68: 034_042_00005 | F68: 034 | G68: Frederikspolder | H68: \OR-3.20\STBI_Hoogwater\Kadevak_004a_004c_met_verkeer.sti | I68: gedetailleerd | J68: inclusief deel 034-042-00006 | K68: BOEZEMKADE | L68: 034_042_00028 | M68: 034_042_00028.sti | N68: 1 | Q68: b | R68: -0.46 | S68: -2.8 | T68: 1.5 | U68: -0.1 | V68: 3 | W68: 2.5 | X68: -2.3 | Y68: -2.14 | Z68: -1.74 | AA68: 0.56 | AB68: -1.74 | AC68: -0.6 | AD68: 5 | AE68: III | AF68: 0.9 | AG68: 1.7 | AH68: 0 | AI68: 0 | AJ68: 0 | AK68: -2.14 | AL68: 0.9 | AM68: 0 | AN68: -2.14 | AO68: -1 | AP68: -1 | AQ68: -1 | AR68: -1 | AS68: -1 | AT68: -1 | AU68: 6 | AV68: 0 | AW68: -0.1 | AX68: 6 | AY68: 0 | AZ68: -0.1 | BA68: 8.5 | BB68: 0 | BC68: -0.43333333 | BD68: 7.5 | BE68: 0 | BF68: -0.1 | BG68: -1 | BH68: -1 | BI68: -1 | BJ68: -1 | BK68: 12.42 | BL68: -1 | BM68: -1.74 | BN68: -1 | BO68: -1 | BP68: -1 | BQ68: -1 | BR68: -1 | BS68: -1 | BT68: -1 | BU68: -1 | BV68: -1 | BW68: -1 | BX68: -1 | BY68: -1 | BZ68: 23.764 | CA68: 0 | CB68: -1.74 | CC68: 6 | CD68: 0 | CE68: -0.1 | CF68: StabilityInsideMStab (Bishop) | CG68: 7 | CH68: 0.904 | CI68: 17.77 | CJ68: 14.346 | CK68: 0 | CL68: 6.75 | CM68: 7.35 | CN68: 5.85 | CO68: 11 | CP68: 15 | CQ68: 50 | CR68: 50 | CS68: 7.35 | CT68: 5.85 | CU68: 18.35 | CV68: 20.85 | CW68: 68.35 | CX68: 70.85 | CY68: 12.35 | CZ68: 223.18849
A69: 170 | B69: 055_042_00026 | C69: OR_3.27_001c | D69: 1 | E69: 055_042_00002 | F69: 055 | G69: Hoogmadesepolder | H69: \OR-3.27\STBI\001c\001c_STBI_hoogwater_metbelasting.sti | I69: gedetailleerd | J69: inclusief deel 055-042-00001 | K69: BOEZEMKADE | L69: 055_042_00026 | M69: 055_042_00026.sti | N69: 1 | Q69: b | R69: -0.45 | S69: -2.25 | T69: 1.5 | U69: -0.1 | V69: 3 | W69: 3 | X69: -2.31 | Y69: -1.64 | Z69: -1.83 | AA69: 0.5 | AB69: -1.81 | AC69: -0.6 | AD69: 13 | AE69: III | AF69: 0.9 | AG69: 1.71 | AH69: 10.11 | AI69: 0 | AJ69: 0 | AK69: -1.64 | AL69: 11.74 | AM69: 0 | AN69: -1.64 | AO69: -1 | AP69: -1 | AQ69: -1 | AR69: -1 | AS69: -1 | AT69: -1 | AU69: 16.36 | AV69: 0 | AW69: -0.1 | AX69: 16.36 | AY69: 0 | AZ69: -0.1 | BA69: 18.86 | BB69: 0 | BC69: -0.43333333 | BD69: 17.86 | BE69: 0 | BF69: -0.1 | BG69: -1 | BH69: -1 | BI69: -1 | BJ69: -1 | BK69: 22.99 | BL69: -1 | BM69: -1.81 | BN69: -1 | BO69: -1 | BP69: -1 | BQ69: -1 | BR69: -1 | BS69: -1 | BT69: -1 | BU69: -1 | BV69: -1 | BW69: -1 | BX69: -1 | BY69: -1 | BZ69: 50.11 | CA69: 0 | CB69: -1.81 | CC69: 16.36 | CD69: 0 | CE69: -0.1 | CF69: StabilityInsideMStab (Bishop) | CG69: 12 | CH69: 0.934 | CI69: 23.59 | CJ69: 29.429 | CK69: 0 | CL69: 17.11 | CM69: 7.38 | CN69: 5.37 | CO69: 11 | CP69: 15 | CQ69: 50 | CR69: 50 | CS69: 7.38 | CT69: 5.37 | CU69: 18.38 | CV69: 20.37 | CW69: 68.38 | CX69: 70.37 | CY69: 12.38 | CZ69: 85.100395
A70: 171 | B70: 055_042_00027 | C70: OR_3.27_002a | D70: 1 | E70: 055_042_00003 | F70: 055 | G70: Hoogmadesepolder | H70: \OR-3.27\STBI\002a\002a_STBI_hoogwater_metbelasting.sti | I70: gedetailleerd | J70: inclusief deel 055-042-00004 | K70: BOEZEMKADE | L70: 055_042_00027 | M70: 055_042_00027.sti | N70: 1 | Q70: b | R70: -0.45 | S70: -2.25 | T70: 1.5 | U70: -0.1 | V70: 3.5 | W70: 3 | X70: -2.28 | Y70: -1.64 | Z70: -1.54 | AA70: 0.74 | AB70: -1.54 | AC70: -0.6 | AD70: 13 | AE70: III | AF70: 0.9 | AG70: 1.68 | AH70: 6.12 | AI70: 0 | AJ70: 0 | AK70: -1.64 | AL70: 10.75 | AM70: 0 | AN70: -1.64 | AO70: -1 | AP70: -1 | AQ70: -1 | AR70: -1 | AS70: -1 | AT70: -1 | AU70: 15.37 | AV70: 0 | AW70: -0.1 | AX70: 15.37 | AY70: 0 | AZ70: -0.1 | BA70: 17.87 | BB70: 0 | BC70: -0.38571429 | BD70: 16.87 | BE70: 0 | BF70: -0.1 | BG70: -1 | BH70: -1 | BI70: -1 | BJ70: -1 | BK70: 21.91 | BL70: -1 | BM70: -1.54 | BN70: -1 | BO70: -1 | BP70: -1 | BQ70: -1 | BR70: -1 | BS70: -1 | BT70: -1 | BU70: -1 | BV70: -1 | BW70: -1 | BX70: -1 | BY70: -1 | BZ70: 55.34 | CA70: 0 | CB70: -1.54 | CC70: 15.37 | CD70: 0 | CE70: -0.1 | CF70: StabilityInsideMStab (Bishop) | CG70: 3 | CH70: 0.9 | CI70: 31.06 | CJ70: 24.663 | CK70: 0 | CL70: 16.12 | CM70: 8.38 | CN70: 5.37 | CO70: 13 | CP70: 15 | CQ70: 50 | CR70: 50 | CS70: 8.38 | CT70: 5.37 | CU70: 21.38 | CV70: 20.37 | CW70: 71.38 | CX70: 70.37 | CY70: 15.38 | CZ70: 148.15656
A71: 172 | B71: 055_042_00031 | C71: OR_3.27_005b | D71: 1 | E71: 055_042_00011 | F71: 055 | G71: Hoogmadesepolder | H71: \OR-3.27\STBI\005b\005b_STBI_hoogwater_metbelasting.sti | I71: gedetailleerd | J71: inclusief deel 055-042-00012 | K71: BOEZEMKADE | L71: 055_042_00031 | M71: 055_042_00031.sti | N71: 1 | Q71: b | R71: -0.44 | S71: -2.25 | T71: 1.5 | U71: -0.1 | V71: 4 | W71: 3 | X71: -2.31 | Y71: -2.14 | Z71: -1.83 | AA71: 0.5 | AB71: -1.81 | AC71: -0.6 | AD71: 13 | AE71: III | AF71: 0.9 | AG71: 1.71 | AH71: 3.16 | AI71: 0 | AJ71: 0 | AK71: -2.14 | AL71: 2.29 | AM71: 0 | AN71: -2.14 | AO71: -1 | AP71: -1 | AQ71: -1 | AR71: -1 | AS71: -1 | AT71: -1 | AU71: 8.41 | AV71: 0 | AW71: -0.1 | AX71: 8.41 | AY71: 0 | AZ71: -0.1 | BA71: 10.91 | BB71: 0 | BC71: -0.35 | BD71: 9.91 | BE71: 0 | BF71: -0.1 | BG71: -1 | BH71: -1 | BI71: -1 | BJ71: -1 | BK71: 16.75 | BL71: -1 | BM71: -1.81 | BN71: -1 | BO71: -1 | BP71: -1 | BQ71: -1 | BR71: -1 | BS71: -1 | BT71: -1 | BU71: -1 | BV71: -1 | BW71: -1 | BX71: -1 | BY71: -1 | BZ71: 89.87 | CA71: 0 | CB71: -1.81 | CC71: 8.41 | CD71: 0 | CE71: -0.1 | CF71: StabilityInsideMStab (Bishop) | CG71: 11 | CH71: 0.939 | CI71: 18.3 | CJ71: 19.38 | CK71: 0 | CL71: 9.16 | CM71: 9.59 | CN71: 6.87 | CO71: 11 | CP71: 15 | CQ71: 50 | CR71: 50 | CS71: 9.59 | CT71: 6.87 | CU71: 20.59 | CV71: 21.87 | CW71: 70.59 | CX71: 71.87 | CY71: 14.59 | CZ71: 187.74667
A72: 173 | B72: 055_042_00032 | C72: OR_3.27_005c | D72: 1 | E72: 055_042_00012 | F72: 055 | G72: Hoogmadesepolder | H72: \OR-3.27\STBI\005c\005c_STBI_hoogwater_metbelasting.sti | I72: gedetailleerd | K72: BOEZEMKADE | L72: 055_042_00032 | M72: 055_042_00032.sti | N72: 1 | O72: Result niet uit csv door afronding. Handmatig ingevoerd. | Q72: b | R72: -0.44 | S72: -2.25 | T72: 1.5 | U72: -0.1 | V72: 3 | W72: 3 | X72: -2.31 | Y72: -2.14 | Z72: -1.83 | AA72: 0.5 | AB72: -1.81 | AC72: -0.6 | AD72: 5 | AE72: III | AF72: 0.9 | AG72: 1.71 | AH72: 0.38 | AI72: 0 | AJ72: 0 | AK72: -2.14 | AL72: 2.01 | AM72: 0 | AN72: -2.14 | AO72: -1 | AP72: -1 | AQ72: -1 | AR72: -1 | AS72: -1 | AT72: -1 | AU72: 8.13 | AV72: 0 | AW72: -0.1 | AX72: 8.13 | AY72: 0 | AZ72: -0.1 | BA72: 10.63 | BB72: 0 | BC72: -0.43333333 | BD72: 9.63 | BE72: 0 | BF72: -0.1 | BG72: -1 | BH72: -1 | BI72: -1 | BJ72: -1 | BK72: 14.76 | BL72: -1 | BM72: -1.81 | BN72: -1 | BO72: -1 | BP72: -1 | BQ72: -1 | BR72: -1 | BS72: -1 | BT72: -1 | BU72: -1 | BV72: -1 | BW72: -1 | BX72: -1 | BY72: -1 | BZ72: 50.38 | CA72: 0 | CB72: -1.81 | CC72: 8.13 | CD72: 0 | CE72: -0.1 | CF72: StabilityInsideMStab (Bishop) | CG72: 0 | CH72: 0.873 | CI72: 19.16 | CJ72: 0 | CK72: 0 | CL72: 8.88 | CM72: 7.38 | CN72: 6.87 | CO72: 11 | CP72: 15 | CQ72: 50 | CR72: 50 | CS72: 7.38 | CT72: 6.87 | CU72: 18.38 | CV72: 21.87 | CW72: 68.38 | CX72: 71.87 | CY72: 12.38 | CZ72: 159.57696
A73: 174 | B73: 055_042_00036 | C73: OR_3.27_007b | D73: 1 | E73: 055_042_00015 | F73: 055 | G73: Hoogmadesepolder | H73: \OR-3.27\STBI\007b\007b_STBI_hoogwater_metbelasting.sti | I73: gedetailleerd | J73: inclusief 055-042-00016 | K73: POLDERKADE | L73: 055_042_00036 | M73: 055_042_00036.sti | N73: 1 | Q73: b | R73: -0.68 | S73: -2.25 | T73: 1.5 | U73: -0.43 | V73: 3 | W73: 3 | X73: -2.38 | Y73: -1.35 | Z73: -1.75 | AA73: 0.63 | AB73: -1.75 | AC73: -0.83 | AD73: 13 | AE73: III | AF73: 0.9 | AG73: 1.55 | AH73: 5 | AI73: 0 | AJ73: 0 | AK73: -1.35 | AL73: 9.24 | AM73: 0 | AN73: -1.35 | AO73: -1 | AP73: -1 | AQ73: -1 | AR73: -1 | AS73: -1 | AT73: -1 | AU73: 12 | AV73: 0 | AW73: -0.43 | AX73: 12 | AY73: 0 | AZ73: -0.43 | BA73: 14.5 | BB73: 0 | BC73: -0.76333333 | BD73: 13.5 | BE73: 0 | BF73: -0.43 | BG73: -1 | BH73: -1 | BI73: -1 | BJ73: -1 | BK73: 17.46 | BL73: -1 | BM73: -1.75 | BN73: -1 | BO73: -1 | BP73: -1 | BQ73: -1 | BR73: -1 | BS73: -1 | BT73: -1 | BU73: -1 | BV73: -1 | BW73: -1 | BX73: -1 | BY73: -1 | BZ73: 55 | CA73: 0 | CB73: -1.75 | CC73: 12 | CD73: 0 | CE73: -0.43 | CF73: StabilityInsideMStab (UpliftVan) | CG73: 8 | CH73: 1.0066667 | CI73: 21.86 | CJ73: 31.262 | CK73: 0 | CL73: 12.75 | CM73: 6.6 | CN73: 3.51 | CO73: 11 | CP73: 15 | CQ73: 50 | CR73: 50 | CS73: 6.6 | CT73: 3.51 | CU73: 17.6 | CV73: 18.51 | CW73: 67.6 | CX73: 68.51 | CY73: 11.6 | CZ73: 120.66648
A74: 175 | B74: 055_042_00037 | C74: OR_3.27_011a | D74: 1 | E74: 055_042_00017 | F74: 055 | G74: Hoogmadesepolder | H74: \OR-3.27\STBI\011a\011a_STBI_hoogwater_metbelasting.sti | I74: gedetailleerd | K74: BOEZEMKADE | L74: 055_042_00037 | M74: 055_042_00037.sti | N74: 1 | Q74: b | R74: -0.45 | S74: -2.25 | T74: 1.5 | U74: -0.1 | V74: 3.5 | W74: 3 | X74: -2.31 | Y74: -1.64 | Z74: -1.83 | AA74: 0.5 | AB74: -1.81 | AC74: -0.6 | AD74: 13 | AE74: III | AF74: 0.9 | AG74: 1.71 | AH74: -2.6 | AI74: 0 | AJ74: 0 | AK74: -1.64 | AL74: 6.275 | AM74: 0 | AN74: -1.64 | AO74: -1 | AP74: -1 | AQ74: -1 | AR74: -1 | AS74: -1 | AT74: -1 | AU74: 10.895 | AV74: 0 | AW74: -0.1 | AX74: 10.895 | AY74: 0 | AZ74: -0.1 | BA74: 13.395 | BB74: 0 | BC74: -0.38571429 | BD74: 12.395 | BE74: 0 | BF74: -0.1 | BG74: -1 | BH74: -1 | BI74: -1 | BJ74: -1 | BK74: 18.38 | BL74: -1 | BM74: -1.81 | BN74: -1 | BO74: -1 | BP74: -1 | BQ74: -1 | BR74: -1 | BS74: -1 | BT74: -1 | BU74: -1 | BV74: -1 | BW74: -1 | BX74: -1 | BY74: -1 | BZ74: 48.255 | CA74: 0 | CB74: -1.81 | CC74: 10.895 | CD74: 0 | CE74: -0.1 | CF74: StabilityInsideMStab (Bishop) | CG74: 11 | CH74: 0.903 | CI74: 19.93 | CJ74: 21.436 | CK74: 0 | CL74: 11.645 | CM74: 8.485 | CN74: 5.37 | CO74: 11 | CP74: 15 | CQ74: 50 | CR74: 50 | CS74: 8.485 | CT74: 5.37 | CU74: 19.485 | CV74: 20.37 | CW74: 69.485 | CX74: 70.37 | CY74: 13.485 | CZ74: 108.90564
A75: 177 | B75: 144_042_00017 | C75: OR_3.42_002B | D75: 1 | E75: 144_042_00003 | F75: 144 | G75: Veenderpolder | H75: \OR-3.42\DWP-0209\OR-3.42-002B hoogwater m. belasting.sti | I75: gedetailleerd | J75: inclusief 144-042-00004 | K75: BOEZEMKADE | L75: 144_042_00017 | M75: 144_042_00017.sti | N75: 1 | Q75: c | R75: -0.45 | S75: -2.8 | T75: 1.5 | U75: -0.1 | V75: 5 | W75: 3 | X75: -4.75 | Y75: -2.14 | Z75: -4.03 | AA75: 0.72 | AB75: -4.03 | AC75: -0.6 | AD75: 13 | AE75: III | AF75: 0.9 | AG75: 4.15 | AH75: 0 | AI75: 0 | AJ75: 0 | AK75: -2.14 | AL75: 7.38 | AM75: 0 | AN75: -2.14 | AO75: -1 | AP75: -1 | AQ75: -1 | AR75: -1 | AS75: -1 | AT75: -1 | AU75: 13.5 | AV75: 0 | AW75: -0.1 | AX75: 13.5 | AY75: 0 | AZ75: -0.1 | BA75: 16 | BB75: 0 | BC75: -0.3 | BD75: 15 | BE75: 0 | BF75: -0.1 | BG75: -1 | BH75: -1 | BI75: -1 | BJ75: -1 | BK75: 34.65 | BL75: -1 | BM75: -4.03 | BN75: -1 | BO75: -1 | BP75: -1 | BQ75: -1 | BR75: -1 | BS75: -1 | BT75: -1 | BU75: -1 | BV75: -1 | BW75: -1 | BX75: -1 | BY75: -1 | BZ75: 67.86 | CA75: 0 | CB75: -4.03 | CC75: 13.5 | CD75: 0 | CE75: -0.1 | CF75: StabilityInsideMStab (Bishop) | CG75: 12 | CH75: 1.019 | CI75: 37.215 | CJ75: 32.871 | CK75: 0 | CL75: 14.25 | CM75: 24 | CN75: 6.87 | CO75: 11 | CP75: 15 | CQ75: 50 | CR75: 50 | CS75: 24 | CT75: 6.87 | CU75: 35 | CV75: 21.87 | CW75: 85 | CX75: 71.87 | CY75: 29 | CZ75: 492.98205
A76: 178 | B76: 144_042_00020 | C76: OR_3.42_012A | D76: 1 | E76: 144_042_00011 | F76: 144 | G76: Veenderpolder | H76: \OR-3.42\DWP-0367\OR-3.42-012A hoogwater m. belasting.sti | I76: gedetailleerd | K76: POLDERKADE | L76: 144_042_00020 | M76: 144_042_00020.sti | N76: 1 | Q76: c | R76: -1.22 | S76: -3.05 | T76: 1.5 | U76: -1.06 | V76: 4.5 | W76: 3 | X76: -5.12 | Y76: -3.24 | Z76: -4.39 | AA76: 0.73 | AB76: -4.39 | AC76: -1.46 | AD76: 13 | AE76: III | AF76: 0.9 | AG76: 3.66 | AH76: 0 | AI76: 0 | AJ76: 0 | AK76: -3.24 | AL76: 5.46 | AM76: 0 | AN76: -3.24 | AO76: -1 | AP76: -1 | AQ76: -1 | AR76: -1 | AS76: -1 | AT76: -1 | AU76: 12 | AV76: 0 | AW76: -1.06 | AX76: 12 | AY76: 0 | AZ76: -1.06 | BA76: 14.5 | BB76: 0 | BC76: -1.2822222 | BD76: 13.5 | BE76: 0 | BF76: -1.06 | BG76: -1 | BH76: -1 | BI76: -1 | BJ76: -1 | BK76: 28.485 | BL76: -1 | BM76: -4.39 | BN76: -1 | BO76: -1 | BP76: -1 | BQ76: -1 | BR76: -1 | BS76: -1 | BT76: -1 | BU76: -1 | BV76: -1 | BW76: -1 | BX76: -1 | BY76: -1 | BZ76: 59.995 | CA76: 0 | CB76: -4.39 | CC76: 12 | CD76: 0 | CE76: -1.06 | CF76: StabilityInsideMStab (Bishop) | CG76: 12 | CH76: 1.184 | CI76: 29.085 | CJ76: 34.714 | CK76: 0 | CL76: 12.75 | CM76: 19.02 | CN76: 7.29 | CO76: 11 | CP76: 15 | CQ76: 50 | CR76: 50 | CS76: 19.02 | CT76: 7.29 | CU76: 30.02 | CV76: 22.29 | CW76: 80.02 | CX76: 72.29 | CY76: 24.02 | CZ76: 266.95219
A77: 179 | B77: 144_042_00019 | C77: OR_3.42_011 | D77: 1 | E77: 144_042_00009 | F77: 144 | G77: Veenderpolder | H77: \OR-3.42\DWP-0323\OR-3.42-011 hoogwater m. belasting.sti | I77: gedetailleerd | J77: inclusief 144-042-00010 | K77: POLDERKADE | L77: 144_042_00019 | M77: 144_042_00019.sti | N77: 1 | O77: L Kruinhoogte aangepast BRR | Q77: c | R77: -1.22 | S77: -3.05 | T77: 1.5 | U77: -1.06 | V77: 4 | W77: 3 | X77: -5.24 | Y77: -3.74 | Z77: -4.66 | AA77: 0.58 | AB77: -4.66 | AC77: -1.42 | AD77: 13 | AE77: III | AF77: 0.9 | AG77: 3.82 | AH77: 0 | AI77: 0 | AJ77: 0 | AK77: -3.74 | AL77: 5.96 | AM77: 0 | AN77: -3.74 | AO77: -1 | AP77: -1 | AQ77: -1 | AR77: -1 | AS77: -1 | AT77: -1 | AU77: 14 | AV77: 0 | AW77: -1.06 | AX77: 14 | AY77: 0 | AZ77: -1.06 | BA77: 16.5 | BB77: 0 | BC77: -1.31 | BD77: 15.5 | BE77: 0 | BF77: -1.06 | BG77: -1 | BH77: -1 | BI77: -1 | BJ77: -1 | BK77: 29.9 | BL77: -1 | BM77: -4.66 | BN77: -1 | BO77: -1 | BP77: -1 | BQ77: -1 | BR77: -1 | BS77: -1 | BT77: -1 | BU77: -1 | BV77: -1 | BW77: -1 | BX77: -1 | BY77: -1 | BZ77: 48.6 | CA77: 0 | CB77: -4.66 | CC77: 14 | CD77: 0 | CE77: -1.06 | CF77: StabilityInsideMStab (Bishop) | CG77: 12 | CH77: 1.241 | CI77: 32.3 | CJ77: 39.4 | CK77: 0 | CL77: 14.75 | CM77: 17.47 | CN77: 8.79 | CO77: 11 | CP77: 15 | CQ77: 50 | CR77: 50 | CS77: 17.47 | CT77: 8.79 | CU77: 28.47 | CV77: 23.79 | CW77: 78.47 | CX77: 73.79 | CY77: 22.47 | CZ77: 270.29029
A78: 180 | B78: 028_042_00030 | C78: OR_3.43_006b | D78: 1 | E78: 028_042_00009 | F78: 028 | G78: Drooggemaakte Veender- en Lijkerpolder | H78: \OR-3.43\STBI_hoogwater\Kadevak_006b_007_STBI_hoogwater_met_verkeer.sti | I78: gedetailleerd | J78: inclusief 028-042-00010 | K78: POLDERKADE | L78: 028_042_00030 | M78: 028_042_00030.sti | N78: 1 | Q78: a | R78: -1.22 | S78: -3.2 | T78: 1.5 | U78: -1.06 | V78: 4 | W78: 3 | X78: -4.6 | Y78: -3.04 | Z78: -3.73 | AA78: 0.87 | AB78: -3.73 | AC78: -1.46 | AD78: 13 | AE78: III | AF78: 0.9 | AG78: 3.14 | AH78: 0 | AI78: 0 | AJ78: 0 | AK78: -3.04 | AL78: 2.56 | AM78: 0 | AN78: -3.04 | AO78: -1 | AP78: -1 | AQ78: -1 | AR78: -1 | AS78: -1 | AT78: -1 | AU78: 8.5 | AV78: 0 | AW78: -1.06 | AX78: 8.5 | AY78: 0 | AZ78: -1.06 | BA78: 11 | BB78: 0 | BC78: -1.31 | BD78: 10 | BE78: 0 | BF78: -1.06 | BG78: -1 | BH78: -1 | BI78: -1 | BJ78: -1 | BK78: 20.68 | BL78: -1 | BM78: -3.73 | BN78: -1 | BO78: -1 | BP78: -1 | BQ78: -1 | BR78: -1 | BS78: -1 | BT78: -1 | BU78: -1 | BV78: -1 | BW78: -1 | BX78: -1 | BY78: -1 | BZ78: 62.67 | CA78: 0 | CB78: -3.73 | CC78: 8.5 | CD78: 0 | CE78: -1.06 | CF78: StabilityInsideMStab (Bishop) | CG78: 12 | CH78: 1.004 | CI78: 22.615 | CJ78: 19.619 | CK78: 0 | CL78: 9.25 | CM78: 14.91 | CN78: 6.69 | CO78: 11 | CP78: 15 | CQ78: 50 | CR78: 50 | CS78: 14.91 | CT78: 6.69 | CU78: 25.91 | CV78: 21.69 | CW78: 75.91 | CX78: 71.69 | CY78: 19.91 | CZ78: 902.72116
A79: 181 | B79: 028_042_00034 | C79: OR_3.43_008c | D79: 1 | E79: 028_042_00015 | F79: 028 | G79: Drooggemaakte Veender- en Lijkerpolder | H79: \OR-3.43\STBI_hoogwater\Kadevak_008c_STBI_hoogwater_met_verkeer.sti | I79: gedetailleerd | J79: inclusief 028-042-00016 | K79: POLDERKADE | L79: 028_042_00034 | M79: 028_042_00034.sti | N79: 1 | Q79: a | R79: -1.22 | S79: -3.2 | T79: 1.5 | U79: -1.06 | V79: 4.5 | W79: 3 | X79: -4.85 | Y79: -3.44 | Z79: -3.42 | AA79: 1.43 | AB79: -3.42 | AC79: -1.46 | AD79: 13 | AE79: III | AF79: 0.9 | AG79: 3.39 | AH79: 0 | AI79: 0 | AJ79: 0 | AK79: -3.44 | AL79: 10.11 | AM79: 0 | AN79: -3.44 | AO79: -1 | AP79: -1 | AQ79: -1 | AR79: -1 | AS79: -1 | AT79: -1 | AU79: 17.25 | AV79: 0 | AW79: -1.06 | AX79: 17.25 | AY79: 0 | AZ79: -1.06 | BA79: 19.75 | BB79: 0 | BC79: -1.2822222 | BD79: 18.75 | BE79: 0 | BF79: -1.06 | BG79: -1 | BH79: -1 | BI79: -1 | BJ79: -1 | BK79: 29.37 | BL79: -1 | BM79: -3.42 | BN79: -1 | BO79: -1 | BP79: -1 | BQ79: -1 | BR79: -1 | BS79: -1 | BT79: -1 | BU79: -1 | BV79: -1 | BW79: -1 | BX79: -1 | BY79: -1 | BZ79: 57.11 | CA79: 0 | CB79: -3.42 | CC79: 17.25 | CD79: 0 | CE79: -1.06 | CF79: StabilityInsideMStab (Bishop) | CG79: 11 | CH79: 0.906 | CI79: 30.92 | CJ79: 30.117 | CK79: 0 | CL79: 18 | CM79: 17.805 | CN79: 7.89 | CO79: 11 | CP79: 15 | CQ79: 50 | CR79: 50 | CS79: 17.805 | CT79: 7.89 | CU79: 28.805 | CV79: 22.89 | CW79: 78.805 | CX79: 72.89 | CY79: 22.805 | CZ79: 368.98963
A80: 182 | B80: 028_042_00023 | C80: OR_3.43_013 | D80: 1 | E80: 028_042_00023 | F80: 028 | G80: Drooggemaakte Veender- en Lijkerpolder | H80: \OR-3.43\STBI_hoogwater\Kadevak_013_STBI_hoogwater_met_verkeer.sti | I80: gedetailleerd | K80: POLDERKADE | L80: 028_042_00023 | M80: 028_042_00023.sti | N80: 1 | Q80: a | R80: -1.21 | S80: -2.45 | T80: 1.5 | U80: -0.98 | V80: 4.5 | W80: 3 | X80: -4.45 | Y80: -2.75 | Z80: -3.74 | AA80: 0.71 | AB80: -3.74 | AC80: -1.38 | AD80: 13 | AE80: III | AF80: 0.9 | AG80: 3.07 | AH80: 0 | AI80: 0 | AJ80: 0 | AK80: -2.75 | AL80: 5.94 | AM80: 0 | AN80: -2.75 | AO80: -1 | AP80: -1 | AQ80: -1 | AR80: -1 | AS80: -1 | AT80: -1 | AU80: 11.25 | AV80: 0 | AW80: -0.98 | AX80: 11.25 | AY80: 0 | AZ80: -0.98 | BA80: 13.75 | BB80: 0 | BC80: -1.2022222 | BD80: 12.75 | BE80: 0 | BF80: -0.98 | BG80: -1 | BH80: -1 | BI80: -1 | BJ80: -1 | BK80: 25.17 | BL80: -1 | BM80: -3.74 | BN80: -1 | BO80: -1 | BP80: -1 | BQ80: -1 | BR80: -1 | BS80: -1 | BT80: -1 | BU80: -1 | BV80: -1 | BW80: -1 | BX80: -1 | BY80: -1 | BZ80: 59.64 | CA80: 0 | CB80: -3.74 | CC80: 11.25 | CD80: 0 | CE80: -0.98 | CF80: StabilityInsideMStab (Bishop) | CG80: 12 | CH80: 0.961 | CI80: 25.77 | CJ80: 23.985 | CK80: 0 | CL80: 12 | CM80: 16.365 | CN80: 6.06 | CO80: 11 | CP80: 15 | CQ80: 50 | CR80: 50 | CS80: 16.365 | CT80: 6.06 | CU80: 27.365 | CV80: 21.06 | CW80: 77.365 | CX80: 71.06 | CY80: 21.365 | CZ80: 315.61221
A81: 183 | B81: 028_042_00037 | C81: OR_3.43_014 | D81: 1 | E81: 028_042_00024 | F81: 028 | G81: Drooggemaakte Veender- en Lijkerpolder | H81: \OR-3.43\STBI_hoogwater\Kadevak_014_STBI_hoogwater_met_verkeer.sti | I81: gedetailleerd | J81: inclusief 028-042-00025 | K81: POLDERKADE | L81: 028_042_00037 | M81: 028_042_00037.sti | N81: 1 | Q81: a | R81: -1.21 | S81: -2.45 | T81: 1.5 | U81: -0.98 | V81: 4 | W81: 3 | X81: -4.4 | Y81: -2.75 | Z81: -3.75 | AA81: 0.65 | AB81: -3.75 | AC81: -1.38 | AD81: 13 | AE81: III | AF81: 0.9 | AG81: 3.02 | AH81: 0 | AI81: 0 | AJ81: 0 | AK81: -2.75 | AL81: 8.94 | AM81: 0 | AN81: -2.75 | AO81: -1 | AP81: -1 | AQ81: -1 | AR81: -1 | AS81: -1 | AT81: -1 | AU81: 14.25 | AV81: 0 | AW81: -0.98 | AX81: 14.25 | AY81: 0 | AZ81: -0.98 | BA81: 16.75 | BB81: 0 | BC81: -1.23 | BD81: 15.75 | BE81: 0 | BF81: -0.98 | BG81: -1 | BH81: -1 | BI81: -1 | BJ81: -1 | BK81: 26.83 | BL81: -1 | BM81: -3.75 | BN81: -1 | BO81: -1 | BP81: -1 | BQ81: -1 | BR81: -1 | BS81: -1 | BT81: -1 | BU81: -1 | BV81: -1 | BW81: -1 | BX81: -1 | BY81: -1 | BZ81: 60.77 | CA81: 0 | CB81: -3.75 | CC81: 14.25 | CD81: 0 | CE81: -0.98 | CF81: StabilityInsideMStab (Bishop) | CG81: 12 | CH81: 0.951 | CI81: 27.43 | CJ81: 23.532 | CK81: 0 | CL81: 15 | CM81: 14.43 | CN81: 6.06 | CO81: 11 | CP81: 15 | CQ81: 50 | CR81: 50 | CS81: 14.43 | CT81: 6.06 | CU81: 25.43 | CV81: 21.06 | CW81: 75.43 | CX81: 71.06 | CY81: 19.43 | CZ81: 482.23197
A82: 193 | B82: 157_042_00016 | C82: OR_1.02_001B | D82: 1 | E82: 157_042_00001 | F82: 157 | G82: Vosse- en Weerlanerpolder | H82: \OR-1.02\OR-1.02-001B\OR-1.02-001B_HW_metbelasting.sti | I82: gedetailleerd | K82: BOEZEMKADE | L82: 157_042_00016 | M82: 157_042_00016.sti | N82: 1 | Q82: c | R82: -0.49 | S82: -2.6 | T82: 1.5 | U82: -0.1 | V82: 3 | W82: 3 | X82: -3.45 | Y82: -4.14 | Z82: -2.82 | AA82: 0.63 | AB82: -2.82 | AC82: -0.6 | AD82: 5 | AE82: III | AF82: 0.9 | AG82: 2.85 | AH82: 8.01 | AI82: 0 | AJ82: 0 | AK82: -4.14 | AL82: 24.64 | AM82: 0 | AN82: -4.14 | AO82: -1 | AP82: -1 | AQ82: -1 | AR82: -1 | AS82: -1 | AT82: -1 | AU82: 36.76 | AV82: 0 | AW82: -0.1 | AX82: 36.76 | AY82: 0 | AZ82: -0.1 | BA82: 39.26 | BB82: 0 | BC82: -0.43333333 | BD82: 38.26 | BE82: 0 | BF82: -0.1 | BG82: -1 | BH82: -1 | BI82: -1 | BJ82: -1 | BK82: 46.42 | BL82: -1 | BM82: -2.82 | BN82: -1 | BO82: -1 | BP82: -1 | BQ82: -1 | BR82: -1 | BS82: -1 | BT82: -1 | BU82: -1 | BV82: -1 | BW82: -1 | BX82: -1 | BY82: -1 | BZ82: 65.51 | CA82: 0 | CB82: -2.82 | CC82: 36.76 | CD82: 0 | CE82: -0.1 | CF82: StabilityInsideMStab (Bishop) | CG82: 11 | CH82: 0.913 | CI82: 47.97 | CJ82: 49.968 | CK82: 0 | CL82: 37.51 | CM82: 10.8 | CN82: 12.87 | CO82: 11 | CP82: 15 | CQ82: 50 | CR82: 50 | CS82: 10.8 | CT82: 12.87 | CU82: 21.8 | CV82: 27.87 | CW82: 71.8 | CX82: 77.87 | CY82: 15.8 | CZ82: 118.04388
A83: 196 | B83: 157_042_00036 | C83: OR_1.02_009B | D83: 1 | E83: 157_042_00011 | F83: 157 | G83: Vosse- en Weerlanerpolder | H83: \OR-1.02\OR-1.02-009A\OR-1.02-009A_HW_metbelasting.sti | I83: gedetailleerd | K83: BOEZEMKADE | L83: 157_042_00036 | M83: 157_042_00036.sti | N83: 1 | O83: drooglegging aangepast door Bouke d.d. 18 maart 2013 | Q83: c | R83: -0.49 | S83: -1.6 | T83: 1.5 | U83: -0.1 | V83: 3 | W83: 3 | X83: -1.75 | Y83: -1.39 | Z83: -0.21 | AA83: 1 | AB83: -0.75 | AC83: -0.6 | AD83: 5 | AE83: III | AF83: 0.9 | AG83: 1.15 | AH83: 2.94 | AI83: 0 | AJ83: 0 | AK83: -1.39 | AL83: 2.07 | AM83: 0 | AN83: -1.39 | AO83: -1 | AP83: -1 | AQ83: -1 | AR83: -1 | AS83: -1 | AT83: -1 | AU83: 5.94 | AV83: 0 | AW83: -0.1 | AX83: 5.94 | AY83: 0 | AZ83: -0.1 | BA83: 8.44 | BB83: 0 | BC83: -0.43333333 | BD83: 7.44 | BE83: 0 | BF83: -0.1 | BG83: -1 | BH83: -1 | BI83: -1 | BJ83: -1 | BK83: 9.39 | BL83: -1 | BM83: -0.75 | BN83: -1 | BO83: -1 | BP83: -1 | BQ83: -1 | BR83: -1 | BS83: -1 | BT83: -1 | BU83: -1 | BV83: -1 | BW83: -1 | BX83: -1 | BY83: -1 | BZ83: 49.94 | CA83: 0 | CB83: -0.75 | CC83: 5.94 | CD83: 0 | CE83: -0.1 | CF83: StabilityInsideMStab (Bishop) | CG83: 11 | CH83: 1.169 | CI83: 10.94 | CJ83: 17.851 | CK83: 0 | CL83: 6.69 | CM83: 5.7 | CN83: 4.62 | CO83: 11 | CP83: 15 | CQ83: 50 | CR83: 50 | CS83: 5.7 | CT83: 4.62 | CU83: 16.7 | CV83: 19.62 | CW83: 66.7 | CX83: 69.62 | CY83: 10.7 | CZ83: 69.61108
A84: 197 | B84: 157_042_00037 | C84: OR_1.02_009C | D84: 1 | E84: 157_042_00012 | F84: 157 | G84: Vosse- en Weerlanerpolder | H84: \OR-1.02\OR-1.02-009A\OR-1.02-009A_HW_metbelasting.sti | I84: gedetailleerd | J84: inclusief deel 157-042-00013 | K84: BOEZEMKADE | L84: 157_042_00037 | M84: 157_042_00037.sti | N84: 1 | O84: drooglegging aangepast door Bouke d.d. 18 maart 2013 | Q84: c | R84: -0.49 | S84: -1.6 | T84: 1.5 | U84: -0.1 | V84: 3 | W84: 3 | X84: -1.75 | Y84: -1.14 | Z84: -0.21 | AA84: 1 | AB84: -0.75 | AC84: -0.6 | AD84: 5 | AE84: III | AF84: 0.9 | AG84: 1.15 | AH84: 2.94 | AI84: 0 | AJ84: 0 | AK84: -1.14 | AL84: 2.82 | AM84: 0 | AN84: -1.14 | AO84: -1 | AP84: -1 | AQ84: -1 | AR84: -1 | AS84: -1 | AT84: -1 | AU84: 5.94 | AV84: 0 | AW84: -0.1 | AX84: 5.94 | AY84: 0 | AZ84: -0.1 | BA84: 8.44 | BB84: 0 | BC84: -0.43333333 | BD84: 7.44 | BE84: 0 | BF84: -0.1 | BG84: -1 | BH84: -1 | BI84: -1 | BJ84: -1 | BK84: 9.39 | BL84: -1 | BM84: -0.75 | BN84: -1 | BO84: -1 | BP84: -1 | BQ84: -1 | BR84: -1 | BS84: -1 | BT84: -1 | BU84: -1 | BV84: -1 | BW84: -1 | BX84: -1 | BY84: -1 | BZ84: 49.94 | CA84: 0 | CB84: -0.75 | CC84: 5.94 | CD84: 0 | CE84: -0.1 | CF84: StabilityInsideMStab (Bishop) | CG84: 11 | CH84: 1.169 | CI84: 10.94 | CJ84: 17.851 | CK84: 0 | CL84: 6.69 | CM84: 5.7 | CN84: 3.87 | CO84: 11 | CP84: 15 | CQ84: 50 | CR84: 50 | CS84: 5.7 | CT84: 3.87 | CU84: 16.7 | CV84: 18.87 | CW84: 66.7 | CX84: 68.87 | CY84: 10.7 | CZ84: 248.07503
A85: 198 | B85: 157_042_00043 | C85: OR_1.02_010D | D85: 1 | E85: 157_042_00014 | F85: 157 | G85: Vosse- en Weerlanerpolder | H85: \OR-1.02\OR-1.02-010D\OR-1.02-010D_HW_metbelasting.sti | I85: gedetailleerd | K85: BOEZEMKADE | L85: 157_042_00043 | M85: 157_042_00043.sti | N85: 1 | Q85: c | R85: -0.49 | S85: -2.6 | T85: 1.5 | U85: -0.1 | V85: 4.5 | W85: 3 | X85: -3.45 | Y85: -4.14 | Z85: -2.82 | AA85: 0.63 | AB85: -2.82 | AC85: -0.6 | AD85: 13 | AE85: III | AF85: 0.9 | AG85: 2.85 | AH85: 2.93 | AI85: 0 | AJ85: 0 | AK85: -4.14 | AL85: 14.06 | AM85: 0 | AN85: -4.14 | AO85: -1 | AP85: -1 | AQ85: -1 | AR85: -1 | AS85: -1 | AT85: -1 | AU85: 26.18 | AV85: 0 | AW85: -0.1 | AX85: 26.18 | AY85: 0 | AZ85: -0.1 | BA85: 28.68 | BB85: 0 | BC85: -0.32222222 | BD85: 27.68 | BE85: 0 | BF85: -0.1 | BG85: -1 | BH85: -1 | BI85: -1 | BJ85: -1 | BK85: 39.92 | BL85: -1 | BM85: -2.82 | BN85: -1 | BO85: -1 | BP85: -1 | BQ85: -1 | BR85: -1 | BS85: -1 | BT85: -1 | BU85: -1 | BV85: -1 | BW85: -1 | BX85: -1 | BY85: -1 | BZ85: 66.01 | CA85: 0 | CB85: -2.82 | CC85: 26.18 | CD85: 0 | CE85: -0.1 | CF85: StabilityInsideMStab (Bishop) | CG85: 11 | CH85: 0.9 | CI85: 41.47 | CJ85: 40.883 | CK85: 0 | CL85: 26.93 | CM85: 15.825 | CN85: 12.87 | CO85: 11 | CP85: 15 | CQ85: 50 | CR85: 50 | CS85: 15.825 | CT85: 12.87 | CU85: 26.825 | CV85: 27.87 | CW85: 76.825 | CX85: 77.87 | CY85: 20.825 | CZ85: 288.02998
A86: 199 | B86: 157_042_00042 | C86: OR_1.02_010C | D86: 1 | E86: 157_042_00014 | F86: 157 | G86: Vosse- en Weerlanerpolder | H86: \OR-1.02\OR-1.02-010D\OR-1.02-010D_HW_metbelasting.sti | I86: gedetailleerd | K86: BOEZEMKADE | L86: 157_042_00042 | M86: 157_042_00042.sti | N86: 1 | Q86: c | R86: -0.49 | S86: -2.6 | T86: 1.5 | U86: -0.1 | V86: 4.5 | W86: 3 | X86: -3.45 | Y86: -4.14 | Z86: -2.82 | AA86: 0.63 | AB86: -2.82 | AC86: -0.6 | AD86: 13 | AE86: III | AF86: 0.9 | AG86: 2.85 | AH86: 2.93 | AI86: 0 | AJ86: 0 | AK86: -4.14 | AL86: 14.06 | AM86: 0 | AN86: -4.14 | AO86: -1 | AP86: -1 | AQ86: -1 | AR86: -1 | AS86: -1 | AT86: -1 | AU86: 26.18 | AV86: 0 | AW86: -0.1 | AX86: 26.18 | AY86: 0 | AZ86: -0.1 | BA86: 28.68 | BB86: 0 | BC86: -0.32222222 | BD86: 27.68 | BE86: 0 | BF86: -0.1 | BG86: -1 | BH86: -1 | BI86: -1 | BJ86: -1 | BK86: 39.92 | BL86: -1 | BM86: -2.82 | BN86: -1 | BO86: -1 | BP86: -1 | BQ86: -1 | BR86: -1 | BS86: -1 | BT86: -1 | BU86: -1 | BV86: -1 | BW86: -1 | BX86: -1 | BY86: -1 | BZ86: 66.01 | CA86: 0 | CB86: -2.82 | CC86: 26.18 | CD86: 0 | CE86: -0.1 | CF86: StabilityInsideMStab (Bishop) | CG86: 11 | CH86: 0.9 | CI86: 41.47 | CJ86: 40.883 | CK86: 0 | CL86: 26.93 | CM86: 15.825 | CN86: 12.87 | CO86: 11 | CP86: 15 | CQ86: 50 | CR86: 50 | CS86: 15.825 | CT86: 12.87 | CU86: 26.825 | CV86: 27.87 | CW86: 76.825 | CX86: 77.87 | CY86: 20.825 | CZ86: 84.2755
A87: 201 | B87: 002_042_00043 | C87: OR_3.10_005A | D87: 1 | E87: 002_042_00015 | F87: 002 | G87: Polder Achthoven | H87: \Verschoven_MStab\OR-3.10-005B hoogwater m. belasting.sti | I87: gedetailleerd | K87: BOEZEMKADE | L87: 002_042_00043 | M87: 002_042_00043_V.sti | N87: 1 | O87: Mstab verschoven | Q87: a | R87: -0.44 | S87: -2.1 | T87: 1.5 | U87: -0.1 | V87: 3 | W87: 2 | X87: -2.05 | Y87: -4.04 | Z87: -1.33 | AA87: 0.72 | AB87: -1.33 | AC87: -0.6 | AD87: 5 | AE87: III | AF87: 0.9 | AG87: 1.45 | AH87: 7 | AI87: 0 | AJ87: 0 | AK87: -4.04 | AL87: 2.37 | AM87: 0 | AN87: -4.04 | AO87: -1 | AP87: -1 | AQ87: -1 | AR87: -1 | AS87: -1 | AT87: -1 | AU87: 10.25 | AV87: 0 | AW87: -0.1 | AX87: 10.25 | AY87: 0 | AZ87: -0.1 | BA87: 12.75 | BB87: 0 | BC87: -0.43333333 | BD87: 11.75 | BE87: 0 | BF87: -0.1 | BG87: -1 | BH87: -1 | BI87: -1 | BJ87: -1 | BK87: 15.44 | BL87: -1 | BM87: -1.33 | BN87: -1 | BO87: -1 | BP87: -1 | BQ87: -1 | BR87: -1 | BS87: -1 | BT87: -1 | BU87: -1 | BV87: -1 | BW87: -1 | BX87: -1 | BY87: -1 | BZ87: 22 | CA87: 0 | CB87: -1.33 | CC87: 10.25 | CD87: 0 | CE87: -0.1 | CF87: StabilityInsideMStab (Bishop) | CG87: 12 | CH87: 1.218 | CI87: 16.04 | CJ87: 20.444 | CK87: 0 | CL87: 11 | CM87: 6.6 | CN87: 8.63 | CO87: 11 | CP87: 15 | CQ87: 50 | CR87: 50 | CS87: 6.6 | CT87: 8.63 | CU87: 17.6 | CV87: 23.63 | CW87: 67.6 | CX87: 73.63 | CY87: 11.6 | CZ87: 85.142065
A88: 202 | B88: 002_042_00048 | C88: OR_3.10_006C | D88: 1 | E88: 002_042_00030 | F88: 002 | G88: Polder Achthoven | H88: \OR-3.10\DWP 07.33\OR-3.10-006C hoogwater m. belasting.sti | I88: gedetailleerd | J88: inclusief 002-042-00031 en 002-042-00032 | K88: BOEZEMKADE | L88: 002_042_00048 | M88: 002_042_00048.sti | N88: 1 | Q88: a | R88: -0.41 | S88: -1.8 | T88: 1.5 | U88: -0.1 | V88: 3 | W88: 2 | X88: -1.95 | Y88: -2.44 | Z88: -1.3 | AA88: 0.65 | AB88: -1.3 | AC88: -0.6 | AD88: 5 | AE88: III | AF88: 0.9 | AG88: 1.35 | AH88: 7.5 | AI88: 0 | AJ88: 0 | AK88: -2.44 | AL88: 11.32 | AM88: 0 | AN88: -2.44 | AO88: -1 | AP88: -1 | AQ88: -1 | AR88: -1 | AS88: -1 | AT88: -1 | AU88: 16 | AV88: 0 | AW88: -0.1 | AX88: 16 | AY88: 0 | AZ88: -0.1 | BA88: 18.5 | BB88: 0 | BC88: -0.43333333 | BD88: 17.5 | BE88: 0 | BF88: -0.1 | BG88: -1 | BH88: -1 | BI88: -1 | BJ88: -1 | BK88: 21.1 | BL88: -1 | BM88: -1.3 | BN88: -1 | BO88: -1 | BP88: -1 | BQ88: -1 | BR88: -1 | BS88: -1 | BT88: -1 | BU88: -1 | BV88: -1 | BW88: -1 | BX88: -1 | BY88: -1 | BZ88: 27.5 | CA88: 0 | CB88: -1.3 | CC88: 16 | CD88: 0 | CE88: -0.1 | CF88: StabilityInsideMStab (Bishop) | CG88: 12 | CH88: 1.193 | CI88: 21.7 | CJ88: 26.439 | CK88: 0 | CL88: 16.75 | CM88: 6.3 | CN88: 5.43 | CO88: 11 | CP88: 15 | CQ88: 50 | CR88: 50 | CS88: 6.3 | CT88: 5.43 | CU88: 17.3 | CV88: 20.43 | CW88: 67.3 | CX88: 70.43 | CY88: 11.3 | CZ88: 538.40796
A89: 203 | B89: 021_042_00011 | C89: OR_3.18_006A | D89: 1 | E89: 021_042_00004 | F89: 021 | G89: Doespolder | H89: \OR-3.18\OR-3.18-006B\Doespolder006B_HW_VK5.sti | I89: gedetailleerd | K89: POLDERKADE | L89: 021_042_00011 | M89: 021_042_00011.sti | N89: 1 | Q89: a | R89: -0.66 | S89: -2.3 | T89: 1.5 | U89: -0.35 | V89: 3 | W89: 2.5 | X89: -2.25 | Y89: -1.12 | Z89: -1.49 | AA89: 0.76 | AB89: -1.49 | AC89: -0.75 | AD89: 5 | AE89: III | AF89: 0.9 | AG89: 1.5 | AH89: 3.41 | AI89: 0 | AJ89: 0 | AK89: -1.12 | AL89: 2.485 | AM89: 0 | AN89: -1.12 | AO89: -1 | AP89: -1 | AQ89: -1 | AR89: -1 | AS89: -1 | AT89: -1 | AU89: 4.41 | AV89: 0 | AW89: -0.35 | AX89: 4.41 | AY89: 0 | AZ89: -0.35 | BA89: 6.91 | BB89: 0 | BC89: -0.68333333 | BD89: 5.91 | BE89: 0 | BF89: -0.35 | BG89: -1 | BH89: -1 | BI89: -1 | BJ89: -1 | BK89: 9.33 | BL89: -1 | BM89: -1.49 | BN89: -1 | BO89: -1 | BP89: -1 | BQ89: -1 | BR89: -1 | BS89: -1 | BT89: -1 | BU89: -1 | BV89: -1 | BW89: -1 | BX89: -1 | BY89: -1 | BZ89: 33.41 | CA89: 0 | CB89: -1.49 | CC89: 4.41 | CD89: 0 | CE89: -0.35 | CF89: StabilityInsideMStab (Bishop) | CG89: 7 | CH89: 0.965 | CI89: 14.68 | CJ89: 21.572 | CK89: 0 | CL89: 5.16 | CM89: 6.45 | CN89: 2.675 | CO89: 11 | CP89: 15 | CQ89: 50 | CR89: 50 | CS89: 6.45 | CT89: 2.675 | CU89: 17.45 | CV89: 17.675 | CW89: 67.45 | CX89: 67.675 | CY89: 11.45 | CZ89: 159.16694
A90: 204 | B90: 055_042_00004 | C90: OR_3.27_002d | D90: 1 | E90: 055_042_00004 | F90: 055 | G90: Hoogmadesepolder | H90: \OR-3.27\STBI\002a\002a_STBI_hoogwater_metbelasting.sti | I90: gedetailleerd | J90: inclusief 055-042-00005, 055-042-00006 en 055-042-00007, VERKEERSBELASTING = 13 | K90: BOEZEMKADE | L90: 055_042_00004 | M90: 055_042_00004.sti | N90: 1 | O90: VERKEERSBELASTING = 13 | Q90: b | R90: -0.45 | S90: -2.25 | T90: 1.5 | U90: -0.1 | V90: 3.5 | W90: 3 | X90: -2.28 | Y90: -2.44 | Z90: -1.54 | AA90: 0.74 | AB90: -1.54 | AC90: -0.6 | AD90: 13 | AE90: III | AF90: 0.9 | AG90: 1.68 | AH90: 6.12 | AI90: 0 | AJ90: 0 | AK90: -2.44 | AL90: 7.85 | AM90: 0 | AN90: -2.44 | AO90: -1 | AP90: -1 | AQ90: -1 | AR90: -1 | AS90: -1 | AT90: -1 | AU90: 14.87 | AV90: 0 | AW90: -0.1 | AX90: 14.87 | AY90: 0 | AZ90: -0.1 | BA90: 17.37 | BB90: 0 | BC90: -0.38571429 | BD90: 16.37 | BE90: 0 | BF90: -0.1 | BG90: -1 | BH90: -1 | BI90: -1 | BJ90: -1 | BK90: 21.41 | BL90: -1 | BM90: -1.54 | BN90: -1 | BO90: -1 | BP90: -1 | BQ90: -1 | BR90: -1 | BS90: -1 | BT90: -1 | BU90: -1 | BV90: -1 | BW90: -1 | BX90: -1 | BY90: -1 | BZ90: 55.34 | CA90: 0 | CB90: -1.54 | CC90: 14.87 | CD90: 0 | CE90: -0.1 | CF90: StabilityInsideMStab (Bishop) | CG90: 3 | CH90: 0.901 | CI90: 30.56 | CJ90: 24.163 | CK90: 0 | CL90: 15.62 | CM90: 8.38 | CN90: 7.77 | CO90: 13 | CP90: 15 | CQ90: 50 | CR90: 50 | CS90: 8.38 | CT90: 7.77 | CU90: 21.38 | CV90: 22.77 | CW90: 71.38 | CX90: 72.77 | CY90: 15.38 | CZ90: 404.02555
A91: 205 | B91: 055_042_00030 | C91: OR_3.27_003 | D91: 1 | E91: 055_042_00007 | F91: 055 | G91: Hoogmadesepolder | H91: \OR-3.27\STBI\003\003_STBI_hoogwater_metbelasting.sti | I91: gedetailleerd | J91: inclusief 055-042-00008 | K91: BOEZEMKADE | L91: 055_042_00030 | M91: 055_042_00030.sti | N91: 1 | Q91: b | R91: -0.45 | S91: -2.25 | T91: 1.5 | U91: -0.1 | V91: 3.5 | W91: 3 | X91: -2.28 | Y91: -2.44 | Z91: -1.54 | AA91: 0.74 | AB91: -1.54 | AC91: -0.6 | AD91: 13 | AE91: III | AF91: 0.9 | AG91: 1.68 | AH91: 10.49 | AI91: 0 | AJ91: 0 | AK91: -2.44 | AL91: 18.215 | AM91: 0 | AN91: -2.44 | AO91: -1 | AP91: -1 | AQ91: -1 | AR91: -1 | AS91: -1 | AT91: -1 | AU91: 25.235 | AV91: 0 | AW91: -0.1 | AX91: 25.235 | AY91: 0 | AZ91: -0.1 | BA91: 27.735 | BB91: 0 | BC91: -0.38571429 | BD91: 26.735 | BE91: 0 | BF91: -0.1 | BG91: -1 | BH91: -1 | BI91: -1 | BJ91: -1 | BK91: 31.775 | BL91: -1 | BM91: -1.54 | BN91: -1 | BO91: -1 | BP91: -1 | BQ91: -1 | BR91: -1 | BS91: -1 | BT91: -1 | BU91: -1 | BV91: -1 | BW91: -1 | BX91: -1 | BY91: -1 | BZ91: 51.21 | CA91: 0 | CB91: -1.54 | CC91: 25.235 | CD91: 0 | CE91: -0.1 | CF91: StabilityInsideMStab (Bishop) | CG91: 0 | CH91: 0.935 | CI91: 37.21 | CJ91: 42.352 | CK91: 0 | CL91: 25.985 | CM91: 8.38 | CN91: 7.77 | CO91: 11 | CP91: 15 | CQ91: 50 | CR91: 50 | CS91: 8.38 | CT91: 7.77 | CU91: 19.38 | CV91: 22.77 | CW91: 69.38 | CX91: 72.77 | CY91: 13.38 | CZ91: 404.3669
A92: 206 | B92: 055_042_00039 | C92: OR_3.27_011d | D92: 1 | E92: 055_042_00021 | F92: 055 | G92: Hoogmadesepolder | H92: \OR-3.27\STBI\011d\011d_STBI_hoogwater_metbelasting.sti | I92: gedetailleerd | K92: BOEZEMKADE | L92: 055_042_00039 | M92: 055_042_00039.sti | N92: 1 | Q92: b | R92: -0.45 | S92: -2.25 | T92: 1.5 | U92: -0.1 | V92: 3.5 | W92: 3 | X92: -2.31 | Y92: -1.64 | Z92: -1.83 | AA92: 0.5 | AB92: -1.81 | AC92: -0.6 | AD92: 13 | AE92: III | AF92: 0.9 | AG92: 1.71 | AH92: 7.29 | AI92: 0 | AJ92: 0 | AK92: -1.64 | AL92: 6.42 | AM92: 0 | AN92: -1.64 | AO92: -1 | AP92: -1 | AQ92: -1 | AR92: -1 | AS92: -1 | AT92: -1 | AU92: 11.04 | AV92: 0 | AW92: -0.1 | AX92: 11.04 | AY92: 0 | AZ92: -0.1 | BA92: 13.54 | BB92: 0 | BC92: -0.38571429 | BD92: 12.54 | BE92: 0 | BF92: -0.1 | BG92: -1 | BH92: -1 | BI92: -1 | BJ92: -1 | BK92: 18.525 | BL92: -1 | BM92: -1.81 | BN92: -1 | BO92: -1 | BP92: -1 | BQ92: -1 | BR92: -1 | BS92: -1 | BT92: -1 | BU92: -1 | BV92: -1 | BW92: -1 | BX92: -1 | BY92: -1 | BZ92: 43.145 | CA92: 0 | CB92: -1.81 | CC92: 11.04 | CD92: 0 | CE92: -0.1 | CF92: StabilityInsideMStab (Bishop) | CG92: 11 | CH92: 1.019 | CI92: 18.695 | CJ92: 25.398 | CK92: 0 | CL92: 11.79 | CM92: 8.485 | CN92: 5.37 | CO92: 11 | CP92: 15 | CQ92: 50 | CR92: 50 | CS92: 8.485 | CT92: 5.37 | CU92: 19.485 | CV92: 20.37 | CW92: 69.485 | CX92: 70.37 | CY92: 13.485 | CZ92: 53.124046
A93: 207 | B93: 144_042_00022 | C93: OR_3.42_012C | D93: 1 | E93: 144_042_00012 | F93: 144 | G93: Veenderpolder | H93: \OR-3.42\DWP-0439\OR-3.42-012C hoogwater m. belasting.sti | I93: gedetailleerd | K93: POLDERKADE | L93: 144_042_00022 | M93: 144_042_00022.sti | N93: 1 | Q93: c | R93: -1.22 | S93: -3.3 | T93: 1.5 | U93: -1.06 | V93: 5 | W93: 3 | X93: -5.12 | Y93: -3.04 | Z93: -4.39 | AA93: 0.73 | AB93: -4.39 | AC93: -1.46 | AD93: 13 | AE93: III | AF93: 0.9 | AG93: 3.66 | AH93: 0 | AI93: 0 | AJ93: 0 | AK93: -3.04 | AL93: 5.31 | AM93: 0 | AN93: -3.04 | AO93: -1 | AP93: -1 | AQ93: -1 | AR93: -1 | AS93: -1 | AT93: -1 | AU93: 11.25 | AV93: 0 | AW93: -1.06 | AX93: 11.25 | AY93: 0 | AZ93: -1.06 | BA93: 13.75 | BB93: 0 | BC93: -1.26 | BD93: 12.75 | BE93: 0 | BF93: -1.06 | BG93: -1 | BH93: -1 | BI93: -1 | BJ93: -1 | BK93: 29.4 | BL93: -1 | BM93: -4.39 | BN93: -1 | BO93: -1 | BP93: -1 | BQ93: -1 | BR93: -1 | BS93: -1 | BT93: -1 | BU93: -1 | BV93: -1 | BW93: -1 | BX93: -1 | BY93: -1 | BZ93: 63.66 | CA93: 0 | CB93: -4.39 | CC93: 11.25 | CD93: 0 | CE93: -1.06 | CF93: StabilityInsideMStab (Bishop) | CG93: 12 | CH93: 1.101 | CI93: 30 | CJ93: 36.305 | CK93: 0 | CL93: 12 | CM93: 21.05 | CN93: 6.69 | CO93: 11 | CP93: 15 | CQ93: 50 | CR93: 50 | CS93: 21.05 | CT93: 6.69 | CU93: 32.05 | CV93: 21.69 | CW93: 82.05 | CX93: 71.69 | CY93: 26.05 | CZ93: 288.2023
A94: 208 | B94: 028_042_00032 | C94: OR_3.43_008a | D94: 1 | E94: 028_042_00014 | F94: 028 | G94: Drooggemaakte Veender- en Lijkerpolder | H94: \OR-3.43\STBI_hoogwater\Kadevak_008a_STBI_hoogwater_met_verkeer.sti | I94: gedetailleerd | K94: POLDERKADE | L94: 028_042_00032 | M94: 028_042_00032.sti | N94: 1 | Q94: a | R94: -1.22 | S94: -3.2 | T94: 1.5 | U94: -1.06 | V94: 4.5 | W94: 3 | X94: -4.85 | Y94: -3.24 | Z94: -3.42 | AA94: 1.43 | AB94: -3.42 | AC94: -1.46 | AD94: 13 | AE94: III | AF94: 0.9 | AG94: 3.39 | AH94: 0 | AI94: 0 | AJ94: 0 | AK94: -3.24 | AL94: 7.71 | AM94: 0 | AN94: -3.24 | AO94: -1 | AP94: -1 | AQ94: -1 | AR94: -1 | AS94: -1 | AT94: -1 | AU94: 14.25 | AV94: 0 | AW94: -1.06 | AX94: 14.25 | AY94: 0 | AZ94: -1.06 | BA94: 16.75 | BB94: 0 | BC94: -1.2822222 | BD94: 15.75 | BE94: 0 | BF94: -1.06 | BG94: -1 | BH94: -1 | BI94: -1 | BJ94: -1 | BK94: 26.37 | BL94: -1 | BM94: -3.42 | BN94: -1 | BO94: -1 | BP94: -1 | BQ94: -1 | BR94: -1 | BS94: -1 | BT94: -1 | BU94: -1 | BV94: -1 | BW94: -1 | BX94: -1 | BY94: -1 | BZ94: 64.54 | CA94: 0 | CB94: -3.42 | CC94: 14.25 | CD94: 0 | CE94: -1.06 | CF94: StabilityInsideMStab (Bishop) | CG94: 12 | CH94: 0.936 | CI94: 26.97 | CJ94: 27.866 | CK94: 0 | CL94: 15 | CM94: 17.805 | CN94: 7.29 | CO94: 11 | CP94: 15 | CQ94: 50 | CR94: 50 | CS94: 17.805 | CT94: 7.29 | CU94: 28.805 | CV94: 22.29 | CW94: 78.805 | CX94: 72.29 | CY94: 22.805 | CZ94: 273.76437
A95: 209 | B95: 242_042_00039 | C95: WW_09_31_02C | D95: 1 | E95: 242_042_00018 | F95: 242 | G95: Polder Groenendijk | H95: \WW-09\WW-09-31-02C\WW-09-31-02C_hoogwater_metbelasting.sti | I95: gedetailleerd | K95: BOEZEMKADE | L95: 242_042_00039 | M95: 242_042_00039.sti | N95: 1 | Q95: c | R95: -0.44 | S95: -1.92 | T95: 1.5 | U95: -0.1 | V95: 3 | W95: 3 | X95: -2.4 | Y95: -2.64 | Z95: -1.4 | AA95: 1 | AB95: -1.4 | AC95: -0.6 | AD95: 5 | AE95: III | AF95: 0.9 | AG95: 1.8 | AH95: 1.43 | AI95: 0 | AJ95: 0 | AK95: -2.64 | AL95: 5.56 | AM95: 0 | AN95: -2.64 | AO95: -1 | AP95: -1 | AQ95: -1 | AR95: -1 | AS95: -1 | AT95: -1 | AU95: 13.18 | AV95: 0 | AW95: -0.1 | AX95: 13.18 | AY95: 0 | AZ95: -0.1 | BA95: 15.68 | BB95: 0 | BC95: -0.43333333 | BD95: 14.68 | BE95: 0 | BF95: -0.1 | BG95: -1 | BH95: -1 | BI95: -1 | BJ95: -1 | BK95: 18.58 | BL95: -1 | BM95: -1.4 | BN95: -1 | BO95: -1 | BP95: -1 | BQ95: -1 | BR95: -1 | BS95: -1 | BT95: -1 | BU95: -1 | BV95: -1 | BW95: -1 | BX95: -1 | BY95: -1 | BZ95: 31.43 | CA95: 0 | CB95: -1.4 | CC95: 13.18 | CD95: 0 | CE95: -0.1 | CF95: StabilityInsideMStab (Bishop) | CG95: 12 | CH95: 1.285 | CI95: 19.18 | CJ95: 24.825 | CK95: 0 | CL95: 13.93 | CM95: 7.65 | CN95: 8.37 | CO95: 11 | CP95: 15 | CQ95: 50 | CR95: 50 | CS95: 7.65 | CT95: 8.37 | CU95: 18.65 | CV95: 23.37 | CW95: 68.65 | CX95: 73.37 | CY95: 12.65 | CZ95: 289.56499
A96: 210 | B96: 242_042_00042 | C96: WW_09_32_01C | D96: 1 | E96: 242_042_00026 | F96: 242 | G96: Polder Groenendijk | H96: \WW-09\WW-09-32-01C\WW-09-32-01C_hoogwater_metbelasting.sti | I96: gedetailleerd | K96: POLDERKADE | L96: 242_042_00042 | M96: 242_042_00042.sti | N96: 1 | Q96: c | R96: -0.44 | S96: -2.4 | T96: 1.5 | U96: -0.2 | V96: 3 | W96: 3 | X96: -2.4 | Y96: -1.52 | Z96: -1.52 | AA96: 0.88 | AB96: -1.52 | AC96: -0.6 | AD96: 5 | AE96: III | AF96: 0.9 | AG96: 1.8 | AH96: 5 | AI96: 0 | AJ96: 0 | AK96: -1.52 | AL96: 4.54 | AM96: 0 | AN96: -1.52 | AO96: -1 | AP96: -1 | AQ96: -1 | AR96: -1 | AS96: -1 | AT96: -1 | AU96: 8.5 | AV96: 0 | AW96: -0.2 | AX96: 8.5 | AY96: 0 | AZ96: -0.2 | BA96: 11 | BB96: 0 | BC96: -0.53333333 | BD96: 10 | BE96: 0 | BF96: -0.2 | BG96: -1 | BH96: -1 | BI96: -1 | BJ96: -1 | BK96: 13.96 | BL96: -1 | BM96: -1.52 | BN96: -1 | BO96: -1 | BP96: -1 | BQ96: -1 | BR96: -1 | BS96: -1 | BT96: -1 | BU96: -1 | BV96: -1 | BW96: -1 | BX96: -1 | BY96: -1 | BZ96: 58 | CA96: 0 | CB96: -1.52 | CC96: 8.5 | CD96: 0 | CE96: -0.2 | CF96: StabilityInsideMStab (Bishop) | CG96: 12 | CH96: 1.024 | CI96: 14.56 | CJ96: 19.853 | CK96: 0 | CL96: 9.25 | CM96: 7.35 | CN96: 4.71 | CO96: 11 | CP96: 15 | CQ96: 50 | CR96: 50 | CS96: 7.35 | CT96: 4.71 | CU96: 18.35 | CV96: 19.71 | CW96: 68.35 | CX96: 69.71 | CY96: 12.35 | CZ96: 135.56664
A97: 212 | B97: 049_042_00029 | C97: OR_3.24_003 | D97: 1 | E97: 049_042_00003 | F97: 049 | G97: Hemmeerpolder | H97: \OR-3.24\STBI hoogwater\OR-3.24-003\OR-3.24-003_hoogwater_met_belasting.sti | I97: gedetailleerd | K97: BOEZEMKADE | L97: 049_042_00029 | M97: 049_042_00029.sti | N97: 1 | Q97: b | R97: -0.51 | S97: -1.5 | T97: 1.5 | U97: -0.1 | V97: 3 | W97: 3 | X97: -3.75 | Y97: -4.04 | Z97: -3.03 | AA97: 0.72 | AB97: -3.03 | AC97: -0.6 | AD97: 5 | AE97: III | AF97: 0.9 | AG97: 3.15 | AH97: 34 | AI97: 0 | AJ97: 0 | AK97: -4.04 | AL97: 20.43 | AM97: 0 | AN97: -4.04 | AO97: -1 | AP97: -1 | AQ97: -1 | AR97: -1 | AS97: -1 | AT97: -1 | AU97: 32.25 | AV97: 0 | AW97: -0.1 | AX97: 32.25 | AY97: 0 | AZ97: -0.1 | BA97: 34.75 | BB97: 0 | BC97: -0.43333333 | BD97: 33.75 | BE97: 0 | BF97: -0.1 | BG97: -1 | BH97: -1 | BI97: -1 | BJ97: -1 | BK97: 42.54 | BL97: -1 | BM97: -3.03 | BN97: -1 | BO97: -1 | BP97: -1 | BQ97: -1 | BR97: -1 | BS97: -1 | BT97: -1 | BU97: -1 | BV97: -1 | BW97: -1 | BX97: -1 | BY97: -1 | BZ97: 55.5 | CA97: 0 | CB97: -3.03 | CC97: 32.25 | CD97: 0 | CE97: -0.1 | CF97: StabilityInsideMStab (Bishop) | CG97: 11 | CH97: 0.929 | CI97: 44.09 | CJ97: 42.985 | CK97: 0 | CL97: 33 | CM97: 11.7 | CN97: 12.57 | CO97: 11 | CP97: 15 | CQ97: 50 | CR97: 50 | CS97: 11.7 | CT97: 12.57 | CU97: 22.7 | CV97: 27.57 | CW97: 72.7 | CX97: 77.57 | CY97: 16.7 | CZ97: 148.77712
A98: 213 | B98: 019_042_00019 | C98: OR_3.17_001g | D98: 1 | E98: 019_042_00007 | F98: 019 | G98: Buurterpolder | H98: \OR-3.17\STBI hw\STBI-001g hw v.sti | I98: gedetailleerd | K98: BOEZEMKADE | L98: 019_042_00019 | M98: 019_042_00019.sti | N98: 1 | Q98: a | R98: -0.5 | S98: -2.6 | T98: 1.5 | U98: -0.1 | V98: 3 | W98: 3 | X98: -2.6 | Y98: -2.14 | Z98: -1.97 | AA98: 0.63 | AB98: -1.97 | AC98: -0.6 | AD98: 5 | AE98: III | AF98: 0.9 | AG98: 2 | AH98: 20 | AI98: 0 | AJ98: 0 | AK98: -2.14 | AL98: 14.88 | AM98: 0 | AN98: -2.14 | AO98: -1 | AP98: -1 | AQ98: -1 | AR98: -1 | AS98: -1 | AT98: -1 | AU98: 21 | AV98: 0 | AW98: -0.1 | AX98: 21 | AY98: 0 | AZ98: -0.1 | BA98: 23.5 | BB98: 0 | BC98: -0.43333333 | BD98: 22.5 | BE98: 0 | BF98: -0.1 | BG98: -1 | BH98: -1 | BI98: -1 | BJ98: -1 | BK98: 28.11 | BL98: -1 | BM98: -1.97 | BN98: -1 | BO98: -1 | BP98: -1 | BQ98: -1 | BR98: -1 | BS98: -1 | BT98: -1 | BU98: -1 | BV98: -1 | BW98: -1 | BX98: -1 | BY98: -1 | BZ98: 40 | CA98: 0 | CB98: -1.97 | CC98: 21 | CD98: 0 | CE98: -0.1 | CF98: StabilityInsideMStab (Bishop) | CG98: 8 | CH98: 0.923 | CI98: 32.51 | CJ98: 33.136 | CK98: 0 | CL98: 21.75 | CM98: 8.25 | CN98: 6.87 | CO98: 11 | CP98: 15 | CQ98: 50 | CR98: 50 | CS98: 8.25 | CT98: 6.87 | CU98: 19.25 | CV98: 21.87 | CW98: 69.25 | CX98: 71.87 | CY98: 13.25 | CZ98: 980.33818
