Workbook
Name a: 'Soil profile'!$C$8
Name BenchmarkNr: 'Soil profile'!$C$4
Name GammaSat1: 'Soil profile'!$D$16
Name GammaSat2: 'Soil profile'!$D$17
Name GammaSat3: 'Soil profile'!$D$18
Name GammaUnsat1: 'Soil profile'!$C$16
Name GammaUnsat2: 'Soil profile'!$C$17
Name GammaUnsat3: 'Soil profile'!$C$18
Name Interval: 'Su berekening'!$C$4
Name IntervalSu: 'Su berekening'!#REF!
Name Nkt_1: 'Soil profile'!$E$16
Name Nkt_2: 'Soil profile'!$E$17
Name Nkt_3: 'Soil profile'!$E$18
Name Su_top1: 'Soil profile'!$G$16
Name X_1: 'Soil profile'!$F$16
Name X_2: 'Soil profile'!$F$17
Name X_3: 'Soil profile'!$F$18
Name Zphreatic: 'Soil profile'!$C$6
Name Zsurface: 'Soil profile'!$C$7
Name Ztop1: 'Soil profile'!$B$16
Name Ztop2: 'Soil profile'!$B$17
Name Ztop3: 'Soil profile'!$B$18

Sheet Soil profile
A1: Benchmark 03 for D-Soil Model
A3: Description | C3: Phreatic level is not present in the GEF file. The program should use the first positive value of u2 (i.e. -2m).
A4: Benchmark number | C4: 03
A6: Phreatic level | B6: Zphreatic | C6: -2 | D6: [m NAP]
A7: Surface level | B7: Zsurface | C7: -0.3 | D7: [m NAP]
A8: Aperture(a) | B8: a | C8: 0.6 | D8: [-]
A9: (a) Relatief oppervlakte van de spleet bij het waterspanningsfilter element van de conus (op te geven of in te lezen uit GEF)
A12: Soil profile (Geometrie gebaseerd op laagscheidingen) | M12: Reverse table:
A13: Laag nr. | B13: Top level | C13: Unsaturated unit weight | D13: Saturated unit weight | G13: Input | I13: Calculated | M13: =B13 -> Top level | N13: =A13 -> Laag nr.
C14: gunsat | D14: gsat | E14: Nkt(1) | F14: X(2) | G14: Su;top | H14: Su;gradient | I14: Su;top | J14: Su;gradient | K14: Cells range Su-values | L14: Cells range z-values
B15: [m NAP] | C15: [kN/m3] | D15: [kN/m3] | E15: [-] | F15: [-] | G15: [kN/m2] | H15: [kN/m2/m] | I15: [kN/m2] | J15: [kN/m2/m] | M15: =MIN('Su berekening'!B11:B81) -> -8 | N15: =N16+1 -> 4
A16: 1 | B16: =Zsurface -> -0.3 | C16: 13 | D16: 13.7 | E16: 12 | F16: 0.5 | G16: 2.04 | H16: 1.47 | I16: =IF(J16=0,I17,(B16-INDEX(LINEST(INDIRECT(L16),INDIRECT(K16),),2))/INDEX(LINEST(INDIRECT(L16),INDIRECT(K16),),1)) -> 2.04 | J16: =-1/INDEX(LINEST(INDIRECT(L16),INDIRECT(K16),),1) -> 1.47 | K16: =ADDRESS(VLOOKUP($A16,'Su berekening'!$E$11:$O$81,COLUMNS('Su berekening'!$E10:$O10),),COLUMN('Su berekening'!$L:$L),,,"Su berekening")&":"&ADDRESS(VLOOKUP($A16,'Su berekening'!$E$11:$O$81,COLUMNS('Su berekening'!$E10:$O10),)+COUNTIF('Su berekening'!$E$11:$E$81,"="&$A16)-1,COLUMN('Su berekening'!$L:$L)) -> 'Su berekening'!$L$11:$L$41 | L16: =ADDRESS(VLOOKUP($A16,'Su berekening'!$E$11:$O$81,COLUMNS('Su berekening'!$E10:$O10),),COLUMN('Su berekening'!$B:$B),,,"Su berekening")&":"&ADDRESS(VLOOKUP($A16,'Su berekening'!$E$11:$O$81,COLUMNS('Su berekening'!$E10:$O10),)+COUNTIF('Su berekening'!$E$11:$E$81,"="&$A16)-1,COLUMN('Su berekening'!$B:$B)) -> 'Su berekening'!$B$11:$B$41 | M16: =Ztop3 -> -6 | N16: =A18 -> 3
A17: 2 | B17: -4 | C17: 12 | D17: 12.6 | E17: 17 | F17: 1 | G17: =G16+H16*(B16-B17) -> 7.479 | H17: 0 | I17: =IF(J17=0,I18,(B17-INDEX(LINEST(INDIRECT(L17),INDIRECT(K17),),2))/INDEX(LINEST(INDIRECT(L17),INDIRECT(K17),),1)) -> 7.479 | J17: =IF(INDEX(LINEST(INDIRECT(L17),INDIRECT(K17),),1)=0,0,-1/INDEX(LINEST(INDIRECT(L17),INDIRECT(K17),),1)) -> 0 | K17: =ADDRESS(VLOOKUP($A17,'Su berekening'!$E$11:$O$81,COLUMNS('Su berekening'!$E11:$O11),),COLUMN('Su berekening'!$L:$L),,,"Su berekening")&":"&ADDRESS(VLOOKUP($A17,'Su berekening'!$E$11:$O$81,COLUMNS('Su berekening'!$E11:$O11),)+COUNTIF('Su berekening'!$E$11:$E$81,"="&$A17)-1,COLUMN('Su berekening'!$L:$L)) -> 'Su berekening'!$L$42:$L$61 | L17: =ADDRESS(VLOOKUP($A17,'Su berekening'!$E$11:$O$81,COLUMNS('Su berekening'!$E11:$O11),),COLUMN('Su berekening'!$B:$B),,,"Su berekening")&":"&ADDRESS(VLOOKUP($A17,'Su berekening'!$E$11:$O$81,COLUMNS('Su berekening'!$E11:$O11),)+COUNTIF('Su berekening'!$E$11:$E$81,"="&$A17)-1,COLUMN('Su berekening'!$B:$B)) -> 'Su berekening'!$B$42:$B$61 | M17: =Ztop2 -> -4 | N17: =A17 -> 2
A18: 3 | B18: -6 | C18: 10 | D18: 11.5 | E18: 25 | F18: 5 | G18: =G17+H17*(B17-B18) -> 7.479 | H18: -2.8 | I18: =IF(J18=0,I19,(B18-INDEX(LINEST(INDIRECT(L18),INDIRECT(K18),),2))/INDEX(LINEST(INDIRECT(L18),INDIRECT(K18),),1)) -> 7.479 | J18: =-1/INDEX(LINEST(INDIRECT(L18),INDIRECT(K18),),1) -> -2.8 | K18: =ADDRESS(VLOOKUP($A18,'Su berekening'!$E$11:$O$81,COLUMNS('Su berekening'!$E12:$O12),),COLUMN('Su berekening'!$L:$L),,,"Su berekening")&":"&ADDRESS(VLOOKUP($A18,'Su berekening'!$E$11:$O$81,COLUMNS('Su berekening'!$E12:$O12),)+COUNTIF('Su berekening'!$E$11:$E$81,"="&$A18)-1,COLUMN('Su berekening'!$L:$L)) -> 'Su berekening'!$L$62:$L$81 | L18: =ADDRESS(VLOOKUP($A18,'Su berekening'!$E$11:$O$81,COLUMNS('Su berekening'!$E12:$O12),),COLUMN('Su berekening'!$B:$B),,,"Su berekening")&":"&ADDRESS(VLOOKUP($A18,'Su berekening'!$E$11:$O$81,COLUMNS('Su berekening'!$E12:$O12),)+COUNTIF('Su berekening'!$E$11:$E$81,"="&$A18)-1,COLUMN('Su berekening'!$B:$B)) -> 'Su berekening'!$B$62:$B$81 | M18: =Ztop1 -> -0.3 | N18: =A16 -> 1
A19: 4 | B19: =MIN('Su berekening'!B11:B81) -> -8 | C19: =C18 -> 10 | D19: =D18 -> 11.5 | E19: =E18 -> 25 | F19: =F18 -> 5 | G19: =G18+H18*(B18-B19) -> 1.879
A21: First point of the :CPT
A22: Depth | B22: ='Su berekening'!B11 -> -1 | C22: [m NAP]
A23: Total stress in layer 1 | B23: =IF(B$22>Zsurface,NA(),D16*(MIN(Zsurface,MAX(Zphreatic,MAX(B$22,B17)))-MAX(B$22,B17))+C16*(Zsurface-MIN(Zsurface,MAX(Zphreatic,MAX(B$22,B17))))) -> 9.1 | C23: [kPa]
A24: Total stress in layer 2 | B24: =IF(B$22>B17,0,D17*(MIN(B17,MAX(Zphreatic,MAX(B$22,B18)))-MAX(B$22,B18))+C17*(B17-MIN(B17,MAX(Zphreatic,MAX(B$22,B18))))) -> 0 | C24: [kPa]
A25: Total stress in layer 3 | B25: =IF(B$22>B18,0,D18*(MIN(B18,MAX(Zphreatic,MAX(B$22,B19)))-MAX(B$22,B19))+C18*(B18-MIN(B18,MAX(Zphreatic,MAX(B$22,B19))))) -> 0 | C25: [kPa]
A26: Sum | B26: =SUM(B23:B25) -> 9.1 | C26: [kPa]
A29: (1) Relatie tussen sondeerweerstand en Su (tussen 10.0 – 30.0 ; default 17 )
A30: (2) Parameter om het verschil in spanningsniveau tussen het moment waarop de sondering wordt uitgevoerd en extreme situatie te kunnen verdisconteren (tussen 0.1 – 10.0; default 1.0)

Sheet Su berekening
A1: Benchmark D-Soil Model
A4: Interval depth | C4: 0.1 | D4: [m]
L5: Input | M5: Calculated | N5: Error
A6: Point number | B6: Depth | C6: Conusweerstand | D6: Waterspanning t.p.v u2 filter | E6: Layer number for the determination of Nkt and X | F6: Layer number for the determination of the effective stress | G6: Top level | H6: Saturated unit weight | I6: Unsaturated unit weight | J6: Voor waterspanning gecorrigeerde sondeerweerstand voor de piezocone u2 | K6: Verticale totaalspanning (grondspanning) | L6: Ongedraineerde schuifsterkte | O6: Row nr.
B7: z | C7: qc | D7: u2 | H7: gsat | I7: gunsat | J7: qt | K7: sv0 | L7: su | M7: su | N7: su
A8: [-] | B8: [m NAP] | C8: [MPa] | D8: [Mpa] | E8: [-] | F8: [-] | G8: [m NAP] | H8: [kN/m3] | I8: [kN/m3] | J8: [MPa] | K8: [kPa] | L8: [kPa] | M8: [kPa] | N8: [%] | O8: [-]
B10: =MAX(B11,Ztop1) -> -0.3 | F10: 1 | G10: =IF(B11="",G9,VLOOKUP($F10,'Soil profile'!$A$16:$C$18,2,)) -> -0.3 | L10: =VLOOKUP(F10,'Soil profile'!$A$16:$H$19,COLUMNS('Soil profile'!$A$16:$G$16),)+VLOOKUP(F10,'Soil profile'!$A$16:$H$19,COLUMNS('Soil profile'!$A$16:$H$16),)*(G10-B10) -> 2.04
A11: 1 | B11: -1 | C11: =ROUND(J11-D11*(1-a),7) -> 0.082756 | D11: =IF(B11>=Zphreatic,0,ROUND(9.81*(Zphreatic-B11)/1000,4)) -> 0 | E11: =VLOOKUP($B11,'Soil profile'!$M$15:$N$18,2,TRUE)-1 -> 1 | F11: =VLOOKUP($B11,'Soil profile'!$M$15:$N$18,2,TRUE)-1 -> 1 | G11: =IF(B12="",G10,VLOOKUP($F11,'Soil profile'!$A$16:$C$18,2,)) -> -0.3 | H11: =VLOOKUP(F11,'Soil profile'!$A$16:$D$18,4,) -> 13.7 | I11: =VLOOKUP(F11,'Soil profile'!$A$16:$D$18,3,) -> 13 | J11: =K11/1000+L11/1000*VLOOKUP($E11,'Soil profile'!$A$16:$F$19,COLUMNS('Soil profile'!$A$16:$E$16),)/VLOOKUP($E11,'Soil profile'!$A$16:$F$19,COLUMNS('Soil profile'!$A$16:$F$16),) -> 0.082756 | K11: =IF(B11>Ztop1,NA(),IF(A11=1,'Soil profile'!$B$26,K8+I11*(B8-MIN(B8,MAX(Zphreatic,B11)))+H11*(MIN(B8,MAX(Zphreatic,B11))-B11))) -> 9.1 | L11: =VLOOKUP(F11,'Soil profile'!$A$16:$H$19,COLUMNS('Soil profile'!$A$16:$G$16),)+VLOOKUP(F11,'Soil profile'!$A$16:$H$19,COLUMNS('Soil profile'!$A$16:$H$16),)*(G11-B11) -> 3.069 | M11: =VLOOKUP($E11,'Soil profile'!$A$16:$F$19,COLUMNS('Soil profile'!$A$16:$F$16),)*(C11*1000+D11*1000*(1-a)-K11)/VLOOKUP($E11,'Soil profile'!$A$16:$F$19,COLUMNS('Soil profile'!$A$16:$E$16),) -> 3.069 | N11: =ABS(L11/M11-1)*100 -> 1.110223e-14 | O11: =ROW(A11) -> 11 | P11: =VLOOKUP(2,$E$11:$O$80,COLUMNS($E11:$O11),) -> 42
A12: =A11+1 -> 2 | B12: =ROUND(B11-Interval,2) -> -1.1 | C12: =ROUND(J12-D12*(1-a),7) -> 0.087584 | D12: =IF(B12>=Zphreatic,0,ROUND(9.81*(Zphreatic-B12)/1000,4)) -> 0 | E12: =VLOOKUP($B12,'Soil profile'!$M$15:$N$18,2,TRUE)-1 -> 1 | F12: =VLOOKUP($B12,'Soil profile'!$M$15:$N$18,2,TRUE)-1 -> 1 | G12: =IF(B13="",G11,VLOOKUP($F12,'Soil profile'!$A$16:$C$18,2,)) -> -0.3 | H12: =VLOOKUP(F12,'Soil profile'!$A$16:$D$18,4,) -> 13.7 | I12: =VLOOKUP(F12,'Soil profile'!$A$16:$D$18,3,) -> 13 | J12: =K12/1000+L12/1000*VLOOKUP($E12,'Soil profile'!$A$16:$F$19,COLUMNS('Soil profile'!$A$16:$E$16),)/VLOOKUP($E12,'Soil profile'!$A$16:$F$19,COLUMNS('Soil profile'!$A$16:$F$16),) -> 0.087584 | K12: =IF(B12>Ztop1,NA(),IF(A12=1,'Soil profile'!$B$26,K11+I12*(B11-MIN(B11,MAX(Zphreatic,B12)))+H12*(MIN(B11,MAX(Zphreatic,B12))-B12))) -> 10.4 | L12: =VLOOKUP(F12,'Soil profile'!$A$16:$H$19,COLUMNS('Soil profile'!$A$16:$G$16),)+VLOOKUP(F12,'Soil profile'!$A$16:$H$19,COLUMNS('Soil profile'!$A$16:$H$16),)*(G12-B12) -> 3.216 | M12: =VLOOKUP($E12,'Soil profile'!$A$16:$F$19,COLUMNS('Soil profile'!$A$16:$F$16),)*(C12*1000+D12*1000*(1-a)-K12)/VLOOKUP($E12,'Soil profile'!$A$16:$F$19,COLUMNS('Soil profile'!$A$16:$E$16),) -> 3.216 | N12: =ABS(L12/M12-1)*100 -> 2.220446e-14 | O12: =ROW(A12) -> 12 | P12: =VLOOKUP(2,$E$11:$O$80,COLUMNS($E12:$O12),) -> 42
A13: =A12+1 -> 3 | B13: =ROUND(B12-Interval,2) -> -1.2 | C13: =ROUND(J13-D13*(1-a),7) -> 0.092412 | D13: =IF(B13>=Zphreatic,0,ROUND(9.81*(Zphreatic-B13)/1000,4)) -> 0 | E13: =VLOOKUP($B13,'Soil profile'!$M$15:$N$18,2,TRUE)-1 -> 1 | F13: =VLOOKUP($B13,'Soil profile'!$M$15:$N$18,2,TRUE)-1 -> 1 | G13: =IF(B14="",G12,VLOOKUP($F13,'Soil profile'!$A$16:$C$18,2,)) -> -0.3 | H13: =VLOOKUP(F13,'Soil profile'!$A$16:$D$18,4,) -> 13.7 | I13: =VLOOKUP(F13,'Soil profile'!$A$16:$D$18,3,) -> 13 | J13: =K13/1000+L13/1000*VLOOKUP($E13,'Soil profile'!$A$16:$F$19,COLUMNS('Soil profile'!$A$16:$E$16),)/VLOOKUP($E13,'Soil profile'!$A$16:$F$19,COLUMNS('Soil profile'!$A$16:$F$16),) -> 0.092412 | K13: =IF(B13>Ztop1,NA(),IF(A13=1,'Soil profile'!$B$26,K12+I13*(B12-MIN(B12,MAX(Zphreatic,B13)))+H13*(MIN(B12,MAX(Zphreatic,B13))-B13))) -> 11.7 | L13: =VLOOKUP(F13,'Soil profile'!$A$16:$H$19,COLUMNS('Soil profile'!$A$16:$G$16),)+VLOOKUP(F13,'Soil profile'!$A$16:$H$19,COLUMNS('Soil profile'!$A$16:$H$16),)*(G13-B13) -> 3.363 | M13: =VLOOKUP($E13,'Soil profile'!$A$16:$F$19,COLUMNS('Soil profile'!$A$16:$F$16),)*(C13*1000+D13*1000*(1-a)-K13)/VLOOKUP($E13,'Soil profile'!$A$16:$F$19,COLUMNS('Soil profile'!$A$16:$E$16),) -> 3.363 | N13: =ABS(L13/M13-1)*100 -> 2.220446e-14 | O13: =ROW(A13) -> 13 | P13: =VLOOKUP(2,$E$11:$O$80,COLUMNS($E13:$O13),) -> 42
A14: =A13+1 -> 4 | B14: =ROUND(B13-Interval,2) -> -1.3 | C14: =ROUND(J14-D14*(1-a),7) -> 0.09724 | D14: =IF(B14>=Zphreatic,0,ROUND(9.81*(Zphreatic-B14)/1000,4)) -> 0 | E14: =VLOOKUP($B14,'Soil profile'!$M$15:$N$18,2,TRUE)-1 -> 1 | F14: =VLOOKUP($B14,'Soil profile'!$M$15:$N$18,2,TRUE)-1 -> 1 | G14: =IF(B15="",G13,VLOOKUP($F14,'Soil profile'!$A$16:$C$18,2,)) -> -0.3 | H14: =VLOOKUP(F14,'Soil profile'!$A$16:$D$18,4,) -> 13.7 | I14: =VLOOKUP(F14,'Soil profile'!$A$16:$D$18,3,) -> 13 | J14: =K14/1000+L14/1000*VLOOKUP($E14,'Soil profile'!$A$16:$F$19,COLUMNS('Soil profile'!$A$16:$E$16),)/VLOOKUP($E14,'Soil profile'!$A$16:$F$19,COLUMNS('Soil profile'!$A$16:$F$16),) -> 0.09724 | K14: =IF(B14>Ztop1,NA(),IF(A14=1,'Soil profile'!$B$26,K13+I14*(B13-MIN(B13,MAX(Zphreatic,B14)))+H14*(MIN(B13,MAX(Zphreatic,B14))-B14))) -> 13 | L14: =VLOOKUP(F14,'Soil profile'!$A$16:$H$19,COLUMNS('Soil profile'!$A$16:$G$16),)+VLOOKUP(F14,'Soil profile'!$A$16:$H$19,COLUMNS('Soil profile'!$A$16:$H$16),)*(G14-B14) -> 3.51 | M14: =VLOOKUP($E14,'Soil profile'!$A$16:$F$19,COLUMNS('Soil profile'!$A$16:$F$16),)*(C14*1000+D14*1000*(1-a)-K14)/VLOOKUP($E14,'Soil profile'!$A$16:$F$19,COLUMNS('Soil profile'!$A$16:$E$16),) -> 3.51 | N14: =ABS(L14/M14-1)*100 -> 0 | O14: =ROW(A14) -> 14 | P14: =VLOOKUP(2,$E$11:$O$80,COLUMNS($E14:$O14),) -> 42
A15: =A14+1 -> 5 | B15: =ROUND(B14-Interval,2) -> -1.4 | C15: =ROUND(J15-D15*(1-a),7) -> 0.102068 | D15: =IF(B15>=Zphreatic,0,ROUND(9.81*(Zphreatic-B15)/1000,4)) -> 0 | E15: =VLOOKUP($B15,'Soil profile'!$M$15:$N$18,2,TRUE)-1 -> 1 | F15: =VLOOKUP($B15,'Soil profile'!$M$15:$N$18,2,TRUE)-1 -> 1 | G15: =IF(B16="",G14,VLOOKUP($F15,'Soil profile'!$A$16:$C$18,2,)) -> -0.3 | H15: =VLOOKUP(F15,'Soil profile'!$A$16:$D$18,4,) -> 13.7 | I15: =VLOOKUP(F15,'Soil profile'!$A$16:$D$18,3,) -> 13 | J15: =K15/1000+L15/1000*VLOOKUP($E15,'Soil profile'!$A$16:$F$19,COLUMNS('Soil profile'!$A$16:$E$16),)/VLOOKUP($E15,'Soil profile'!$A$16:$F$19,COLUMNS('Soil profile'!$A$16:$F$16),) -> 0.102068 | K15: =IF(B15>Ztop1,NA(),IF(A15=1,'Soil profile'!$B$26,K14+I15*(B14-MIN(B14,MAX(Zphreatic,B15)))+H15*(MIN(B14,MAX(Zphreatic,B15))-B15))) -> 14.3 | L15: =VLOOKUP(F15,'Soil profile'!$A$16:$H$19,COLUMNS('Soil profile'!$A$16:$G$16),)+VLOOKUP(F15,'Soil profile'!$A$16:$H$19,COLUMNS('Soil profile'!$A$16:$H$16),)*(G15-B15) -> 3.657 | M15: =VLOOKUP($E15,'Soil profile'!$A$16:$F$19,COLUMNS('Soil profile'!$A$16:$F$16),)*(C15*1000+D15*1000*(1-a)-K15)/VLOOKUP($E15,'Soil profile'!$A$16:$F$19,COLUMNS('Soil profile'!$A$16:$E$16),) -> 3.657 | N15: =ABS(L15/M15-1)*100 -> 1.110223e-14 | O15: =ROW(A15) -> 15 | P15: =VLOOKUP(2,$E$11:$O$80,COLUMNS($E15:$O15),) -> 42
A16: =A15+1 -> 6 | B16: =ROUND(B15-Interval,2) -> -1.5 | C16: =ROUND(J16-D16*(1-a),7) -> 0.106896 | D16: =IF(B16>=Zphreatic,0,ROUND(9.81*(Zphreatic-B16)/1000,4)) -> 0 | E16: =VLOOKUP($B16,'Soil profile'!$M$15:$N$18,2,TRUE)-1 -> 1 | F16: =VLOOKUP($B16,'Soil profile'!$M$15:$N$18,2,TRUE)-1 -> 1 | G16: =IF(B17="",G15,VLOOKUP($F16,'Soil profile'!$A$16:$C$18,2,)) -> -0.3 | H16: =VLOOKUP(F16,'Soil profile'!$A$16:$D$18,4,) -> 13.7 | I16: =VLOOKUP(F16,'Soil profile'!$A$16:$D$18,3,) -> 13 | J16: =K16/1000+L16/1000*VLOOKUP($E16,'Soil profile'!$A$16:$F$19,COLUMNS('Soil profile'!$A$16:$E$16),)/VLOOKUP($E16,'Soil profile'!$A$16:$F$19,COLUMNS('Soil profile'!$A$16:$F$16),) -> 0.106896 | K16: =IF(B16>Ztop1,NA(),IF(A16=1,'Soil profile'!$B$26,K15+I16*(B15-MIN(B15,MAX(Zphreatic,B16)))+H16*(MIN(B15,MAX(Zphreatic,B16))-B16))) -> 15.6 | L16: =VLOOKUP(F16,'Soil profile'!$A$16:$H$19,COLUMNS('Soil profile'!$A$16:$G$16),)+VLOOKUP(F16,'Soil profile'!$A$16:$H$19,COLUMNS('Soil profile'!$A$16:$H$16),)*(G16-B16) -> 3.804 | M16: =VLOOKUP($E16,'Soil profile'!$A$16:$F$19,COLUMNS('Soil profile'!$A$16:$F$16),)*(C16*1000+D16*1000*(1-a)-K16)/VLOOKUP($E16,'Soil profile'!$A$16:$F$19,COLUMNS('Soil profile'!$A$16:$E$16),) -> 3.804 | N16: =ABS(L16/M16-1)*100 -> 0 | O16: =ROW(A16) -> 16 | P16: =VLOOKUP(2,$E$11:$O$80,COLUMNS($E16:$O16),) -> 42
A17: =A16+1 -> 7 | B17: =ROUND(B16-Interval,2) -> -1.6 | C17: =ROUND(J17-D17*(1-a),7) -> 0.111724 | D17: =IF(B17>=Zphreatic,0,ROUND(9.81*(Zphreatic-B17)/1000,4)) -> 0 | E17: =VLOOKUP($B17,'Soil profile'!$M$15:$N$18,2,TRUE)-1 -> 1 | F17: =VLOOKUP($B17,'Soil profile'!$M$15:$N$18,2,TRUE)-1 -> 1 | G17: =IF(B18="",G16,VLOOKUP($F17,'Soil profile'!$A$16:$C$18,2,)) -> -0.3 | H17: =VLOOKUP(F17,'Soil profile'!$A$16:$D$18,4,) -> 13.7 | I17: =VLOOKUP(F17,'Soil profile'!$A$16:$D$18,3,) -> 13 | J17: =K17/1000+L17/1000*VLOOKUP($E17,'Soil profile'!$A$16:$F$19,COLUMNS('Soil profile'!$A$16:$E$16),)/VLOOKUP($E17,'Soil profile'!$A$16:$F$19,COLUMNS('Soil profile'!$A$16:$F$16),) -> 0.111724 | K17: =IF(B17>Ztop1,NA(),IF(A17=1,'Soil profile'!$B$26,K16+I17*(B16-MIN(B16,MAX(Zphreatic,B17)))+H17*(MIN(B16,MAX(Zphreatic,B17))-B17))) -> 16.9 | L17: =VLOOKUP(F17,'Soil profile'!$A$16:$H$19,COLUMNS('Soil profile'!$A$16:$G$16),)+VLOOKUP(F17,'Soil profile'!$A$16:$H$19,COLUMNS('Soil profile'!$A$16:$H$16),)*(G17-B17) -> 3.951 | M17: =VLOOKUP($E17,'Soil profile'!$A$16:$F$19,COLUMNS('Soil profile'!$A$16:$F$16),)*(C17*1000+D17*1000*(1-a)-K17)/VLOOKUP($E17,'Soil profile'!$A$16:$F$19,COLUMNS('Soil profile'!$A$16:$E$16),) -> 3.951 | N17: =ABS(L17/M17-1)*100 -> 0 | O17: =ROW(A17) -> 17 | P17: =VLOOKUP(2,$E$11:$O$80,COLUMNS($E17:$O17),) -> 42
A18: =A17+1 -> 8 | B18: =ROUND(B17-Interval,2) -> -1.7 | C18: =ROUND(J18-D18*(1-a),7) -> 0.116552 | D18: =IF(B18>=Zphreatic,0,ROUND(9.81*(Zphreatic-B18)/1000,4)) -> 0 | E18: =VLOOKUP($B18,'Soil profile'!$M$15:$N$18,2,TRUE)-1 -> 1 | F18: =VLOOKUP($B18,'Soil profile'!$M$15:$N$18,2,TRUE)-1 -> 1 | G18: =IF(B19="",G17,VLOOKUP($F18,'Soil profile'!$A$16:$C$18,2,)) -> -0.3 | H18: =VLOOKUP(F18,'Soil profile'!$A$16:$D$18,4,) -> 13.7 | I18: =VLOOKUP(F18,'Soil profile'!$A$16:$D$18,3,) -> 13 | J18: =K18/1000+L18/1000*VLOOKUP($E18,'Soil profile'!$A$16:$F$19,COLUMNS('Soil profile'!$A$16:$E$16),)/VLOOKUP($E18,'Soil profile'!$A$16:$F$19,COLUMNS('Soil profile'!$A$16:$F$16),) -> 0.116552 | K18: =IF(B18>Ztop1,NA(),IF(A18=1,'Soil profile'!$B$26,K17+I18*(B17-MIN(B17,MAX(Zphreatic,B18)))+H18*(MIN(B17,MAX(Zphreatic,B18))-B18))) -> 18.2 | L18: =VLOOKUP(F18,'Soil profile'!$A$16:$H$19,COLUMNS('Soil profile'!$A$16:$G$16),)+VLOOKUP(F18,'Soil profile'!$A$16:$H$19,COLUMNS('Soil profile'!$A$16:$H$16),)*(G18-B18) -> 4.098 | M18: =VLOOKUP($E18,'Soil profile'!$A$16:$F$19,COLUMNS('Soil profile'!$A$16:$F$16),)*(C18*1000+D18*1000*(1-a)-K18)/VLOOKUP($E18,'Soil profile'!$A$16:$F$19,COLUMNS('Soil profile'!$A$16:$E$16),) -> 4.098 | N18: =ABS(L18/M18-1)*100 -> 0 | O18: =ROW(A18) -> 18 | P18: =VLOOKUP(2,$E$11:$O$80,COLUMNS($E18:$O18),) -> 42
A19: =A18+1 -> 9 | B19: =ROUND(B18-Interval,2) -> -1.8 | C19: =ROUND(J19-D19*(1-a),7) -> 0.12138 | D19: =IF(B19>=Zphreatic,0,ROUND(9.81*(Zphreatic-B19)/1000,4)) -> 0 | E19: =VLOOKUP($B19,'Soil profile'!$M$15:$N$18,2,TRUE)-1 -> 1 | F19: =VLOOKUP($B19,'Soil profile'!$M$15:$N$18,2,TRUE)-1 -> 1 | G19: =IF(B20="",G18,VLOOKUP($F19,'Soil profile'!$A$16:$C$18,2,)) -> -0.3 | H19: =VLOOKUP(F19,'Soil profile'!$A$16:$D$18,4,) -> 13.7 | I19: =VLOOKUP(F19,'Soil profile'!$A$16:$D$18,3,) -> 13 | J19: =K19/1000+L19/1000*VLOOKUP($E19,'Soil profile'!$A$16:$F$19,COLUMNS('Soil profile'!$A$16:$E$16),)/VLOOKUP($E19,'Soil profile'!$A$16:$F$19,COLUMNS('Soil profile'!$A$16:$F$16),) -> 0.12138 | K19: =IF(B19>Ztop1,NA(),IF(A19=1,'Soil profile'!$B$26,K18+I19*(B18-MIN(B18,MAX(Zphreatic,B19)))+H19*(MIN(B18,MAX(Zphreatic,B19))-B19))) -> 19.5 | L19: =VLOOKUP(F19,'Soil profile'!$A$16:$H$19,COLUMNS('Soil profile'!$A$16:$G$16),)+VLOOKUP(F19,'Soil profile'!$A$16:$H$19,COLUMNS('Soil profile'!$A$16:$H$16),)*(G19-B19) -> 4.245 | M19: =VLOOKUP($E19,'Soil profile'!$A$16:$F$19,COLUMNS('Soil profile'!$A$16:$F$16),)*(C19*1000+D19*1000*(1-a)-K19)/VLOOKUP($E19,'Soil profile'!$A$16:$F$19,COLUMNS('Soil profile'!$A$16:$E$16),) -> 4.245 | N19: =ABS(L19/M19-1)*100 -> 0 | O19: =ROW(A19) -> 19 | P19: =VLOOKUP(2,$E$11:$O$80,COLUMNS($E19:$O19),) -> 42
A20: =A19+1 -> 10 | B20: =ROUND(B19-Interval,2) -> -1.9 | C20: =ROUND(J20-D20*(1-a),7) -> 0.126208 | D20: =IF(B20>=Zphreatic,0,ROUND(9.81*(Zphreatic-B20)/1000,4)) -> 0 | E20: =VLOOKUP($B20,'Soil profile'!$M$15:$N$18,2,TRUE)-1 -> 1 | F20: =VLOOKUP($B20,'Soil profile'!$M$15:$N$18,2,TRUE)-1 -> 1 | G20: =IF(B21="",G19,VLOOKUP($F20,'Soil profile'!$A$16:$C$18,2,)) -> -0.3 | H20: =VLOOKUP(F20,'Soil profile'!$A$16:$D$18,4,) -> 13.7 | I20: =VLOOKUP(F20,'Soil profile'!$A$16:$D$18,3,) -> 13 | J20: =K20/1000+L20/1000*VLOOKUP($E20,'Soil profile'!$A$16:$F$19,COLUMNS('Soil profile'!$A$16:$E$16),)/VLOOKUP($E20,'Soil profile'!$A$16:$F$19,COLUMNS('Soil profile'!$A$16:$F$16),) -> 0.126208 | K20: =IF(B20>Ztop1,NA(),IF(A20=1,'Soil profile'!$B$26,K19+I20*(B19-MIN(B19,MAX(Zphreatic,B20)))+H20*(MIN(B19,MAX(Zphreatic,B20))-B20))) -> 20.8 | L20: =VLOOKUP(F20,'Soil profile'!$A$16:$H$19,COLUMNS('Soil profile'!$A$16:$G$16),)+VLOOKUP(F20,'Soil profile'!$A$16:$H$19,COLUMNS('Soil profile'!$A$16:$H$16),)*(G20-B20) -> 4.392 | M20: =VLOOKUP($E20,'Soil profile'!$A$16:$F$19,COLUMNS('Soil profile'!$A$16:$F$16),)*(C20*1000+D20*1000*(1-a)-K20)/VLOOKUP($E20,'Soil profile'!$A$16:$F$19,COLUMNS('Soil profile'!$A$16:$E$16),) -> 4.392 | N20: =ABS(L20/M20-1)*100 -> 0 | O20: =ROW(A20) -> 20 | P20: =VLOOKUP(2,$E$11:$O$80,COLUMNS($E20:$O20),) -> 42
A21: =A20+1 -> 11 | B21: =ROUND(B20-Interval,2) -> -2 | C21: =ROUND(J21-D21*(1-a),7) -> 0.131036 | D21: =IF(B21>=Zphreatic,0,ROUND(9.81*(Zphreatic-B21)/1000,4)) -> 0 | E21: =VLOOKUP($B21,'Soil profile'!$M$15:$N$18,2,TRUE)-1 -> 1 | F21: =VLOOKUP($B21,'Soil profile'!$M$15:$N$18,2,TRUE)-1 -> 1 | G21: =IF(B22="",G20,VLOOKUP($F21,'Soil profile'!$A$16:$C$18,2,)) -> -0.3 | H21: =VLOOKUP(F21,'Soil profile'!$A$16:$D$18,4,) -> 13.7 | I21: =VLOOKUP(F21,'Soil profile'!$A$16:$D$18,3,) -> 13 | J21: =K21/1000+L21/1000*VLOOKUP($E21,'Soil profile'!$A$16:$F$19,COLUMNS('Soil profile'!$A$16:$E$16),)/VLOOKUP($E21,'Soil profile'!$A$16:$F$19,COLUMNS('Soil profile'!$A$16:$F$16),) -> 0.131036 | K21: =IF(B21>Ztop1,NA(),IF(A21=1,'Soil profile'!$B$26,K20+I21*(B20-MIN(B20,MAX(Zphreatic,B21)))+H21*(MIN(B20,MAX(Zphreatic,B21))-B21))) -> 22.1 | L21: =VLOOKUP(F21,'Soil profile'!$A$16:$H$19,COLUMNS('Soil profile'!$A$16:$G$16),)+VLOOKUP(F21,'Soil profile'!$A$16:$H$19,COLUMNS('Soil profile'!$A$16:$H$16),)*(G21-B21) -> 4.539 | M21: =VLOOKUP($E21,'Soil profile'!$A$16:$F$19,COLUMNS('Soil profile'!$A$16:$F$16),)*(C21*1000+D21*1000*(1-a)-K21)/VLOOKUP($E21,'Soil profile'!$A$16:$F$19,COLUMNS('Soil profile'!$A$16:$E$16),) -> 4.539 | N21: =ABS(L21/M21-1)*100 -> 2.220446e-14 | O21: =ROW(A21) -> 21 | P21: =VLOOKUP(2,$E$11:$O$80,COLUMNS($E21:$O21),) -> 42
A22: =A21+1 -> 12 | B22: =ROUND(B21-Interval,2) -> -2.1 | C22: =ROUND(J22-D22*(1-a),7) -> 0.135534 | D22: =IF(B22>=Zphreatic,0,ROUND(9.81*(Zphreatic-B22)/1000,4)) -> 0.001 | E22: =VLOOKUP($B22,'Soil profile'!$M$15:$N$18,2,TRUE)-1 -> 1 | F22: =VLOOKUP($B22,'Soil profile'!$M$15:$N$18,2,TRUE)-1 -> 1 | G22: =IF(B23="",G21,VLOOKUP($F22,'Soil profile'!$A$16:$C$18,2,)) -> -0.3 | H22: =VLOOKUP(F22,'Soil profile'!$A$16:$D$18,4,) -> 13.7 | I22: =VLOOKUP(F22,'Soil profile'!$A$16:$D$18,3,) -> 13 | J22: =K22/1000+L22/1000*VLOOKUP($E22,'Soil profile'!$A$16:$F$19,COLUMNS('Soil profile'!$A$16:$E$16),)/VLOOKUP($E22,'Soil profile'!$A$16:$F$19,COLUMNS('Soil profile'!$A$16:$F$16),) -> 0.135934 | K22: =IF(B22>Ztop1,NA(),IF(A22=1,'Soil profile'!$B$26,K21+I22*(B21-MIN(B21,MAX(Zphreatic,B22)))+H22*(MIN(B21,MAX(Zphreatic,B22))-B22))) -> 23.47 | L22: =VLOOKUP(F22,'Soil profile'!$A$16:$H$19,COLUMNS('Soil profile'!$A$16:$G$16),)+VLOOKUP(F22,'Soil profile'!$A$16:$H$19,COLUMNS('Soil profile'!$A$16:$H$16),)*(G22-B22) -> 4.686 | M22: =VLOOKUP($E22,'Soil profile'!$A$16:$F$19,COLUMNS('Soil profile'!$A$16:$F$16),)*(C22*1000+D22*1000*(1-a)-K22)/VLOOKUP($E22,'Soil profile'!$A$16:$F$19,COLUMNS('Soil profile'!$A$16:$E$16),) -> 4.686 | N22: =ABS(L22/M22-1)*100 -> 0 | O22: =ROW(A22) -> 22 | P22: =VLOOKUP(2,$E$11:$O$80,COLUMNS($E22:$O22),) -> 42
A23: =A22+1 -> 13 | B23: =ROUND(B22-Interval,2) -> -2.2 | C23: =ROUND(J23-D23*(1-a),7) -> 0.140032 | D23: =IF(B23>=Zphreatic,0,ROUND(9.81*(Zphreatic-B23)/1000,4)) -> 0.002 | E23: =VLOOKUP($B23,'Soil profile'!$M$15:$N$18,2,TRUE)-1 -> 1 | F23: =VLOOKUP($B23,'Soil profile'!$M$15:$N$18,2,TRUE)-1 -> 1 | G23: =IF(B24="",G22,VLOOKUP($F23,'Soil profile'!$A$16:$C$18,2,)) -> -0.3 | H23: =VLOOKUP(F23,'Soil profile'!$A$16:$D$18,4,) -> 13.7 | I23: =VLOOKUP(F23,'Soil profile'!$A$16:$D$18,3,) -> 13 | J23: =K23/1000+L23/1000*VLOOKUP($E23,'Soil profile'!$A$16:$F$19,COLUMNS('Soil profile'!$A$16:$E$16),)/VLOOKUP($E23,'Soil profile'!$A$16:$F$19,COLUMNS('Soil profile'!$A$16:$F$16),) -> 0.140832 | K23: =IF(B23>Ztop1,NA(),IF(A23=1,'Soil profile'!$B$26,K22+I23*(B22-MIN(B22,MAX(Zphreatic,B23)))+H23*(MIN(B22,MAX(Zphreatic,B23))-B23))) -> 24.84 | L23: =VLOOKUP(F23,'Soil profile'!$A$16:$H$19,COLUMNS('Soil profile'!$A$16:$G$16),)+VLOOKUP(F23,'Soil profile'!$A$16:$H$19,COLUMNS('Soil profile'!$A$16:$H$16),)*(G23-B23) -> 4.833 | M23: =VLOOKUP($E23,'Soil profile'!$A$16:$F$19,COLUMNS('Soil profile'!$A$16:$F$16),)*(C23*1000+D23*1000*(1-a)-K23)/VLOOKUP($E23,'Soil profile'!$A$16:$F$19,COLUMNS('Soil profile'!$A$16:$E$16),) -> 4.833 | N23: =ABS(L23/M23-1)*100 -> 2.220446e-14 | O23: =ROW(A23) -> 23 | P23: =VLOOKUP(2,$E$11:$O$80,COLUMNS($E23:$O23),) -> 42
... A81: =A80+1 -> 71 | B81: =ROUND(B80-Interval,2) -> -8 | C81: =ROUND(J81-D81*(1-a),7) -> 0.083535 | D81: =IF(B81>=Zphreatic,0,ROUND(9.81*(Zphreatic-B81)/1000,4)) -> 0.0589 | E81: =VLOOKUP($B81,'Soil profile'!$M$15:$N$18,2,TRUE)-1 -> 3 | F81: =VLOOKUP($B81,'Soil profile'!$M$15:$N$18,2,TRUE)-1 -> 3 | G81: =IF(B82="",G80,VLOOKUP($F81,'Soil profile'!$A$16:$C$18,2,)) -> -6 | H81: =VLOOKUP(F81,'Soil profile'!$A$16:$D$18,4,) -> 11.5 | I81: =VLOOKUP(F81,'Soil profile'!$A$16:$D$18,3,) -> 10 | J81: =K81/1000+L81/1000*VLOOKUP($E81,'Soil profile'!$A$16:$F$19,COLUMNS('Soil profile'!$A$16:$E$16),)/VLOOKUP($E81,'Soil profile'!$A$16:$F$19,COLUMNS('Soil profile'!$A$16:$F$16),) -> 0.107095 | K81: =IF(B81>Ztop1,NA(),IF(A81=1,'Soil profile'!$B$26,K80+I81*(B80-MIN(B80,MAX(Zphreatic,B81)))+H81*(MIN(B80,MAX(Zphreatic,B81))-B81))) -> 97.7 | L81: =VLOOKUP(F81,'Soil profile'!$A$16:$H$19,COLUMNS('Soil profile'!$A$16:$G$16),)+VLOOKUP(F81,'Soil profile'!$A$16:$H$19,COLUMNS('Soil profile'!$A$16:$H$16),)*(G81-B81) -> 1.879 | M81: =VLOOKUP($E81,'Soil profile'!$A$16:$F$19,COLUMNS('Soil profile'!$A$16:$F$16),)*(C81*1000+D81*1000*(1-a)-K81)/VLOOKUP($E81,'Soil profile'!$A$16:$F$19,COLUMNS('Soil profile'!$A$16:$E$16),) -> 1.879 | N81: =ABS(L81/M81-1)*100 -> 3.8857806e-13 | O81: =ROW(A81) -> 81 | P81: =VLOOKUP(2,$E$11:$O$80,COLUMNS($E81:$O81),) -> 42

Sheet GEF file
A1: #GEFID= 1, 1, 0
A2: #FILEOWNER= DELTARES
A3: #FILEDATE= 2014,01,01
A4: #PROJECTID= CPT, 1013-0221-001, -
A5: #COLUMN= 10
A6: #COLUMNINFO= 1, m, Sondeerlengte, 1
A7: #COLUMNINFO= 2, MPa, Conusweerstand qc, 2
A8: #COLUMNINFO= 3, MPa, Wrijvingsweerstand fs, 3
A9: #COLUMNINFO= 4, %, Wrijvingsgetal Rf, 4
A10: #COLUMNINFO= 5, MPa, Waterspanning u2, 6
A11: #COLUMNINFO= 6, graden, Helling X, 21
A12: #COLUMNINFO= 7, graden, Helling Y, 22
... A30: #COLUMNVOID= 10, -99999.0
A31: ="#LASTSCAN= "&'Su berekening'!A81 -> #LASTSCAN= 71
A32: #XYID= 31000, 133058.10, 497870.79, 0.03, 0.03
A33: ="#ZID= 31000, "&Zsurface&", 0.03" -> #ZID= 31000, -0.3, 0.03
A34: #MEASUREMENTTEXT= 1, -, opdrachtgever
A35: #MEASUREMENTTEXT= 2, MARKERMEERDIJK DOV2.2, projectnaam
A36: #MEASUREMENTTEXT= 3, Markermeerdijk DOV2.2, plaatsnaam
A37: #MEASUREMENTTEXT= 4, A15F2.5CKE2HAW2/B P1-1701-2567, conus type en serienummer
A38: #MEASUREMENTTEXT= 5, Rups 12/JLA/DMB, sondeerapparaat/operator
A39: #MEASUREMENTTEXT= 6, NEN 5140 klasse 2, gevolgde norm
A40: #MEASUREMENTTEXT= 9, maaiveld, vast horizontaal vlak
A41: #MEASUREMENTTEXT= 44, -, orientatie x-as
A42: #MEASUREMENTVAR= 1, 1500, mm2, Nom. opp. conuspunt
A43: #MEASUREMENTVAR= 2, 19956, mm2, Nom. opp. wrijvingsmantel
A44: ="#MEASUREMENTVAR= 3, "&'Soil profile'!C8&", -, Netto oppervlaktequotient van de conuspunt" -> #MEASUREMENTVAR= 3, 0.6, -, Netto oppervlaktequotient van de conuspunt
A45: #MEASUREMENTVAR= 4, 1.00, -, Netto oppervlaktequotient van de kleefmantel
A46: #MEASUREMENTVAR= 5, 148, mm, Afstand conus tot midden kleefmantel
A47: #MEASUREMENTVAR= 12, 0, -, electrische sondering
A48: ="#MEASUREMENTVAR= 13, "&Zsurface-'Su berekening'!B11&", m, voorgegraven diepte" -> #MEASUREMENTVAR= 13, 0.7, m, voorgegraven diepte
A49: ="#MEASUREMENTVAR= 16, "&Zsurface-'Su berekening'!B81&", m, einddiepte sondering" -> #MEASUREMENTVAR= 16, 7.7, m, einddiepte sondering
A50: #MEASUREMENTVAR= 17, 0, - , Stopcriterium : Einddiepte bereikt
A51: #MEASUREMENTVAR= 20, -0.025, MPa, nulmeting conus voor sondering
A52: #MEASUREMENTVAR= 21, -0.042, MPa, nulmeting conus na sondering
A53: #MEASUREMENTVAR= 22, -0.002, MPa, nulmeting wrijving voor sondering
A54: #MEASUREMENTVAR= 23, -0.002, MPa, nulmeting wrijving na sondering
A55: #MEASUREMENTVAR= 26, 0.002, MPa, nulmeting WSM u2 voor sondering
A56: #MEASUREMENTVAR= 27, 0.002, MPa, nulmeting WSM u2 na sondering
A57: #MEASUREMENTVAR= 30, -2.3, graden, nulmeting helling voor sondering
A58: #MEASUREMENTVAR= 31, -0.2, graden, nulmeting helling na sondering
A59: #SPECIMENVAR= 1 , 0.00, m, Asfalt
A60: #SPECIMENVAR= 2 , 0.17, m, Repac
A61: #SPECIMENVAR= 3 , 0.60, m, Grind grof
... A63: #SPECIMENVAR= 5 , 0.75, m, Grind / puin fijn
A64: ="#TESTID= CPT_Benchmark_"&BenchmarkNr -> #TESTID= CPT_Benchmark_03
A65: #REPORTCODE= GEF-CPT-Report,1,1,0
A66: #STARTDATE= 2013,11,06
A67: #STARTTIME= 12,03,44
A68: #OS= DOS
A69: #EOH=
A70: =Zsurface-'Su berekening'!B11&" "&'Su berekening'!C11&" 2.704 0.12868 "&'Su berekening'!D11&" -0.364 -1.861 4 "&Zsurface-'Su berekening'!B11&" 400" -> 0.7 0.082756 2.704 0.12868 0 -0.364 -1.861 4 0.7 400
A71: =Zsurface-'Su berekening'!B12&" "&'Su berekening'!C12&" 2.704 0.12868 "&'Su berekening'!D12&" -0.364 -1.861 4 "&Zsurface-'Su berekening'!B12&" 400" -> 0.8 0.087584 2.704 0.12868 0 -0.364 -1.861 4 0.8 400
A72: =Zsurface-'Su berekening'!B13&" "&'Su berekening'!C13&" 2.704 0.12868 "&'Su berekening'!D13&" -0.364 -1.861 4 "&Zsurface-'Su berekening'!B13&" 400" -> 0.9 0.092412 2.704 0.12868 0 -0.364 -1.861 4 0.9 400
A73: =Zsurface-'Su berekening'!B14&" "&'Su berekening'!C14&" 2.704 0.12868 "&'Su berekening'!D14&" -0.364 -1.861 4 "&Zsurface-'Su berekening'!B14&" 400" -> 1 0.09724 2.704 0.12868 0 -0.364 -1.861 4 1 400
A74: =Zsurface-'Su berekening'!B15&" "&'Su berekening'!C15&" 2.704 0.12868 "&'Su berekening'!D15&" -0.364 -1.861 4 "&Zsurface-'Su berekening'!B15&" 400" -> 1.1 0.102068 2.704 0.12868 0 -0.364 -1.861 4 1.1 400
A75: =Zsurface-'Su berekening'!B16&" "&'Su berekening'!C16&" 2.704 0.12868 "&'Su berekening'!D16&" -0.364 -1.861 4 "&Zsurface-'Su berekening'!B16&" 400" -> 1.2 0.106896 2.704 0.12868 0 -0.364 -1.861 4 1.2 400
A76: =Zsurface-'Su berekening'!B17&" "&'Su berekening'!C17&" 2.704 0.12868 "&'Su berekening'!D17&" -0.364 -1.861 4 "&Zsurface-'Su berekening'!B17&" 400" -> 1.3 0.111724 2.704 0.12868 0 -0.364 -1.861 4 1.3 400
A77: =Zsurface-'Su berekening'!B18&" "&'Su berekening'!C18&" 2.704 0.12868 "&'Su berekening'!D18&" -0.364 -1.861 4 "&Zsurface-'Su berekening'!B18&" 400" -> 1.4 0.116552 2.704 0.12868 0 -0.364 -1.861 4 1.4 400
A78: =Zsurface-'Su berekening'!B19&" "&'Su berekening'!C19&" 2.704 0.12868 "&'Su berekening'!D19&" -0.364 -1.861 4 "&Zsurface-'Su berekening'!B19&" 400" -> 1.5 0.12138 2.704 0.12868 0 -0.364 -1.861 4 1.5 400
A79: =Zsurface-'Su berekening'!B20&" "&'Su berekening'!C20&" 2.704 0.12868 "&'Su berekening'!D20&" -0.364 -1.861 4 "&Zsurface-'Su berekening'!B20&" 400" -> 1.6 0.126208 2.704 0.12868 0 -0.364 -1.861 4 1.6 400
A80: =Zsurface-'Su berekening'!B21&" "&'Su berekening'!C21&" 2.704 0.12868 "&'Su berekening'!D21&" -0.364 -1.861 4 "&Zsurface-'Su berekening'!B21&" 400" -> 1.7 0.131036 2.704 0.12868 0 -0.364 -1.861 4 1.7 400
A81: =Zsurface-'Su berekening'!B22&" "&'Su berekening'!C22&" 2.704 0.12868 "&'Su berekening'!D22&" -0.364 -1.861 4 "&Zsurface-'Su berekening'!B22&" 400" -> 1.8 0.135534 2.704 0.12868 0.001 -0.364 -1.861 4 1.8 400
... A140: =Zsurface-'Su berekening'!B81&" "&'Su berekening'!C81&" 2.704 0.12868 "&'Su berekening'!D81&" -0.364 -1.861 4 "&Zsurface-'Su berekening'!B81&" 400" -> 7.7 0.083535 2.704 0.12868 0.0589 -0.364 -1.861 4 7.7 400
