Workbook

Sheet ReadMe
A1: Results are compared for Design - No adaption - Stability Inside - Bishop - Calculation grid - Automatic
A3: When 19.1 damx was recreated from defx, 4 locations could not be added (see tab 19.1 create damx)
A4: For other locations results were the same as for existing damx, so it can be presumed that for these locations no modifications were made in the GUI.
A6: DWP_17 could not be calculated with 19.1: The surface line points are not ascending (x-values)

Sheet Compare
A1: Combination | B1: Location | C1: Scenario | D1: 19.1 damx | E1: 19.1 defx | F1: 24.1 (rev.5284) | G1: Errors in 24.1 (rev.5284) | H1: 24.1 (rev.5272) | I1: Errors in 24.1 (rev.5272) | J1: 24.1 (rev.5266) | K1: Errors in 24.1 (rev.5266)
A2: =B2& "-" &C2 -> DWP_1-1 of 1 | B2: DWP_1 | C2: 1 of 1 | D2: =VLOOKUP($A2,'19.1 damx'!$A:$L,12,FALSE) -> 1.282 | E2: =VLOOKUP($A2,'19.1 defx'!$A:$L,12,FALSE) -> 1.282 | F2: =VLOOKUP($A2,'24.1'!$A:$L,12,FALSE) -> 1.309 | H2: 1.309 | J2: 1.442
A3: =B3& "-" &C3 -> DWP_10-1 of 3 | B3: DWP_10 | C3: 1 of 3 | D3: =VLOOKUP($A3,'19.1 damx'!$A:$L,12,FALSE) -> 1.368 | E3: =VLOOKUP($A3,'19.1 defx'!$A:$L,12,FALSE) -> #N/A | F3: =VLOOKUP($A3,'24.1'!$A:$L,12,FALSE) -> 1.365 | H3: 1.365 | J3: 1.365
A4: =B4& "-" &C4 -> DWP_10-2 of 3 | B4: DWP_10 | C4: 2 of 3 | D4: =VLOOKUP($A4,'19.1 damx'!$A:$L,12,FALSE) -> 1.343 | E4: =VLOOKUP($A4,'19.1 defx'!$A:$L,12,FALSE) -> #N/A | F4: =VLOOKUP($A4,'24.1'!$A:$L,12,FALSE) -> 1.345 | H4: 1.345 | J4: 1.345
A5: =B5& "-" &C5 -> DWP_10-3 of 3 | B5: DWP_10 | C5: 3 of 3 | D5: =VLOOKUP($A5,'19.1 damx'!$A:$L,12,FALSE) -> 1.318 | E5: =VLOOKUP($A5,'19.1 defx'!$A:$L,12,FALSE) -> #N/A | F5: =VLOOKUP($A5,'24.1'!$A:$L,12,FALSE) -> 1.326 | H5: 1.326 | J5: 1.326
A6: =B6& "-" &C6 -> DWP_11-1 of 1 | B6: DWP_11 | C6: 1 of 1 | D6: =VLOOKUP($A6,'19.1 damx'!$A:$L,12,FALSE) -> 1.142 | E6: =VLOOKUP($A6,'19.1 defx'!$A:$L,12,FALSE) -> 1.142 | F6: =VLOOKUP($A6,'24.1'!$A:$L,12,FALSE) -> 1.383 | H6: 1.383 | J6: 1.383
A7: =B7& "-" &C7 -> DWP_12-1 of 1 | B7: DWP_12 | C7: 1 of 1 | D7: =VLOOKUP($A7,'19.1 damx'!$A:$L,12,FALSE) -> 1.05 | E7: =VLOOKUP($A7,'19.1 defx'!$A:$L,12,FALSE) -> 1.05 | F7: =VLOOKUP($A7,'24.1'!$A:$L,12,FALSE) -> 1.673 | H7: 1.673 | J7: 1.673
A8: =B8& "-" &C8 -> DWP_13-1 of 1 | B8: DWP_13 | C8: 1 of 1 | D8: =VLOOKUP($A8,'19.1 damx'!$A:$L,12,FALSE) -> 0.452 | E8: =VLOOKUP($A8,'19.1 defx'!$A:$L,12,FALSE) -> 0.452 | F8: =VLOOKUP($A8,'24.1'!$A:$L,12,FALSE) -> 0.663 | H8: 0.663 | J8: 0.648
A9: =B9& "-" &C9 -> DWP_14-1 of 1 | B9: DWP_14 | C9: 1 of 1 | D9: =VLOOKUP($A9,'19.1 damx'!$A:$L,12,FALSE) -> 0.808 | E9: =VLOOKUP($A9,'19.1 defx'!$A:$L,12,FALSE) -> 0.808 | F9: =VLOOKUP($A9,'24.1'!$A:$L,12,FALSE) -> 1.176 | H9: 1.176 | J9: 1.176
A10: =B10& "-" &C10 -> DWP_15-1 of 1 | B10: DWP_15 | C10: 1 of 1 | D10: =VLOOKUP($A10,'19.1 damx'!$A:$L,12,FALSE) -> 0.791 | E10: =VLOOKUP($A10,'19.1 defx'!$A:$L,12,FALSE) -> 0.791 | F10: =VLOOKUP($A10,'24.1'!$A:$L,12,FALSE) -> 1.021 | H10: 1.021 | J10: 1.021
A11: =B11& "-" &C11 -> DWP_16-1 of 1 | B11: DWP_16 | C11: 1 of 1 | D11: =VLOOKUP($A11,'19.1 damx'!$A:$L,12,FALSE) -> 0.679 | E11: =VLOOKUP($A11,'19.1 defx'!$A:$L,12,FALSE) -> #N/A | F11: =VLOOKUP($A11,'24.1'!$A:$L,12,FALSE) -> #N/A | G11: No intersection slipcircle and surface possible | H11: #N/A | I11: Sequence contains no elements | J11: #N/A | K11: No intersection slipcircle and surface possible
A12: =B12& "-" &C12 -> DWP_17-1 of 1 | B12: DWP_17 | C12: 1 of 1 | D12: =VLOOKUP($A12,'19.1 damx'!$A:$L,12,FALSE) -> #N/A | E12: =VLOOKUP($A12,'19.1 defx'!$A:$L,12,FALSE) -> #N/A | F12: =VLOOKUP($A12,'24.1'!$A:$L,12,FALSE) -> 1.322 | H12: 1.322 | J12: 1.322
A13: =B13& "-" &C13 -> DWP_18-1 of 1 | B13: DWP_18 | C13: 1 of 1 | D13: =VLOOKUP($A13,'19.1 damx'!$A:$L,12,FALSE) -> 1.458 | E13: =VLOOKUP($A13,'19.1 defx'!$A:$L,12,FALSE) -> #N/A | F13: =VLOOKUP($A13,'24.1'!$A:$L,12,FALSE) -> 1.45 | H13: 1.45 | J13: 1.45
A14: =B14& "-" &C14 -> DWP_19-1 of 1 | B14: DWP_19 | C14: 1 of 1 | D14: =VLOOKUP($A14,'19.1 damx'!$A:$L,12,FALSE) -> 1.354 | E14: =VLOOKUP($A14,'19.1 defx'!$A:$L,12,FALSE) -> 1.354 | F14: =VLOOKUP($A14,'24.1'!$A:$L,12,FALSE) -> 1.404 | H14: 1.404 | J14: #N/A | K14: The deepest layer is not an aquifer in soilprofile 'DWP_19.stix'.
A15: =B15& "-" &C15 -> DWP_2-1 of 1 | B15: DWP_2 | C15: 1 of 1 | D15: =VLOOKUP($A15,'19.1 damx'!$A:$L,12,FALSE) -> 1.192 | E15: =VLOOKUP($A15,'19.1 defx'!$A:$L,12,FALSE) -> 1.192 | F15: =VLOOKUP($A15,'24.1'!$A:$L,12,FALSE) -> 1.435 | H15: 1.435 | J15: 1.435
A16: =B16& "-" &C16 -> DWP_20-1 of 1 | B16: DWP_20 | C16: 1 of 1 | D16: =VLOOKUP($A16,'19.1 damx'!$A:$L,12,FALSE) -> 1.303 | E16: =VLOOKUP($A16,'19.1 defx'!$A:$L,12,FALSE) -> 1.303 | F16: =VLOOKUP($A16,'24.1'!$A:$L,12,FALSE) -> #N/A | G16: The given key '' was not present in the dictionary. | H16: #N/A | I16: The given key '' was not present in the dictionary. | J16: #N/A | K16: The given key '' was not present in the dictionary.
A17: =B17& "-" &C17 -> DWP_21-1 of 1 | B17: DWP_21 | C17: 1 of 1 | D17: =VLOOKUP($A17,'19.1 damx'!$A:$L,12,FALSE) -> 1.196 | E17: =VLOOKUP($A17,'19.1 defx'!$A:$L,12,FALSE) -> 1.196 | F17: =VLOOKUP($A17,'24.1'!$A:$L,12,FALSE) -> 1.498 | H17: 1.498 | J17: 1.498
A18: =B18& "-" &C18 -> DWP_22-1 of 1 | B18: DWP_22 | C18: 1 of 1 | D18: =VLOOKUP($A18,'19.1 damx'!$A:$L,12,FALSE) -> 1.153 | E18: =VLOOKUP($A18,'19.1 defx'!$A:$L,12,FALSE) -> 1.153 | F18: =VLOOKUP($A18,'24.1'!$A:$L,12,FALSE) -> 1.199 | H18: 1.199 | J18: 1.199
A19: =B19& "-" &C19 -> DWP_23-1 of 1 | B19: DWP_23 | C19: 1 of 1 | D19: =VLOOKUP($A19,'19.1 damx'!$A:$L,12,FALSE) -> 1.218 | E19: =VLOOKUP($A19,'19.1 defx'!$A:$L,12,FALSE) -> 1.218 | F19: =VLOOKUP($A19,'24.1'!$A:$L,12,FALSE) -> 1.3 | H19: 1.3 | J19: 1.3
A20: =B20& "-" &C20 -> DWP_3-1 of 1 | B20: DWP_3 | C20: 1 of 1 | D20: =VLOOKUP($A20,'19.1 damx'!$A:$L,12,FALSE) -> 1.718 | E20: =VLOOKUP($A20,'19.1 defx'!$A:$L,12,FALSE) -> 1.718 | F20: =VLOOKUP($A20,'24.1'!$A:$L,12,FALSE) -> 1.858 | H20: 1.858 | J20: 1.858
A21: =B21& "-" &C21 -> DWP_4-1 of 1 | B21: DWP_4 | C21: 1 of 1 | D21: =VLOOKUP($A21,'19.1 damx'!$A:$L,12,FALSE) -> 1.254 | E21: =VLOOKUP($A21,'19.1 defx'!$A:$L,12,FALSE) -> #N/A | F21: =VLOOKUP($A21,'24.1'!$A:$L,12,FALSE) -> 1.441 | H21: 1.441 | J21: 1.441
A22: =B22& "-" &C22 -> DWP_5-1 of 1 | B22: DWP_5 | C22: 1 of 1 | D22: =VLOOKUP($A22,'19.1 damx'!$A:$L,12,FALSE) -> 0.942 | E22: =VLOOKUP($A22,'19.1 defx'!$A:$L,12,FALSE) -> 0.942 | F22: =VLOOKUP($A22,'24.1'!$A:$L,12,FALSE) -> 1.002 | H22: #N/A | I22: Sequence contains no elements | J22: 1.002
A23: =B23& "-" &C23 -> DWP_6-1 of 1 | B23: DWP_6 | C23: 1 of 1 | D23: =VLOOKUP($A23,'19.1 damx'!$A:$L,12,FALSE) -> 1.511 | E23: =VLOOKUP($A23,'19.1 defx'!$A:$L,12,FALSE) -> 1.511 | F23: =VLOOKUP($A23,'24.1'!$A:$L,12,FALSE) -> 1.821 | H23: 1.821 | J23: 1.821
A24: =B24& "-" &C24 -> DWP_7-1 of 1 | B24: DWP_7 | C24: 1 of 1 | D24: =VLOOKUP($A24,'19.1 damx'!$A:$L,12,FALSE) -> 1.256 | E24: =VLOOKUP($A24,'19.1 defx'!$A:$L,12,FALSE) -> 1.256 | F24: =VLOOKUP($A24,'24.1'!$A:$L,12,FALSE) -> 1.302 | H24: 1.302 | J24: 1.302
A25: =B25& "-" &C25 -> DWP_8-1 of 1 | B25: DWP_8 | C25: 1 of 1 | D25: =VLOOKUP($A25,'19.1 damx'!$A:$L,12,FALSE) -> 0.986 | E25: =VLOOKUP($A25,'19.1 defx'!$A:$L,12,FALSE) -> 0.986 | F25: =VLOOKUP($A25,'24.1'!$A:$L,12,FALSE) -> #N/A | G25: The given key '' was not present in the dictionary. | H25: #N/A | I25: The given key '' was not present in the dictionary. | J25: #N/A | K25: The given key '' was not present in the dictionary.
A26: =B26& "-" &C26 -> DWP_9-1 of 1 | B26: DWP_9 | C26: 1 of 1 | D26: =VLOOKUP($A26,'19.1 damx'!$A:$L,12,FALSE) -> 0.873 | E26: =VLOOKUP($A26,'19.1 defx'!$A:$L,12,FALSE) -> 0.873 | F26: =VLOOKUP($A26,'24.1'!$A:$L,12,FALSE) -> 0.897 | H26: 0.897 | J26: 0.897

Sheet 24.1
A1: Combination | B1: Location | C1: Scenario | D1: Calculation result | E1: X location (RDS) [m] | F1: Y location (RDS) [m] | G1: Analysis | H1: Uplift | I1: Profile name | J1: Profile probability [÷] | K1: Stability model [-] | L1: Safety factor [-] | M1: Shoulder height [m] | N1: X Bottom new slope [m] | O1: Z Bottom new slope [m] | P1: Required safety factor [-] | Q1: River level | R1: River level low | S1: Dike table height | T1: Slope damping factor | U1: Dike length [m] | V1: PL3 uplift [-] | W1: PL3 head adjusted [m] | X1: PL3 location uplift (X-local) [m] | Y1: PL3 location uplift (X-global) [m] | Z1: PL3 location uplift (Y-global) [m] | AA1: PL4 uplift [-] | AB1: PL4 head adjusted [m] | AC1: PL4 uplift (X-local) [m] | AD1: PL4 uplift (X-global) [m] | AE1: PL4 uplift (Y-global) [m] | AF1: Entry point piping X local [m] | AG1: Entry point piping X global [m] | AH1: Entry point piping Y global [m] | AI1: Exit point piping X local [m] | AJ1: Exit point piping X global [m] | AK1: Exit point piping Y global [m] | AL1: Seepage length piping [m] | AM1: Uplift safety factor [-] | AN1: Backward erosion safety factor (WBI) [-] | AO1: Backward erosion hc (WBI) [m] | AP1: Backward erosion DeltaHc (WBI) [m] | AQ1: Backward erosion reduced DeltaHc (WBI) [m] | AR1: Uplift safety factor (WBI) [-] | AS1: Uplift hc (WBI) [m] | AT1: Uplift DeltaHc (WBI) [m] | AU1: Heave safety factor (WBI) [-] | AV1: Heave hc (WBI) [m] | AW1: Heave gradient (WBI) [-] | AX1: Piping safety factor (WBI) [-] | AY1: Piping hc (WBI) [m] | AZ1: Effective stress exit point(WBI) [kN/m²] | BA1: Backward erosion CCreep (WBI) [-] | BB1: Result message | BC1: Exception message | BD1: Notes | BE1: Number of iterations | BF1: Evaluation
A2: =B2& "-" &C2 -> -
A3: =B3& "-" &C3 -> -
A4: =B4& "-" &C4 -> -
A5: =B5& "-" &C5 -> DWP_10-1 of 3 | B5: DWP_10 | C5: 1 of 3 | D5: Succeeded | E5: 103535 | F5: 441992 | G5: No adaptation | H5: CheckChecked | I5: DWP_10.stix | J5: 100 | K5: Bishop | L5: 1.365 | M5: 2.67 | N5: 36.55 | O5: 2.57 | P5: 1.17 | Q5: 1.5 | R5: 0 | S5: 2 | T5: 0 | U5: 43.465 | V5: 1.047 | W5: 1.5 | X5: 84.82 | Y5: 76.68 | Z5: 0 | AA5: 0 | AB5: 0 | AC5: 0 | AD5: -8.14 | AE5: 0 | AF5: 24.635 | AG5: 16.495 | AH5: 0 | BE5: 0 | BF5: Not evaluated
A6: =B6& "-" &C6 -> DWP_10-2 of 3 | B6: DWP_10 | C6: 2 of 3 | D6: Succeeded | E6: 103535 | F6: 441992 | G6: No adaptation | H6: CheckChecked | I6: DWP_10.stix | J6: 100 | K6: Bishop | L6: 1.345 | M6: 2.67 | N6: 36.55 | O6: 2.57 | P6: 1.17 | Q6: 1.6 | R6: 0 | S6: 2 | T6: 0 | U6: 43.465 | V6: 1.031 | W6: 1.6 | X6: 84.82 | Y6: 76.68 | Z6: 0 | AA6: 0 | AB6: 0 | AC6: 0 | AD6: -8.14 | AE6: 0 | AF6: 24.635 | AG6: 16.495 | AH6: 0 | BE6: 0 | BF6: Not evaluated
A7: =B7& "-" &C7 -> DWP_10-3 of 3 | B7: DWP_10 | C7: 3 of 3 | D7: Succeeded | E7: 103535 | F7: 441992 | G7: No adaptation | H7: CheckChecked | I7: DWP_10.stix | J7: 100 | K7: Bishop | L7: 1.326 | M7: 2.67 | N7: 36.55 | O7: 2.57 | P7: 1.17 | Q7: 1.7 | R7: 0 | S7: 2 | T7: 0 | U7: 43.465 | V7: 1.015 | W7: 1.7 | X7: 84.82 | Y7: 76.68 | Z7: 0 | AA7: 0 | AB7: 0 | AC7: 0 | AD7: -8.14 | AE7: 0 | AF7: 24.635 | AG7: 16.495 | AH7: 0 | BE7: 0 | BF7: Not evaluated
A8: =B8& "-" &C8 -> DWP_1-1 of 1 | B8: DWP_1 | C8: 1 of 1 | D8: Succeeded | E8: 99718 | F8: 437106 | G8: No adaptation | H8: CheckChecked | I8: DWP_1.stix | J8: 100 | K8: Bishop | L8: 1.309 | N8: 60.76 | O8: 2.89 | P8: 1.17 | Q8: 4.4 | R8: 0 | S8: 4.9 | T8: 0 | U8: 36.15 | V8: 1.135 | W8: 4.4 | X8: 60.64 | Y8: 69.06 | Z8: 0 | AA8: 0 | AB8: 0 | AC8: 0 | AD8: 8.42 | AE8: 0 | AF8: 16.19 | AG8: 24.61 | AH8: 0 | BE8: 0 | BF8: Not evaluated
A9: =B9& "-" &C9 -> DWP_11-1 of 1 | B9: DWP_11 | C9: 1 of 1 | D9: Succeeded | E9: 103167 | F9: 442590 | G9: No adaptation | H9: CheckChecked | I9: DWP_11.stix | J9: 100 | K9: Bishop | L9: 1.383 | N9: 63.58 | O9: -0.8 | P9: 1.17 | Q9: 1.5 | R9: 0 | S9: 2 | T9: 0 | U9: 31.79 | V9: 0.55 | W9: -0.437 | X9: 52.01 | Y9: 63.58 | Z9: 0 | AA9: 0 | AB9: 0 | AC9: 0 | AD9: 11.57 | AE9: 0 | AF9: 20.22 | AG9: 31.79 | AH9: 0 | BE9: 0 | BF9: Not evaluated
A10: =B10& "-" &C10 -> DWP_12-1 of 1 | B10: DWP_12 | C10: 1 of 1 | D10: Succeeded | E10: 103641 | F10: 442727 | G10: No adaptation | H10: CheckChecked | I10: DWP_12.stix | J10: 100 | K10: Bishop | L10: 1.673 | M10: -0.65 | N10: 59.05 | O10: 0.12 | P10: 1.17 | Q10: 1.5 | R10: 0 | S10: 2 | T10: 0 | U10: 43.05 | V10: 0.733 | W10: -2.412 | X10: 68.54 | Y10: 78.36 | Z10: 0 | AA10: 0 | AB10: 0 | AC10: 0 | AD10: 9.82 | AE10: 0 | AF10: 16.4 | AG10: 26.22 | AH10: 0 | BE10: 0 | BF10: Not evaluated
A11: =B11& "-" &C11 -> DWP_13-1 of 1 | B11: DWP_13 | C11: 1 of 1 | D11: Succeeded | E11: 104631 | F11: 442927 | G11: No adaptation | H11: CheckChecked | I11: DWP_13.stix | J11: 100 | K11: Bishop | L11: 0.663 | M11: 0.14 | N11: 43.66 | O11: 0.42 | P11: 1.17 | Q11: 1.6 | R11: 0 | S11: 2.1 | T11: 0 | U11: 27.036 | V11: 0.67 | W11: -0.92 | X11: 58.526 | Y11: 50.946 | Z11: 0 | AA11: 0 | AB11: 0 | AC11: 0 | AD11: -7.58 | AE11: 0 | AF11: 31.49 | AG11: 23.91 | AH11: 0 | BE11: 0 | BF11: Not evaluated
A12: =B12& "-" &C12 -> DWP_14-1 of 1 | B12: DWP_14 | C12: 1 of 1 | D12: Succeeded | E12: 104726 | F12: 443275 | G12: No adaptation | H12: CheckChecked | I12: DWP_14.stix | J12: 100 | K12: Bishop | L12: 1.176 | N12: 55.78 | O12: 0.41 | P12: 1.17 | Q12: 1.6 | R12: 0 | S12: 2.1 | T12: 0 | U12: 32.12 | V12: 0.797 | W12: 0.26 | X12: 61.23 | Y12: 69 | Z12: 0 | AA12: 0 | AB12: 0 | AC12: 0 | AD12: 7.77 | AE12: 0 | AF12: 15.89 | AG12: 23.66 | AH12: 0 | BE12: 0 | BF12: Not evaluated
A13: =B13& "-" &C13 -> DWP_15-1 of 1 | B13: DWP_15 | C13: 1 of 1 | D13: Succeeded | E13: 105819 | F13: 443749 | G13: No adaptation | H13: CheckChecked | I13: DWP_15.stix | J13: 100 | K13: Bishop | L13: 1.021 | N13: 55 | O13: 0.74 | P13: 1.17 | Q13: 1.6 | R13: 0 | S13: 2.1 | T13: 0 | U13: 34.94 | V13: 0.673 | W13: -1.024 | X13: 64.224 | Y13: 67.214 | Z13: 0 | AA13: 0 | AB13: 0 | AC13: 0 | AD13: 2.99 | AE13: 0 | AF13: 17.07 | AG13: 20.06 | AH13: 0 | BE13: 0 | BF13: Not evaluated
A14: =B14& "-" &C14 -> DWP_17-1 of 1 | B14: DWP_17 | C14: 1 of 1 | D14: Succeeded | E14: 106385 | F14: 444649 | G14: No adaptation | H14: CheckChecked | I14: DWP_17.stix | J14: 100 | K14: Bishop | L14: 1.322 | N14: 53.15 | O14: 0.68 | P14: 1.17 | Q14: 1.6 | R14: 0 | S14: 2.1 | T14: 0 | U14: 29.22 | V14: 1.053 | W14: 1.6 | X14: 64.47 | Y14: 64 | Z14: 0 | AA14: 0 | AB14: 0 | AC14: 0 | AD14: -0.47 | AE14: 0 | AF14: 24.4 | AG14: 23.93 | AH14: 0 | BE14: 0 | BF14: Not evaluated
A15: =B15& "-" &C15 -> DWP_18-1 of 1 | B15: DWP_18 | C15: 1 of 1 | D15: Succeeded | E15: 106511 | F15: 444934 | G15: No adaptation | H15: CheckUnchecked | I15: DWP_18.stix | J15: 100 | K15: Bishop | L15: 1.45 | N15: 42.76 | O15: 0.4 | P15: 1.17 | Q15: 1.7 | R15: 0 | S15: 2.2 | T15: 0 | U15: 18.04 | AF15: 30 | AG15: 24.72 | AH15: 0 | BE15: 0 | BF15: Not evaluated
A16: =B16& "-" &C16 -> DWP_19-1 of 1 | B16: DWP_19 | C16: 1 of 1 | D16: Succeeded | E16: 107637 | F16: 445483 | G16: No adaptation | H16: CheckChecked | I16: DWP_19.stix | J16: 100 | K16: Bishop | L16: 1.404 | N16: 51.37 | O16: 0.28 | P16: 1.17 | Q16: 1.9 | R16: 0 | S16: 2.4 | T16: 0 | U16: 29.93 | V16: 0.662 | W16: -0.97 | X16: 65.01 | Y16: 66.72 | Z16: 0 | AA16: 0 | AB16: 0 | AC16: 0 | AD16: 1.71 | AE16: 0 | AF16: 19.73 | AG16: 21.44 | AH16: 0 | BE16: 0 | BF16: Not evaluated
A17: =B17& "-" &C17 -> DWP_2-1 of 1 | B17: DWP_2 | C17: 1 of 1 | D17: Succeeded | E17: 100130 | F17: 437229 | G17: No adaptation | H17: CheckChecked | I17: DWP_2.stix | J17: 100 | K17: Bishop | L17: 1.435 | N17: 66.95 | O17: 1.67 | P17: 1.17 | Q17: 4.25 | R17: 0 | S17: 4.75 | T17: 0 | U17: 33.29 | V17: 0.866 | W17: 2.369 | X17: 71.6 | Y17: 82.91 | Z17: 0 | AA17: 0 | AB17: 0 | AC17: 0 | AD17: 11.31 | AE17: 0 | AF17: 22.35 | AG17: 33.66 | AH17: 0 | BE17: 0 | BF17: Not evaluated
A18: =B18& "-" &C18 -> DWP_21-1 of 1 | B18: DWP_21 | C18: 1 of 1 | D18: Succeeded | E18: 108898 | F18: 446548 | G18: No adaptation | H18: CheckChecked | I18: DWP_21.stix | J18: 100 | K18: Bishop | L18: 1.498 | M18: 0.45 | N18: 42.69 | O18: 0.75 | P18: 1.17 | Q18: 1.9 | R18: 0 | S18: 2.4 | T18: 0 | U18: 33.25 | V18: 0.716 | W18: -1.003 | X18: 59.23 | Y18: 54 | Z18: 0 | AA18: 0 | AB18: 0 | AC18: 0 | AD18: -5.23 | AE18: 0 | AF18: 23.68 | AG18: 18.45 | AH18: 0 | BE18: 0 | BF18: Not evaluated
A19: =B19& "-" &C19 -> DWP_22-1 of 1 | B19: DWP_22 | C19: 1 of 1 | D19: Succeeded | E19: 109395 | F19: 446544 | G19: No adaptation | H19: CheckChecked | I19: DWP_22.stix | J19: 100 | K19: Bishop | L19: 1.199 | M19: 0.81 | N19: 41.26 | O19: 0.89 | P19: 1.17 | Q19: 2 | R19: 0 | S19: 2.5 | T19: 0 | U19: 63.82 | V19: 0.764 | W19: -0.848 | X19: 74.593 | Y19: 68.633 | Z19: 0 | AA19: 0 | AB19: 0 | AC19: 0 | AD19: -5.96 | AE19: 0 | AF19: 23.14 | AG19: 17.18 | AH19: 0 | BE19: 0 | BF19: Not evaluated
A20: =B20& "-" &C20 -> DWP_23-1 of 1 | B20: DWP_23 | C20: 1 of 1 | D20: Succeeded | E20: 109682 | F20: 446726 | G20: No adaptation | H20: CheckChecked | I20: DWP_23.stix | J20: 100 | K20: Bishop | L20: 1.3 | N20: 53.71 | O20: 0.7 | P20: 1.17 | Q20: 2.1 | R20: 0 | S20: 2.6 | T20: 0 | U20: 29.537 | V20: 0.778 | W20: 0.355 | X20: 66.05 | Y20: 61.54 | Z20: 0 | AA20: 0 | AB20: 0 | AC20: 0 | AD20: -4.51 | AE20: 0 | AF20: 28.683 | AG20: 24.173 | AH20: 0 | BE20: 0 | BF20: Not evaluated
A21: =B21& "-" &C21 -> DWP_3-1 of 1 | B21: DWP_3 | C21: 1 of 1 | D21: Succeeded | E21: 101611 | F21: 437577 | G21: No adaptation | H21: CheckChecked | I21: DWP_3.stix | J21: 100 | K21: Bishop | L21: 1.858 | M21: 2.89 | N21: 60.06 | O21: 2.93 | P21: 1.17 | Q21: 4.1 | R21: 0 | S21: 4.6 | T21: 0 | U21: 52.2 | V21: 0.682 | W21: 1.397 | X21: 68.07 | Y21: 79.67 | Z21: 0 | AA21: 0 | AB21: 0 | AC21: 0 | AD21: 11.6 | AE21: 0 | AF21: 8.89 | AG21: 20.49 | AH21: 0 | BE21: 0 | BF21: Not evaluated
A22: =B22& "-" &C22 -> DWP_4-1 of 1 | B22: DWP_4 | C22: 1 of 1 | D22: Succeeded | E22: 102397 | F22: 438403 | G22: No adaptation | H22: CheckChecked | I22: DWP_4.stix | J22: 100 | K22: Bishop | L22: 1.441 | N22: 83.45 | O22: 1.01 | P22: 1.17 | Q22: 3.85 | R22: 0 | S22: 4.35 | T22: 0 | U22: 53.65 | V22: 0.613 | W22: -0.387 | X22: 70.42 | Y22: 91.28 | Z22: 0 | AA22: 0 | AB22: 0 | AC22: 0 | AD22: 20.86 | AE22: 0 | AF22: 8.94 | AG22: 29.8 | AH22: 0 | BE22: 0 | BF22: Not evaluated
A23: =B23& "-" &C23 -> DWP_5-1 of 1 | B23: DWP_5 | C23: 1 of 1 | D23: Succeeded | E23: 103367 | F23: 439210 | G23: No adaptation | H23: CheckChecked | I23: DWP_5.stix | J23: 100 | K23: Bishop | L23: 1.002 | N23: 79.14 | O23: 0.84 | P23: 1.17 | Q23: 3.75 | R23: 0 | S23: 4.25 | T23: 0 | U23: 51.18 | V23: 0.868 | W23: 2.139 | X23: 65.76 | Y23: 81.42 | Z23: 0 | AA23: 0 | AB23: 0 | AC23: 0 | AD23: 15.66 | AE23: 0 | AF23: 12.3 | AG23: 27.96 | AH23: 0 | BE23: 0 | BF23: Not evaluated
A24: =B24& "-" &C24 -> DWP_6-1 of 1 | B24: DWP_6 | C24: 1 of 1 | D24: Succeeded | E24: 103496 | F24: 439515 | G24: No adaptation | H24: CheckChecked | I24: DWP_6.stix | J24: 100 | K24: Bishop | L24: 1.821 | M24: 1.34 | N24: 62.47 | O24: 1.49 | P24: 1.17 | Q24: 3.55 | R24: 0 | S24: 4.05 | T24: 0 | U24: 51.16 | V24: 0.513 | W24: -0.626 | X24: 71.7 | Y24: 78.14 | Z24: 0 | AA24: 0 | AB24: 0 | AC24: 0 | AD24: 6.44 | AE24: 0 | AF24: 18.48 | AG24: 24.92 | AH24: 0 | BE24: 0 | BF24: Not evaluated
A25: =B25& "-" &C25 -> DWP_7-1 of 1 | B25: DWP_7 | C25: 1 of 1 | D25: Succeeded | E25: 103954 | F25: 440651 | G25: No adaptation | H25: CheckChecked | I25: DWP_7.stix | J25: 100 | K25: Bishop | L25: 1.302 | N25: 56.53 | O25: 0.79 | P25: 1.17 | Q25: 3.45 | R25: 0 | S25: 3.95 | T25: 0 | U25: 36.51 | V25: 0.74 | W25: 2.025 | X25: 56.01 | Y25: 56.53 | Z25: 0 | AA25: 0 | AB25: 0 | AC25: 0 | AD25: 0.52 | AE25: 0 | AF25: 19.5 | AG25: 20.02 | AH25: 0 | BE25: 0 | BF25: Not evaluated
A26: =B26& "-" &C26 -> DWP_9-1 of 1 | B26: DWP_9 | C26: 1 of 1 | D26: Succeeded | E26: 104178 | F26: 441030 | G26: No adaptation | H26: CheckChecked | I26: DWP_9.stix | J26: 100 | K26: Bishop | L26: 0.897 | N26: 55.74 | O26: 0.5 | P26: 1.17 | Q26: 3.2 | R26: 0 | S26: 3.7 | T26: 0 | U26: 37.19 | V26: 0.86 | W26: 2.077 | X26: 64.58 | Y26: 55.74 | Z26: 0 | AA26: 0 | AB26: 0 | AC26: 0 | AD26: -8.84 | AE26: 0 | AF26: 27.39 | AG26: 18.55 | AH26: 0 | BE26: 0 | BF26: Not evaluated

Sheet 19.1 damx
A1: Combination | B1: Locatie | C1: Scenario | D1: Berekenings resultaat | E1: X (RD) [m] | F1: Y (RD) [m] | G1: Analyse | H1: Opdrijven | I1: Profielnaam | J1: Probabiliteit Profiel [÷] | K1: Stabiliteitsmodel [-] | L1: Stabiliteitsfactor [-] | M1: Bermhoogte [m] | N1: X onderkant nieuw talud [m] | O1: Z onderkant nieuw talud [m] | P1: Vereiste veiligheidsfactor [-] | Q1: Buitenwaterstand | R1: Lage buitenwaterstand | S1: DTH | T1: Helling demping PL3/PL4 | U1: Zone 1 veiligheidsfactor [-] | V1: X-lokaal Intredepunt zone 1 [m] | W1: X-globaal Intredepunt zone 1 [m] | X1: Y-globaal Intredepunt zone 1 [m] | Y1: Z Intredepunt zone 1 [m] | Z1: Zone 1 uittredepunt glijcirkel (X-lokaal) [m] | AA1: Zone 1 uittredepunt glijcirkel (X-globaal) [m] | AB1: Zone 1 uittredepunt glijcirkel (Y-globaal) [m] | AC1: Zone 1 uittredepunt glijcirkel (Z) [m] | AD1: Zone 2 veiligheidsfactor [-] | AE1: X-lokaal Intredepunt zone 2 [m] | AF1: X-globaal Intredepunt zone 2 [m] | AG1: Y-globaal Intredepunt zone 2 [m] | AH1: Z Intredepunt zone 2 [m] | AI1: Zone 2 uittredepunt glijcirkel (X-lokaal) [m] | AJ1: Zone 2 uittredepunt glijcirkel (X-globaal) [m] | AK1: Zone 2 uittredepunt glijcirkel (Y-globaal) [m] | AL1: Zone 2 uittredepunt glijcirkel (Z) [m] | AM1: DIjklengte [m] | AN1: PL3 opdrijven [-] | AO1: PL3 stijghoogte aangepast [m] | AP1: PL3 locatie opdrijven (X-lokaal) [m] | AQ1: PL3 locatie opdrijven (X-globaal) [m] | AR1: PL3 locatie opdrijven (Y-globaal) [m] | AS1: PL4 opdrijven [-] | AT1: PL4 stijghoogte aangepast [m] | AU1: PL4 locatie opdrijven (X-lokaal) [m] | AV1: PL4 locatie opdrijven (X-globaal) [m] | AW1: PL4 locatie opdrijven (Y-globaal) [m] | AX1: Intredepunt piping x lokaal [m] | AY1: Intredepunt piping x globaal [m] | AZ1: Intredepunt piping y globaal [m] | BA1: Uittredepunt piping x lokaal [m] | BB1: Uittredepunt piping x globaal [m] | BC1: Uittredepunt piping y globaal [m] | BD1: Kwelweglengte piping [m] | BE1: Veiligheidsfactor opdrijven [-] | BF1: Terugschrijdende erosie veiligheidsfactor (WBI) [-] | BG1: Terugschrijdende erosie hc (WBI) [m] | BH1: Terugschrijdende erosie DeltaHc (WBI) [m] | BI1: Terugschrijdende erosie gereduceerd verval (WBI) [m] | BJ1: Opbarsten veiligheidsfactor (WBI) [-] | BK1: Opbarsten hc (WBI) [m] | BL1: Opbarsten DeltaHc (WBI) [m] | BM1: Heave veiligheidsfactor (WBI) [-] | BN1: Heave hc (WBI) [m] | BO1: Heave gradient (WBI) [-] | BP1: Piping veiligheidsfactor (WBI) [-] | BQ1: Piping hc (WBI) [m] | BR1: Opbarsten effectieve spanning (WBI) [kN/m²] | BS1: Terugschrijdende erosie CCreep (WBI) [-] | BT1: Melding resultaat | BU1: Opmerkingen | BV1: Aantal iteraties | BW1: Evaluatie
A2: =B2& "-" &C2 -> DWP_10-1 of 3 | B2: DWP_10 | C2: 1 of 3 | D2: Geslaagd | E2: 103535 | F2: 441992 | G2: Geen aanpassing | H2: NL-CheckChecked | I2: DWP_10.sti | J2: 100 | K2: Bishop | L2: 1.368 | M2: 2.67 | N2: 36.55 | O2: 2.57 | P2: 1.17 | Q2: 1.5 | R2: 0 | S2: 2 | T2: 0 | U2: 1.368 | V2: 55.722 | W2: 47.582 | X2: 0 | Y2: 3.025 | Z2: 77.667 | AA2: 69.527 | AB2: 0 | AC2: -0.51 | AM2: 43.465 | AN2: 1.047 | AO2: 1.5 | AP2: 84.82 | AQ2: 76.68 | AR2: 0 | AS2: 0 | AT2: 0 | AU2: 0 | AV2: -8.14 | AW2: 0 | AX2: 24.635 | AY2: 16.495 | AZ2: 0 | BV2: 0 | BW2: Niet geëvalueerd
A3: =B3& "-" &C3 -> DWP_10-2 of 3 | B3: DWP_10 | C3: 2 of 3 | D3: Geslaagd | E3: 103535 | F3: 441992 | G3: Geen aanpassing | H3: NL-CheckChecked | I3: DWP_10.sti | J3: 100 | K3: Bishop | L3: 1.343 | M3: 2.67 | N3: 36.55 | O3: 2.57 | P3: 1.17 | Q3: 1.6 | R3: 0 | S3: 2 | T3: 0 | U3: 1.343 | V3: 56.061 | W3: 47.921 | X3: 0 | Y3: 2.988 | Z3: 79.137 | AA3: 70.997 | AB3: 0 | AC3: -0.512 | AM3: 43.465 | AN3: 1.031 | AO3: 1.6 | AP3: 84.82 | AQ3: 76.68 | AR3: 0 | AS3: 0 | AT3: 0 | AU3: 0 | AV3: -8.14 | AW3: 0 | AX3: 24.635 | AY3: 16.495 | AZ3: 0 | BV3: 0 | BW3: Niet geëvalueerd
A4: =B4& "-" &C4 -> DWP_10-3 of 3 | B4: DWP_10 | C4: 3 of 3 | D4: Geslaagd | E4: 103535 | F4: 441992 | G4: Geen aanpassing | H4: NL-CheckChecked | I4: DWP_10.sti | J4: 100 | K4: Bishop | L4: 1.318 | M4: 2.67 | N4: 36.55 | O4: 2.57 | P4: 1.17 | Q4: 1.7 | R4: 0 | S4: 2 | T4: 0 | U4: 1.318 | V4: 56.774 | W4: 48.634 | X4: 0 | Y4: 2.881 | Z4: 78.666 | AA4: 70.526 | AB4: 0 | AC4: -0.511 | AM4: 43.465 | AN4: 1.015 | AO4: 1.7 | AP4: 84.82 | AQ4: 76.68 | AR4: 0 | AS4: 0 | AT4: 0 | AU4: 0 | AV4: -8.14 | AW4: 0 | AX4: 24.635 | AY4: 16.495 | AZ4: 0 | BV4: 0 | BW4: Niet geëvalueerd
A5: =B5& "-" &C5 -> DWP_1-1 of 1 | B5: DWP_1 | C5: 1 of 1 | D5: Geslaagd | E5: 99718 | F5: 437106 | G5: Geen aanpassing | H5: NL-CheckChecked | I5: DWP_1.sti | J5: 100 | K5: Bishop | L5: 1.282 | N5: 60.76 | O5: 2.89 | P5: 1.17 | Q5: 4.4 | R5: 0 | S5: 4.9 | T5: 0 | U5: 1.282 | V5: 38.818 | W5: 47.238 | X5: 0 | Y5: 5.266 | Z5: 64.262 | AA5: 72.682 | AB5: 0 | AC5: 1.149 | AM5: 36.15 | AN5: 1.141 | AO5: 4.4 | AP5: 60.64 | AQ5: 69.06 | AR5: 0 | AS5: 0 | AT5: 0 | AU5: 0 | AV5: 8.42 | AW5: 0 | AX5: 16.19 | AY5: 24.61 | AZ5: 0 | BV5: 0 | BW5: Niet geëvalueerd
A6: =B6& "-" &C6 -> DWP_11-1 of 1 | B6: DWP_11 | C6: 1 of 1 | D6: Geslaagd | E6: 103167 | F6: 442590 | G6: Geen aanpassing | H6: NL-CheckChecked | I6: DWP_11.sti | J6: 100 | K6: Bishop | L6: 1.142 | N6: 63.58 | O6: -0.8 | P6: 1.17 | Q6: 1.5 | R6: 0 | S6: 2 | T6: 0 | U6: 1.142 | V6: 38.819 | W6: 50.389 | X6: 0 | Y6: 3.292 | Z6: 53.163 | AA6: 64.733 | AB6: 0 | AC6: -1.843 | AM6: 31.79 | AN6: 0.55 | AO6: -0.437 | AP6: 52.01 | AQ6: 63.58 | AR6: 0 | AS6: 0 | AT6: 0 | AU6: 0 | AV6: 11.57 | AW6: 0 | AX6: 20.22 | AY6: 31.79 | AZ6: 0 | BV6: 0 | BW6: Niet geëvalueerd
A7: =B7& "-" &C7 -> DWP_12-1 of 1 | B7: DWP_12 | C7: 1 of 1 | D7: Geslaagd | E7: 103641 | F7: 442727 | G7: Geen aanpassing | H7: NL-CheckChecked | I7: DWP_12.sti | J7: 100 | K7: Bishop | L7: 1.05 | M7: -0.65 | N7: 59.05 | O7: 0.12 | P7: 1.17 | Q7: 1.5 | R7: 0 | S7: 2 | T7: 0 | U7: 1.05 | V7: 42.587 | W7: 52.407 | X7: 0 | Y7: 2.312 | Z7: 62.786 | AA7: 72.606 | AB7: 0 | AC7: -1.27 | AM7: 43.05 | AN7: 0.733 | AO7: -2.412 | AP7: 68.54 | AQ7: 78.36 | AR7: 0 | AS7: 0 | AT7: 0 | AU7: 0 | AV7: 9.82 | AW7: 0 | AX7: 16.4 | AY7: 26.22 | AZ7: 0 | BV7: 0 | BW7: Niet geëvalueerd
A8: =B8& "-" &C8 -> DWP_13-1 of 1 | B8: DWP_13 | C8: 1 of 1 | D8: Geslaagd | E8: 104631 | F8: 442927 | G8: Geen aanpassing | H8: NL-CheckChecked | I8: DWP_13.sti | J8: 100 | K8: Bishop | L8: 0.452 | M8: 0.14 | N8: 43.66 | O8: 0.42 | P8: 1.17 | Q8: 1.6 | R8: 0 | S8: 2.1 | T8: 0 | U8: 0.452 | V8: 50.617 | W8: 43.037 | X8: 0 | Y8: 0.636 | Z8: 61.734 | AA8: 54.154 | AB8: 0 | AC8: -1.743 | AM8: 27.036 | AN8: 0.665 | AO8: -1.29 | AP8: 58.526 | AQ8: 50.946 | AR8: 0 | AS8: 0 | AT8: 0 | AU8: 0 | AV8: -7.58 | AW8: 0 | AX8: 31.49 | AY8: 23.91 | AZ8: 0 | BV8: 0 | BW8: Niet geëvalueerd
A9: =B9& "-" &C9 -> DWP_14-1 of 1 | B9: DWP_14 | C9: 1 of 1 | D9: Geslaagd | E9: 104726 | F9: 443275 | G9: Geen aanpassing | H9: NL-CheckChecked | I9: DWP_14.sti | J9: 100 | K9: Bishop | L9: 0.808 | N9: 55.78 | O9: 0.41 | P9: 1.17 | Q9: 1.6 | R9: 0 | S9: 2.1 | T9: 0 | U9: 0.808 | V9: 49.454 | W9: 57.224 | X9: 0 | Y9: 0.351 | Z9: 71.565 | AA9: 79.335 | AB9: 0 | AC9: -0.871 | AM9: 32.12 | AN9: 0.797 | AO9: 0.26 | AP9: 61.23 | AQ9: 69 | AR9: 0 | AS9: 0 | AT9: 0 | AU9: 0 | AV9: 7.77 | AW9: 0 | AX9: 15.89 | AY9: 23.66 | AZ9: 0 | BV9: 0 | BW9: Niet geëvalueerd
A10: =B10& "-" &C10 -> DWP_15-1 of 1 | B10: DWP_15 | C10: 1 of 1 | D10: Geslaagd | E10: 105819 | F10: 443749 | G10: Geen aanpassing | H10: NL-CheckChecked | I10: DWP_15.sti | J10: 100 | K10: Bishop | L10: 0.791 | N10: 55 | O10: 0.74 | P10: 1.17 | Q10: 1.6 | R10: 0 | S10: 2.1 | T10: 0 | U10: 0.791 | V10: 60.528 | W10: 63.518 | X10: 0 | Y10: 0.106 | Z10: 66.972 | AA10: 69.962 | AB10: 0 | AC10: -1.505 | AM10: 34.94 | AN10: 0.676 | AO10: -1.008 | AP10: 64.224 | AQ10: 67.214 | AR10: 0 | AS10: 0 | AT10: 0 | AU10: 0 | AV10: 2.99 | AW10: 0 | AX10: 17.07 | AY10: 20.06 | AZ10: 0 | BV10: 0 | BW10: Niet geëvalueerd
A11: =B11& "-" &C11 -> DWP_16-1 of 1 | B11: DWP_16 | C11: 1 of 1 | D11: Geslaagd | E11: 106034 | F11: 444348 | G11: Geen aanpassing | H11: NL-CheckChecked | I11: DWP_16.sti | J11: 100 | K11: Bishop | L11: 0.679 | N11: 41.88 | O11: 0.37 | P11: 1.17 | Q11: 1.6 | R11: 0 | S11: 2.1 | T11: 0 | U11: 0.679 | V11: 41.567 | W11: 36.357 | X11: 0 | Y11: 2.571 | Z11: 54.849 | AA11: 49.639 | AB11: 0 | AC11: -0.506 | AM11: 22.36 | AN11: 0.912 | AO11: 1.072 | AP11: 64.4 | AQ11: 59.19 | AR11: 0 | AS11: 0 | AT11: 0 | AU11: 0 | AV11: -5.21 | AW11: 0 | AX11: 24.73 | AY11: 19.52 | AZ11: 0 | BV11: 0 | BW11: Niet geëvalueerd
A12: =B12& "-" &C12 -> DWP_18-1 of 1 | B12: DWP_18 | C12: 1 of 1 | D12: Geslaagd | E12: 106511 | F12: 444934 | G12: Geen aanpassing | H12: NL-CheckUnchecked | I12: DWP_18.sti | J12: 100 | K12: Bishop | L12: 1.458 | N12: 43.71 | O12: 0.18 | P12: 1.17 | Q12: 1.7 | R12: 0 | S12: 2.2 | T12: 0 | U12: 1.458 | V12: 39.114 | W12: 33.834 | X12: 0 | Y12: 2.99 | Z12: 49.587 | AA12: 44.307 | AB12: 0 | AC12: 0.152 | AM12: 18.99 | AN12: 1.457 | AO12: 1.7 | AP12: 48.99 | AQ12: 43.71 | AR12: 0 | AS12: 0 | AT12: 0 | AU12: 0 | AV12: -5.28 | AW12: 0 | AX12: 30 | AY12: 24.72 | AZ12: 0 | BV12: 0 | BW12: Niet geëvalueerd
A13: =B13& "-" &C13 -> DWP_19-1 of 1 | B13: DWP_19 | C13: 1 of 1 | D13: Geslaagd | E13: 107637 | F13: 445483 | G13: Geen aanpassing | H13: NL-CheckChecked | I13: DWP_19.sti | J13: 100 | K13: Bishop | L13: 1.354 | N13: 51.37 | O13: 0.28 | P13: 1.17 | Q13: 1.9 | R13: 0 | S13: 2.4 | T13: 0 | U13: 1.354 | V13: 39.622 | W13: 41.332 | X13: 0 | Y13: 3.517 | Z13: 52.746 | AA13: 54.456 | AB13: 0 | AC13: 0.113 | AM13: 29.93 | AN13: 0.662 | AO13: -0.97 | AP13: 65.01 | AQ13: 66.72 | AR13: 0 | AS13: 0 | AT13: 0 | AU13: 0 | AV13: 1.71 | AW13: 0 | AX13: 19.73 | AY13: 21.44 | AZ13: 0 | BV13: 0 | BW13: Niet geëvalueerd
A14: =B14& "-" &C14 -> DWP_20-1 of 1 | B14: DWP_20 | C14: 1 of 1 | D14: Geslaagd | E14: 108263 | F14: 446056 | G14: Geen aanpassing | H14: NL-CheckChecked | I14: DWP_20.sti | J14: 100 | K14: Bishop | L14: 1.303 | N14: 45.32 | O14: 0.5 | P14: 1.17 | Q14: 1.9 | R14: 0 | S14: 2.4 | T14: 0 | U14: 1.303 | V14: 38.739 | W14: 36.689 | X14: 0 | Y14: 2.631 | Z14: 61.046 | AA14: 58.996 | AB14: 0 | AC14: -1.878 | AM14: 19.28 | AN14: 0.75 | AO14: -0.539 | AP14: 58.752 | AQ14: 56.702 | AR14: 0 | AS14: 0 | AT14: 0 | AU14: 0 | AV14: -2.05 | AW14: 0 | AX14: 28.09 | AY14: 26.04 | AZ14: 0 | BV14: 0 | BW14: Niet geëvalueerd
A15: =B15& "-" &C15 -> DWP_2-1 of 1 | B15: DWP_2 | C15: 1 of 1 | D15: Geslaagd | E15: 100130 | F15: 437229 | G15: Geen aanpassing | H15: NL-CheckChecked | I15: DWP_2.sti | J15: 100 | K15: Bishop | L15: 1.192 | N15: 66.95 | O15: 1.67 | P15: 1.17 | Q15: 4.25 | R15: 0 | S15: 4.75 | T15: 0 | U15: 1.192 | V15: 39.663 | W15: 50.973 | X15: 0 | Y15: 5.587 | Z15: 76.143 | AA15: 87.453 | AB15: 0 | AC15: -1.06 | AM15: 33.29 | AN15: 0.868 | AO15: 2.407 | AP15: 71.6 | AQ15: 82.91 | AR15: 0 | AS15: 0 | AT15: 0 | AU15: 0 | AV15: 11.31 | AW15: 0 | AX15: 22.35 | AY15: 33.66 | AZ15: 0 | BV15: 0 | BW15: Niet geëvalueerd
A16: =B16& "-" &C16 -> DWP_21-1 of 1 | B16: DWP_21 | C16: 1 of 1 | D16: Geslaagd | E16: 108898 | F16: 446548 | G16: Geen aanpassing | H16: NL-CheckChecked | I16: DWP_21.sti | J16: 100 | K16: Bishop | L16: 1.196 | M16: 0.45 | N16: 42.69 | O16: 0.75 | P16: 1.17 | Q16: 1.9 | R16: 0 | S16: 2.4 | T16: 0 | U16: 1.196 | V16: 39.382 | W16: 34.152 | X16: 0 | Y16: 3.189 | Z16: 61.218 | AA16: 55.988 | AB16: 0 | AC16: -1.907 | AM16: 33.25 | AN16: 0.715 | AO16: -1.003 | AP16: 59.23 | AQ16: 54 | AR16: 0 | AS16: 0 | AT16: 0 | AU16: 0 | AV16: -5.23 | AW16: 0 | AX16: 23.68 | AY16: 18.45 | AZ16: 0 | BV16: 0 | BW16: Niet geëvalueerd
A17: =B17& "-" &C17 -> DWP_22-1 of 1 | B17: DWP_22 | C17: 1 of 1 | D17: Geslaagd | E17: 109395 | F17: 446544 | G17: Geen aanpassing | H17: NL-CheckChecked | I17: DWP_22.sti | J17: 100 | K17: Bishop | L17: 1.153 | M17: 0.81 | N17: 41.26 | O17: 0.89 | P17: 1.17 | Q17: 2 | R17: 0 | S17: 2.5 | T17: 0 | U17: 1.153 | V17: 39.876 | W17: 33.916 | X17: 0 | Y17: 2.55 | Z17: 58.676 | AA17: 52.716 | AB17: 0 | AC17: -0.353 | AM17: 63.82 | AN17: 0.735 | AO17: -1.093 | AP17: 74.593 | AQ17: 68.633 | AR17: 0 | AS17: 0 | AT17: 0 | AU17: 0 | AV17: -5.96 | AW17: 0 | AX17: 23.14 | AY17: 17.18 | AZ17: 0 | BV17: 0 | BW17: Niet geëvalueerd
A18: =B18& "-" &C18 -> DWP_23-1 of 1 | B18: DWP_23 | C18: 1 of 1 | D18: Geslaagd | E18: 109682 | F18: 446726 | G18: Geen aanpassing | H18: NL-CheckChecked | I18: DWP_23.sti | J18: 100 | K18: Bishop | L18: 1.218 | N18: 53.71 | O18: 0.7 | P18: 1.17 | Q18: 2.1 | R18: 0 | S18: 2.6 | T18: 0 | U18: 1.218 | V18: 48.16 | W18: 43.65 | X18: 0 | Y18: 3.298 | Z18: 67.727 | AA18: 63.217 | AB18: 0 | AC18: -0.251 | AM18: 29.537 | AN18: 0.805 | AO18: 0.355 | AP18: 66.05 | AQ18: 61.54 | AR18: 0 | AS18: 0 | AT18: 0 | AU18: 0 | AV18: -4.51 | AW18: 0 | AX18: 28.683 | AY18: 24.173 | AZ18: 0 | BV18: 0 | BW18: Niet geëvalueerd
A19: =B19& "-" &C19 -> DWP_3-1 of 1 | B19: DWP_3 | C19: 1 of 1 | D19: Geslaagd | E19: 101611 | F19: 437577 | G19: Geen aanpassing | H19: NL-CheckChecked | I19: DWP_3.sti | J19: 100 | K19: Bishop | L19: 1.718 | M19: 2.89 | N19: 60.06 | O19: 2.93 | P19: 1.17 | Q19: 4.1 | R19: 0 | S19: 4.6 | T19: 0 | U19: 1.718 | V19: 55.634 | W19: 67.234 | X19: 0 | Y19: 2.758 | Z19: 75.045 | AA19: 86.645 | AB19: 0 | AC19: -1.238 | AM19: 52.2 | AN19: 0.683 | AO19: -0.651 | AP19: 72.79 | AQ19: 84.39 | AR19: 0 | AS19: 0 | AT19: 0 | AU19: 0 | AV19: 11.6 | AW19: 0 | AX19: 8.89 | AY19: 20.49 | AZ19: 0 | BV19: 0 | BW19: Niet geëvalueerd
A20: =B20& "-" &C20 -> DWP_4-1 of 1 | B20: DWP_4 | C20: 1 of 1 | D20: Geslaagd | E20: 102397 | F20: 438403 | G20: Geen aanpassing | H20: NL-CheckChecked | I20: DWP_4.sti | J20: 100 | K20: Bishop | L20: 1.254 | N20: 83.45 | O20: 1.01 | P20: 1.17 | Q20: 3.85 | R20: 0 | S20: 4.35 | T20: 0 | U20: 1.254 | V20: 40.724 | W20: 61.584 | X20: 0 | Y20: 4.864 | Z20: 54.216 | AA20: 75.076 | AB20: 0 | AC20: 1.312 | AM20: 53.65 | AN20: 0.613 | AO20: -0.387 | AP20: 70.42 | AQ20: 91.28 | AR20: 0 | AS20: 0 | AT20: 0 | AU20: 0 | AV20: 20.86 | AW20: 0 | AX20: 8.94 | AY20: 29.8 | AZ20: 0 | BV20: 0 | BW20: Niet geëvalueerd
A21: =B21& "-" &C21 -> DWP_5-1 of 1 | B21: DWP_5 | C21: 1 of 1 | D21: Geslaagd | E21: 103367 | F21: 439210 | G21: Geen aanpassing | H21: NL-CheckChecked | I21: DWP_5.sti | J21: 100 | K21: Bishop | L21: 0.942 | N21: 79.14 | O21: 0.84 | P21: 1.17 | Q21: 3.75 | R21: 0 | S21: 4.25 | T21: 0 | U21: 0.942 | V21: 39.048 | W21: 54.708 | X21: 0 | Y21: 4.745 | Z21: 67.815 | AA21: 83.475 | AB21: 0 | AC21: -0.63 | AM21: 51.18 | AN21: 0.874 | AO21: 2.154 | AP21: 65.76 | AQ21: 81.42 | AR21: 0 | AS21: 0 | AT21: 0 | AU21: 0 | AV21: 15.66 | AW21: 0 | AX21: 12.3 | AY21: 27.96 | AZ21: 0 | BV21: 0 | BW21: Niet geëvalueerd
A22: =B22& "-" &C22 -> DWP_6-1 of 1 | B22: DWP_6 | C22: 1 of 1 | D22: Geslaagd | E22: 103496 | F22: 439515 | G22: Geen aanpassing | H22: NL-CheckChecked | I22: DWP_6.sti | J22: 100 | K22: Bishop | L22: 1.511 | M22: 1.34 | N22: 62.47 | O22: 1.49 | P22: 1.17 | Q22: 3.55 | R22: 0 | S22: 4.05 | T22: 0 | U22: 1.511 | V22: 42.792 | W22: 49.232 | X22: 0 | Y22: 4.457 | Z22: 60.144 | AA22: 66.584 | AB22: 0 | AC22: 1.376 | AM22: 51.16 | AN22: 0.558 | AO22: -0.129 | AP22: 71.7 | AQ22: 78.14 | AR22: 0 | AS22: 0 | AT22: 0 | AU22: 0 | AV22: 6.44 | AW22: 0 | AX22: 18.48 | AY22: 24.92 | AZ22: 0 | BV22: 0 | BW22: Niet geëvalueerd
A23: =B23& "-" &C23 -> DWP_7-1 of 1 | B23: DWP_7 | C23: 1 of 1 | D23: Geslaagd | E23: 103954 | F23: 440651 | G23: Geen aanpassing | H23: NL-CheckChecked | I23: DWP_7.sti | J23: 100 | K23: Bishop | L23: 1.256 | N23: 56.53 | O23: 0.79 | P23: 1.17 | Q23: 3.45 | R23: 0 | S23: 3.95 | T23: 0 | U23: 1.256 | V23: 39.636 | W23: 40.156 | X23: 0 | Y23: 4.55 | Z23: 60.633 | AA23: 61.153 | AB23: 0 | AC23: 0.531 | AM23: 36.51 | AN23: 0.737 | AO23: 2.01 | AP23: 56.01 | AQ23: 56.53 | AR23: 0 | AS23: 0 | AT23: 0 | AU23: 0 | AV23: 0.52 | AW23: 0 | AX23: 19.5 | AY23: 20.02 | AZ23: 0 | BV23: 0 | BW23: Niet geëvalueerd
A24: =B24& "-" &C24 -> DWP_8-1 of 1 | B24: DWP_8 | C24: 1 of 1 | D24: Geslaagd | E24: 104115 | F24: 440659 | G24: Geen aanpassing | H24: NL-CheckChecked | I24: DWP_8.sti | J24: 100 | K24: Bishop | L24: 0.986 | M24: 1.17 | N24: 50.54 | O24: 1.22 | P24: 1.17 | Q24: 3.35 | R24: 0 | S24: 3.85 | T24: 0 | U24: 0.986 | V24: 62.632 | W24: 60.562 | X24: 0 | Y24: 0.797 | Z24: 69.944 | AA24: 67.874 | AB24: 0 | AC24: -1.281 | AM24: 44.89 | AN24: 0.705 | AO24: -0.828 | AP24: 68.088 | AQ24: 66.018 | AR24: 0 | AS24: 0 | AT24: 0 | AU24: 0 | AV24: -2.07 | AW24: 0 | AX24: 20.18 | AY24: 18.11 | AZ24: 0 | BV24: 0 | BW24: Niet geëvalueerd
A25: =B25& "-" &C25 -> DWP_9-1 of 1 | B25: DWP_9 | C25: 1 of 1 | D25: Geslaagd | E25: 104178 | F25: 441030 | G25: Geen aanpassing | H25: NL-CheckChecked | I25: DWP_9.sti | J25: 100 | K25: Bishop | L25: 0.873 | N25: 55.74 | O25: 0.5 | P25: 1.17 | Q25: 3.2 | R25: 0 | S25: 3.7 | T25: 0 | U25: 0.873 | V25: 39.101 | W25: 30.261 | X25: 0 | Y25: 4.096 | Z25: 66.53 | AA25: 57.69 | AB25: 0 | AC25: -0.817 | AM25: 37.19 | AN25: 0.844 | AO25: 1.952 | AP25: 64.58 | AQ25: 55.74 | AR25: 0 | AS25: 0 | AT25: 0 | AU25: 0 | AV25: -8.84 | AW25: 0 | AX25: 27.39 | AY25: 18.55 | AZ25: 0 | BV25: 0 | BW25: Niet geëvalueerd

Sheet 19.1 defx
A1: Combination | B1: Locatie | C1: Scenario | D1: Berekenings resultaat | E1: X (RD) [m] | F1: Y (RD) [m] | G1: Analyse | H1: Opdrijven | I1: Profielnaam | J1: Probabiliteit Profiel [÷] | K1: Stabiliteitsmodel [-] | L1: Stabiliteitsfactor [-] | M1: Bermhoogte [m] | N1: X onderkant nieuw talud [m] | O1: Z onderkant nieuw talud [m] | P1: Vereiste veiligheidsfactor [-] | Q1: Buitenwaterstand | R1: Lage buitenwaterstand | S1: DTH | T1: Helling demping PL3/PL4 | U1: Zone 1 veiligheidsfactor [-] | V1: X-lokaal Intredepunt zone 1 [m] | W1: X-globaal Intredepunt zone 1 [m] | X1: Y-globaal Intredepunt zone 1 [m] | Y1: Z Intredepunt zone 1 [m] | Z1: Zone 1 uittredepunt glijcirkel (X-lokaal) [m] | AA1: Zone 1 uittredepunt glijcirkel (X-globaal) [m] | AB1: Zone 1 uittredepunt glijcirkel (Y-globaal) [m] | AC1: Zone 1 uittredepunt glijcirkel (Z) [m] | AD1: Zone 2 veiligheidsfactor [-] | AE1: X-lokaal Intredepunt zone 2 [m] | AF1: X-globaal Intredepunt zone 2 [m] | AG1: Y-globaal Intredepunt zone 2 [m] | AH1: Z Intredepunt zone 2 [m] | AI1: Zone 2 uittredepunt glijcirkel (X-lokaal) [m] | AJ1: Zone 2 uittredepunt glijcirkel (X-globaal) [m] | AK1: Zone 2 uittredepunt glijcirkel (Y-globaal) [m] | AL1: Zone 2 uittredepunt glijcirkel (Z) [m] | AM1: DIjklengte [m] | AN1: PL3 opdrijven [-] | AO1: PL3 stijghoogte aangepast [m] | AP1: PL3 locatie opdrijven (X-lokaal) [m] | AQ1: PL3 locatie opdrijven (X-globaal) [m] | AR1: PL3 locatie opdrijven (Y-globaal) [m] | AS1: PL4 opdrijven [-] | AT1: PL4 stijghoogte aangepast [m] | AU1: PL4 locatie opdrijven (X-lokaal) [m] | AV1: PL4 locatie opdrijven (X-globaal) [m] | AW1: PL4 locatie opdrijven (Y-globaal) [m] | AX1: Intredepunt piping x lokaal [m] | AY1: Intredepunt piping x globaal [m] | AZ1: Intredepunt piping y globaal [m] | BA1: Uittredepunt piping x lokaal [m] | BB1: Uittredepunt piping x globaal [m] | BC1: Uittredepunt piping y globaal [m] | BD1: Kwelweglengte piping [m] | BE1: Veiligheidsfactor opdrijven [-] | BF1: Terugschrijdende erosie veiligheidsfactor (WBI) [-] | BG1: Terugschrijdende erosie hc (WBI) [m] | BH1: Terugschrijdende erosie DeltaHc (WBI) [m] | BI1: Terugschrijdende erosie gereduceerd verval (WBI) [m] | BJ1: Opbarsten veiligheidsfactor (WBI) [-] | BK1: Opbarsten hc (WBI) [m] | BL1: Opbarsten DeltaHc (WBI) [m] | BM1: Heave veiligheidsfactor (WBI) [-] | BN1: Heave hc (WBI) [m] | BO1: Heave gradient (WBI) [-] | BP1: Piping veiligheidsfactor (WBI) [-] | BQ1: Piping hc (WBI) [m] | BR1: Opbarsten effectieve spanning (WBI) [kN/m²] | BS1: Terugschrijdende erosie CCreep (WBI) [-] | BT1: Melding resultaat | BU1: Opmerkingen | BV1: Aantal iteraties | BW1: Evaluatie
A2: =B2& "-" &C2 -> DWP_1-1 of 1 | B2: DWP_1 | C2: 1 of 1 | D2: Geslaagd | E2: 99718 | F2: 437106 | G2: Geen aanpassing | H2: NL-CheckChecked | I2: DWP_1.sti | J2: 100 | K2: Bishop | L2: 1.282 | N2: 60.76 | O2: 2.89 | P2: 1.17 | Q2: 4.4 | R2: 0 | S2: 4.9 | T2: 0 | U2: 1.282 | V2: 38.818 | W2: 47.238 | X2: 0 | Y2: 5.266 | Z2: 64.262 | AA2: 72.682 | AB2: 0 | AC2: 1.149 | AM2: 36.15 | AN2: 1.141 | AO2: 4.4 | AP2: 60.64 | AQ2: 69.06 | AR2: 0 | AS2: 0 | AT2: 0 | AU2: 0 | AV2: 8.42 | AW2: 0 | AX2: 16.19 | AY2: 24.61 | AZ2: 0 | BV2: 0 | BW2: Niet geëvalueerd
A3: =B3& "-" &C3 -> DWP_11-1 of 1 | B3: DWP_11 | C3: 1 of 1 | D3: Geslaagd | E3: 103167 | F3: 442590 | G3: Geen aanpassing | H3: NL-CheckChecked | I3: DWP_11.sti | J3: 100 | K3: Bishop | L3: 1.142 | N3: 63.58 | O3: -0.8 | P3: 1.17 | Q3: 1.5 | R3: 0 | S3: 2 | T3: 0 | U3: 1.142 | V3: 38.819 | W3: 50.389 | X3: 0 | Y3: 3.292 | Z3: 53.163 | AA3: 64.733 | AB3: 0 | AC3: -1.843 | AM3: 31.79 | AN3: 0.55 | AO3: -0.437 | AP3: 52.01 | AQ3: 63.58 | AR3: 0 | AS3: 0 | AT3: 0 | AU3: 0 | AV3: 11.57 | AW3: 0 | AX3: 20.22 | AY3: 31.79 | AZ3: 0 | BV3: 0 | BW3: Niet geëvalueerd
A4: =B4& "-" &C4 -> DWP_12-1 of 1 | B4: DWP_12 | C4: 1 of 1 | D4: Geslaagd | E4: 103641 | F4: 442727 | G4: Geen aanpassing | H4: NL-CheckChecked | I4: DWP_12.sti | J4: 100 | K4: Bishop | L4: 1.05 | M4: -0.65 | N4: 59.05 | O4: 0.12 | P4: 1.17 | Q4: 1.5 | R4: 0 | S4: 2 | T4: 0 | U4: 1.05 | V4: 42.587 | W4: 52.407 | X4: 0 | Y4: 2.312 | Z4: 62.786 | AA4: 72.606 | AB4: 0 | AC4: -1.27 | AM4: 43.05 | AN4: 0.733 | AO4: -2.412 | AP4: 68.54 | AQ4: 78.36 | AR4: 0 | AS4: 0 | AT4: 0 | AU4: 0 | AV4: 9.82 | AW4: 0 | AX4: 16.4 | AY4: 26.22 | AZ4: 0 | BV4: 0 | BW4: Niet geëvalueerd
A5: =B5& "-" &C5 -> DWP_13-1 of 1 | B5: DWP_13 | C5: 1 of 1 | D5: Geslaagd | E5: 104631 | F5: 442927 | G5: Geen aanpassing | H5: NL-CheckChecked | I5: DWP_13.sti | J5: 100 | K5: Bishop | L5: 0.452 | M5: 0.14 | N5: 43.66 | O5: 0.42 | P5: 1.17 | Q5: 1.6 | R5: 0 | S5: 2.1 | T5: 0 | U5: 0.452 | V5: 50.617 | W5: 43.037 | X5: 0 | Y5: 0.636 | Z5: 61.734 | AA5: 54.154 | AB5: 0 | AC5: -1.743 | AM5: 27.036 | AN5: 0.665 | AO5: -1.29 | AP5: 58.526 | AQ5: 50.946 | AR5: 0 | AS5: 0 | AT5: 0 | AU5: 0 | AV5: -7.58 | AW5: 0 | AX5: 31.49 | AY5: 23.91 | AZ5: 0 | BV5: 0 | BW5: Niet geëvalueerd
A6: =B6& "-" &C6 -> DWP_14-1 of 1 | B6: DWP_14 | C6: 1 of 1 | D6: Geslaagd | E6: 104726 | F6: 443275 | G6: Geen aanpassing | H6: NL-CheckChecked | I6: DWP_14.sti | J6: 100 | K6: Bishop | L6: 0.808 | N6: 55.78 | O6: 0.41 | P6: 1.17 | Q6: 1.6 | R6: 0 | S6: 2.1 | T6: 0 | U6: 0.808 | V6: 49.454 | W6: 57.224 | X6: 0 | Y6: 0.351 | Z6: 71.565 | AA6: 79.335 | AB6: 0 | AC6: -0.871 | AM6: 32.12 | AN6: 0.797 | AO6: 0.26 | AP6: 61.23 | AQ6: 69 | AR6: 0 | AS6: 0 | AT6: 0 | AU6: 0 | AV6: 7.77 | AW6: 0 | AX6: 15.89 | AY6: 23.66 | AZ6: 0 | BV6: 0 | BW6: Niet geëvalueerd
A7: =B7& "-" &C7 -> DWP_15-1 of 1 | B7: DWP_15 | C7: 1 of 1 | D7: Geslaagd | E7: 105819 | F7: 443749 | G7: Geen aanpassing | H7: NL-CheckChecked | I7: DWP_15.sti | J7: 100 | K7: Bishop | L7: 0.791 | N7: 55 | O7: 0.74 | P7: 1.17 | Q7: 1.6 | R7: 0 | S7: 2.1 | T7: 0 | U7: 0.791 | V7: 60.528 | W7: 63.518 | X7: 0 | Y7: 0.106 | Z7: 66.972 | AA7: 69.962 | AB7: 0 | AC7: -1.505 | AM7: 34.94 | AN7: 0.676 | AO7: -1.008 | AP7: 64.224 | AQ7: 67.214 | AR7: 0 | AS7: 0 | AT7: 0 | AU7: 0 | AV7: 2.99 | AW7: 0 | AX7: 17.07 | AY7: 20.06 | AZ7: 0 | BV7: 0 | BW7: Niet geëvalueerd
A8: =B8& "-" &C8 -> DWP_19-1 of 1 | B8: DWP_19 | C8: 1 of 1 | D8: Geslaagd | E8: 107637 | F8: 445483 | G8: Geen aanpassing | H8: NL-CheckChecked | I8: DWP_19.sti | J8: 100 | K8: Bishop | L8: 1.354 | N8: 51.37 | O8: 0.28 | P8: 1.17 | Q8: 1.9 | R8: 0 | S8: 2.4 | T8: 0 | U8: 1.354 | V8: 39.622 | W8: 41.332 | X8: 0 | Y8: 3.517 | Z8: 52.746 | AA8: 54.456 | AB8: 0 | AC8: 0.113 | AM8: 29.93 | AN8: 0.662 | AO8: -0.97 | AP8: 65.01 | AQ8: 66.72 | AR8: 0 | AS8: 0 | AT8: 0 | AU8: 0 | AV8: 1.71 | AW8: 0 | AX8: 19.73 | AY8: 21.44 | AZ8: 0 | BV8: 0 | BW8: Niet geëvalueerd
A9: =B9& "-" &C9 -> DWP_20-1 of 1 | B9: DWP_20 | C9: 1 of 1 | D9: Geslaagd | E9: 108263 | F9: 446056 | G9: Geen aanpassing | H9: NL-CheckChecked | I9: DWP_20.sti | J9: 100 | K9: Bishop | L9: 1.303 | N9: 45.32 | O9: 0.5 | P9: 1.17 | Q9: 1.9 | R9: 0 | S9: 2.4 | T9: 0 | U9: 1.303 | V9: 38.739 | W9: 36.689 | X9: 0 | Y9: 2.631 | Z9: 61.046 | AA9: 58.996 | AB9: 0 | AC9: -1.878 | AM9: 19.28 | AN9: 0.75 | AO9: -0.539 | AP9: 58.752 | AQ9: 56.702 | AR9: 0 | AS9: 0 | AT9: 0 | AU9: 0 | AV9: -2.05 | AW9: 0 | AX9: 28.09 | AY9: 26.04 | AZ9: 0 | BV9: 0 | BW9: Niet geëvalueerd
A10: =B10& "-" &C10 -> DWP_2-1 of 1 | B10: DWP_2 | C10: 1 of 1 | D10: Geslaagd | E10: 100130 | F10: 437229 | G10: Geen aanpassing | H10: NL-CheckChecked | I10: DWP_2.sti | J10: 100 | K10: Bishop | L10: 1.192 | N10: 66.95 | O10: 1.67 | P10: 1.17 | Q10: 4.25 | R10: 0 | S10: 4.75 | T10: 0 | U10: 1.192 | V10: 39.663 | W10: 50.973 | X10: 0 | Y10: 5.587 | Z10: 76.143 | AA10: 87.453 | AB10: 0 | AC10: -1.06 | AM10: 33.29 | AN10: 0.868 | AO10: 2.407 | AP10: 71.6 | AQ10: 82.91 | AR10: 0 | AS10: 0 | AT10: 0 | AU10: 0 | AV10: 11.31 | AW10: 0 | AX10: 22.35 | AY10: 33.66 | AZ10: 0 | BV10: 0 | BW10: Niet geëvalueerd
A11: =B11& "-" &C11 -> DWP_21-1 of 1 | B11: DWP_21 | C11: 1 of 1 | D11: Geslaagd | E11: 108898 | F11: 446548 | G11: Geen aanpassing | H11: NL-CheckChecked | I11: DWP_21.sti | J11: 100 | K11: Bishop | L11: 1.196 | M11: 0.45 | N11: 42.69 | O11: 0.75 | P11: 1.17 | Q11: 1.9 | R11: 0 | S11: 2.4 | T11: 0 | U11: 1.196 | V11: 39.382 | W11: 34.152 | X11: 0 | Y11: 3.189 | Z11: 61.218 | AA11: 55.988 | AB11: 0 | AC11: -1.907 | AM11: 33.25 | AN11: 0.715 | AO11: -1.003 | AP11: 59.23 | AQ11: 54 | AR11: 0 | AS11: 0 | AT11: 0 | AU11: 0 | AV11: -5.23 | AW11: 0 | AX11: 23.68 | AY11: 18.45 | AZ11: 0 | BV11: 0 | BW11: Niet geëvalueerd
A12: =B12& "-" &C12 -> DWP_22-1 of 1 | B12: DWP_22 | C12: 1 of 1 | D12: Geslaagd | E12: 109395 | F12: 446544 | G12: Geen aanpassing | H12: NL-CheckChecked | I12: DWP_22.sti | J12: 100 | K12: Bishop | L12: 1.153 | M12: 0.81 | N12: 41.26 | O12: 0.89 | P12: 1.17 | Q12: 2 | R12: 0 | S12: 2.5 | T12: 0 | U12: 1.153 | V12: 39.876 | W12: 33.916 | X12: 0 | Y12: 2.55 | Z12: 58.676 | AA12: 52.716 | AB12: 0 | AC12: -0.353 | AM12: 63.82 | AN12: 0.735 | AO12: -1.093 | AP12: 74.593 | AQ12: 68.633 | AR12: 0 | AS12: 0 | AT12: 0 | AU12: 0 | AV12: -5.96 | AW12: 0 | AX12: 23.14 | AY12: 17.18 | AZ12: 0 | BV12: 0 | BW12: Niet geëvalueerd
A13: =B13& "-" &C13 -> DWP_23-1 of 1 | B13: DWP_23 | C13: 1 of 1 | D13: Geslaagd | E13: 109682 | F13: 446726 | G13: Geen aanpassing | H13: NL-CheckChecked | I13: DWP_23.sti | J13: 100 | K13: Bishop | L13: 1.218 | N13: 53.71 | O13: 0.7 | P13: 1.17 | Q13: 2.1 | R13: 0 | S13: 2.6 | T13: 0 | U13: 1.218 | V13: 48.16 | W13: 43.65 | X13: 0 | Y13: 3.298 | Z13: 67.727 | AA13: 63.217 | AB13: 0 | AC13: -0.251 | AM13: 29.537 | AN13: 0.805 | AO13: 0.355 | AP13: 66.05 | AQ13: 61.54 | AR13: 0 | AS13: 0 | AT13: 0 | AU13: 0 | AV13: -4.51 | AW13: 0 | AX13: 28.683 | AY13: 24.173 | AZ13: 0 | BV13: 0 | BW13: Niet geëvalueerd
A14: =B14& "-" &C14 -> DWP_3-1 of 1 | B14: DWP_3 | C14: 1 of 1 | D14: Geslaagd | E14: 101611 | F14: 437577 | G14: Geen aanpassing | H14: NL-CheckChecked | I14: DWP_3.sti | J14: 100 | K14: Bishop | L14: 1.718 | M14: 2.89 | N14: 60.06 | O14: 2.93 | P14: 1.17 | Q14: 4.1 | R14: 0 | S14: 4.6 | T14: 0 | U14: 1.718 | V14: 55.634 | W14: 67.234 | X14: 0 | Y14: 2.758 | Z14: 75.045 | AA14: 86.645 | AB14: 0 | AC14: -1.238 | AM14: 52.2 | AN14: 0.683 | AO14: -0.651 | AP14: 72.79 | AQ14: 84.39 | AR14: 0 | AS14: 0 | AT14: 0 | AU14: 0 | AV14: 11.6 | AW14: 0 | AX14: 8.89 | AY14: 20.49 | AZ14: 0 | BV14: 0 | BW14: Niet geëvalueerd
A15: =B15& "-" &C15 -> DWP_5-1 of 1 | B15: DWP_5 | C15: 1 of 1 | D15: Geslaagd | E15: 103367 | F15: 439210 | G15: Geen aanpassing | H15: NL-CheckChecked | I15: DWP_5.sti | J15: 100 | K15: Bishop | L15: 0.942 | N15: 79.14 | O15: 0.84 | P15: 1.17 | Q15: 3.75 | R15: 0 | S15: 4.25 | T15: 0 | U15: 0.942 | V15: 39.048 | W15: 54.708 | X15: 0 | Y15: 4.745 | Z15: 67.815 | AA15: 83.475 | AB15: 0 | AC15: -0.63 | AM15: 51.18 | AN15: 0.874 | AO15: 2.154 | AP15: 65.76 | AQ15: 81.42 | AR15: 0 | AS15: 0 | AT15: 0 | AU15: 0 | AV15: 15.66 | AW15: 0 | AX15: 12.3 | AY15: 27.96 | AZ15: 0 | BV15: 0 | BW15: Niet geëvalueerd
A16: =B16& "-" &C16 -> DWP_6-1 of 1 | B16: DWP_6 | C16: 1 of 1 | D16: Geslaagd | E16: 103496 | F16: 439515 | G16: Geen aanpassing | H16: NL-CheckChecked | I16: DWP_6.sti | J16: 100 | K16: Bishop | L16: 1.511 | M16: 1.34 | N16: 62.47 | O16: 1.49 | P16: 1.17 | Q16: 3.55 | R16: 0 | S16: 4.05 | T16: 0 | U16: 1.511 | V16: 42.792 | W16: 49.232 | X16: 0 | Y16: 4.457 | Z16: 60.144 | AA16: 66.584 | AB16: 0 | AC16: 1.376 | AM16: 51.16 | AN16: 0.558 | AO16: -0.129 | AP16: 71.7 | AQ16: 78.14 | AR16: 0 | AS16: 0 | AT16: 0 | AU16: 0 | AV16: 6.44 | AW16: 0 | AX16: 18.48 | AY16: 24.92 | AZ16: 0 | BV16: 0 | BW16: Niet geëvalueerd
A17: =B17& "-" &C17 -> DWP_7-1 of 1 | B17: DWP_7 | C17: 1 of 1 | D17: Geslaagd | E17: 103954 | F17: 440651 | G17: Geen aanpassing | H17: NL-CheckChecked | I17: DWP_7.sti | J17: 100 | K17: Bishop | L17: 1.256 | N17: 56.53 | O17: 0.79 | P17: 1.17 | Q17: 3.45 | R17: 0 | S17: 3.95 | T17: 0 | U17: 1.256 | V17: 39.636 | W17: 40.156 | X17: 0 | Y17: 4.55 | Z17: 60.633 | AA17: 61.153 | AB17: 0 | AC17: 0.531 | AM17: 36.51 | AN17: 0.737 | AO17: 2.01 | AP17: 56.01 | AQ17: 56.53 | AR17: 0 | AS17: 0 | AT17: 0 | AU17: 0 | AV17: 0.52 | AW17: 0 | AX17: 19.5 | AY17: 20.02 | AZ17: 0 | BV17: 0 | BW17: Niet geëvalueerd
A18: =B18& "-" &C18 -> DWP_8-1 of 1 | B18: DWP_8 | C18: 1 of 1 | D18: Geslaagd | E18: 104115 | F18: 440659 | G18: Geen aanpassing | H18: NL-CheckChecked | I18: DWP_8.sti | J18: 100 | K18: Bishop | L18: 0.986 | M18: 1.17 | N18: 50.54 | O18: 1.22 | P18: 1.17 | Q18: 3.35 | R18: 0 | S18: 3.85 | T18: 0 | U18: 0.986 | V18: 62.632 | W18: 60.562 | X18: 0 | Y18: 0.797 | Z18: 69.944 | AA18: 67.874 | AB18: 0 | AC18: -1.281 | AM18: 44.89 | AN18: 0.705 | AO18: -0.828 | AP18: 68.088 | AQ18: 66.018 | AR18: 0 | AS18: 0 | AT18: 0 | AU18: 0 | AV18: -2.07 | AW18: 0 | AX18: 20.18 | AY18: 18.11 | AZ18: 0 | BV18: 0 | BW18: Niet geëvalueerd
A19: =B19& "-" &C19 -> DWP_9-1 of 1 | B19: DWP_9 | C19: 1 of 1 | D19: Geslaagd | E19: 104178 | F19: 441030 | G19: Geen aanpassing | H19: NL-CheckChecked | I19: DWP_9.sti | J19: 100 | K19: Bishop | L19: 0.873 | N19: 55.74 | O19: 0.5 | P19: 1.17 | Q19: 3.2 | R19: 0 | S19: 3.7 | T19: 0 | U19: 0.873 | V19: 39.101 | W19: 30.261 | X19: 0 | Y19: 4.096 | Z19: 66.53 | AA19: 57.69 | AB19: 0 | AC19: -0.817 | AM19: 37.19 | AN19: 0.844 | AO19: 1.952 | AP19: 64.58 | AQ19: 55.74 | AR19: 0 | AS19: 0 | AT19: 0 | AU19: 0 | AV19: -8.84 | AW19: 0 | AX19: 27.39 | AY19: 18.55 | AZ19: 0 | BV19: 0 | BW19: Niet geëvalueerd

Sheet 19.1 create damx
A1: Melding | B1: Onderwerp
A2: DWP_4 : De surfaceline heeft samenvallende karakteristieke punten. : BottomDitchPolderSide : BottomDitchDikeSide
A3: DWP_10 : De surfaceline heeft samenvallende karakteristieke punten. : BottomDitchPolderSide : BottomDitchDikeSide
A4: DWP_16 : De surfaceline heeft samenvallende karakteristieke punten. : BottomDitchPolderSide : BottomDitchDikeSide
A5: DWP_18 : De surfaceline heeft samenvallende karakteristieke punten. : DitchDikeSide : DikeToeAtPolder
A6: locatie DWP_10 is niet toegevoegd omdat hieraan geen geldige dijkprofiel is toegekend. | B6: Dike from CSV
A7: locatie DWP_16 is niet toegevoegd omdat hieraan geen geldige dijkprofiel is toegekend. | B7: Dike from CSV
A8: locatie DWP_18 is niet toegevoegd omdat hieraan geen geldige dijkprofiel is toegekend. | B8: Dike from CSV
A9: locatie DWP_4 is niet toegevoegd omdat hieraan geen geldige dijkprofiel is toegekend. | B9: Dike from CSV
