25.39166526544560
0.00000000000000
0.00000000000000
-25.39166526544560
488861.22875207034000
4053049.79820510280000
