Workbook
Name _Toc482412773: 'Test Document'!$C$14
Name _Toc482412774: 'Test Document'!#REF!
Name list: 'Overzicht testscripts'!$A$1:$A$3

Sheet Test Document
H1: Ja of nee | K1: 3.1 | L1: 3.2 | M1: 3.3 | N1: 3.4 | O1: 4.1 | P1: 5 | Q1: 5.1 | R1: 5.2 | S1: 5.3 | T1: 5.4 | U1: 6 | V1: 6.1 | W1: 6.3 | X1: 6.4 | Y1: 6.5 | Z1: 6.6 | AA1: 7 | AB1: 7.1 | AC1: 7.2 | AD1: 7.3 | AE1: 7.4 | AF1: 8 | AG1: 8.1 | AH1: 8.2 | AI1: 8.3 | AJ1: 8.4 | AK1: 8.5 | AL1: 8.6 | AM1: 8.7 | AN1: 8.8 | AO1: 8.9 | AP1: 8.10 | AQ1: 8.11 | AR1: 8.12 | AS1: 8.13 | AT1: 8.14 | AU1: 8.15 | AV1: 8.16 | AW1: 8.17 | AX1: 9 | AY1: 9.1 | AZ1: 9.2 | BA1: 9.3 | BB1: 9.4 | BC1: 9.5 | BD1: 9.7 | BE1: 9.8 | BF1: 9.9 | BG1: 9.1 | BH1: 8.13 | BI1: 9.12 | BJ1: 9.14 | BK1: 9.15 | BL1: 9.16 | BM1: 9.18 | BN1: 9.19 | BO1: 9.2 | BP1: 9.21 | BQ1: 9.23 | BR1: 9.24 | BS1: U123
C2: ="Test Document voor D-Soil Model versie "&D32 -> Test Document voor D-Soil Model versie 16.1.3.483
C4: Auteur: | E4: =F25 -> Virginie Trompille
C5: Versie: | E5: =C25 -> 4.1
C6: Datum: | E6: =D25 -> 42590
C7: Gebaseerd op: | E7: ="D-Soil Model "&E25 -> D-Soil Model 16.1.3.414
C11: Algemeen
C12: Dit document beschrijft de test procedure van het programma D-Soil Model. De tester zal aan de hand van dit document een test uitvoeren.
C13: De test die beschreven wordt in dit document is een functionele test. De inhoudelijk test wordt door middel van verificatie
C14: sommen uitgevoerd, en wordt in een ander document beschreven.
C17: Revisie historie
C18: Versie: | D18: Datum: | E18: Gebaseerd op: | F18: Door: | H18: Aanpassingen:
C19: 0.1 | D19: 41711 | F19: Reinout de Jongh
C20: 1.0 | D20: 41946 | E20: 14.1.1.2 | F20: Daan van de Ven
C21: 1.1 | D21: 41983 | E21: 14.1.1.2 | F21: Daan van de Ven
C22: 2.1 | D22: 42131 | E22: 15.1.1.2 | F22: Lennart Keyzer
C23: 3.0 | D23: 42514 | E23: 16.1 | F23: Daan van de Ven | H23: nieuwe versie
C24: 4.0 | D24: 42552 | E24: 16.1 | F24: Irene van der Zwan
C25: 4.1 | D25: 42590 | E25: 16.1.3.414 | F25: Virginie Trompille | H25: testscripts toegevoegd volgens REQ
C31: Algemene gegevens
C32: Versie: | D32: 16.1.3.483
C34: Naam Tester: | E34: Lennart Keyzer
C36: Datum: | E36: 42597
C38: Image: | D38: Platform: | E38: Decimal: | F38: Resolutie: | H38: Kleurenschema:
D39: Win10 | E39: 1 | F39: 1920*1080
C40: Taal operating system: | E40: Engels
C42: Printers:
C44: Opmerkingen tester:
B61: Nr. | C61: Test script | H61: Voldoet ? | I61: REQ nr. | J61: Opmerkingen
B63: 1 | C63: D-Soil Model - Menu-balk | H63: Voldoet? | I63: REQ nr. | J63: Opmerkingen | K63: 3.1 | L63: 3.2 | M63: 3.3 | O63: 4.1 | P63: 5 | Q63: 5.1 | R63: 5.2 | S63: 5.3 | T63: 5.4 | U63: 6 | V63: 6.1 | W63: 6.3 | X63: 6.4 | Y63: 6.5 | Z63: 6.6 | AA63: 7 | AB63: 7.1 | AC63: 3.4 | AD63: 7.3 | AE63: 7.4 | AF63: 8 | AG63: 8.1 | AH63: 8.2 | AJ63: 8.4 | AK63: 8.5 | AL63: 8.6 | AM63: 8.7 | AN63: 8.8 | AO63: 8.9 | AP63: 8.1 | AQ63: 8.11 | AR63: 8.12 | AS63: 8.13 | AT63: 8.14 | AU63: 8.15 | AV63: 8.16 | AW63: 8.17 | AX63: 9 | AY63: 9.1 | AZ63: 9.2 | BA63: 9.3 | BB63: 9.4 | BC63: 9.5 | BD63: 9.7 | BE63: 9.8 | BF63: 9.9 | BG63: 9.1 | BH63: 8.13 | BI63: 9.12 | BJ63: 9.14 | BK63: 9.15 | BL63: 9.16 | BM63: 9.18 | BN63: 9.19 | BO63: 9.2 | BP63: 9.21 | BQ63: 9.23 | BR63: 9.24 | BS63: U123
B64: =B63+0.01 -> 1.01 | C64: Bevat het menu-balk de volgende opties?
D65: Bestand | H65: Ja
D66: Bewerken | H66: Ja
D67: Beeld | H67: Ja
D68: Gereedschap | H68: Ja
D69: Help | H69: Ja
B72: =B63+1 -> 2 | C72: D-Soil Model - Hoofdscherm | H72: Voldoet? | I72: REQ nr. | J72: Opmerkingen
B73: =B72+0.01 -> 2.01 | C73: Bevat het hoofdscherm bij het opstarten de volgende vensteren:
D74: Algemene venster:
E75: Dwarsdoorsnede | H75: Ja
E76: Kaart | H76: Ja
E77: Lengteprofiel | H77: Ja
D78: Tabellen venster:
E79: Tabellen | H79: Ja
E80: Validatie | H80: Ja
E81: Log | H81: Ja
D82: Eigenschappen venster:
E83: Rekenstellingen | H83: Nee | J83: Het eigenschappen venster is leeg bij opstarten.
B86: =B72+1 -> 3 | C86: D-Soil model - Toolbar | H86: Voldoet? | I86: REQ nr. | J86: Opmerkingen
B87: =B86+0.01 -> 3.01 | C87: Werken de volgende knoppen?
D88: Nieuw | H88: Ja
D89: Openen | H89: Ja
D90: Opslaan | H90: Ja
D91: Ongedaan maken - is uitgeschakeld | H91: Ja
D92: Opnieuw - is uitgeschakeld | H92: Ja
D93: Herstel | H93: Ja
B95: =B87+0.01 -> 3.02 | C95: Kun je selecteren in het eerste dropdown menu
D96: Geen | H96: Ja
D97: Piping | H97: Ja
D98: Stabiliteit | H98: Ja
B100: =B95+0.01 -> 3.03 | C100: Kun je selecteren in het 2e dropdown menu
D101: Alle parameters | H101: Ja
D102: Niet probabilistische parameters | H102: Ja
D103: Probabilistische parameters | H103: Ja
B106: =B86+1 -> 4 | C106: D-Soil model - Bestand menu | H106: Voldoet? | I106: REQ nr. | J106: Opmerkingen
B107: =B106+0.01 -> 4.01 | C107: Werken de volgende algemene opties?
D108: Nieuw | H108: Ja
D109: Openen | H109: Ja
D110: Opslaan | H110: Ja
D111: Opslaan als | H111: Ja
D112: Openen laatste project | H112: Ja
D113: Afsluiten | H113: Ja
B115: =B107+0.01 -> 4.02 | C115: Werkt de 'Importeren - Materialen van database' optie? | K115: x
D116: Is deze optie beschikbaar na het maken van een nieuwe project? | H116: Ja
D117: Importeer file MSoilBase.mdb en dan open het met programma MSoilBase | J117: Geeft waarschuwing | L117: =$L$1 -> 3.2
D118: Worden de geimporteerde materialen zichtbaar in tab Materialen? | H118: Todo
D119: Zijn de waarden in Materialen voor filter 'Macrostabiliteit - BM' dezelfde dat in de MDB file? | H119: Todo
D120: Is het Schuifsterkte model in Materialen leeg voor materialen 2, 3, 4, 6 en 8? | H120: Nee | J120: Materiaal 8 niet aanwezig.
D121: Is het Schuifsterkte model in Materialen CPhi voor materiaal 1? | H121: Ja
D122: Is het Schuifsterkte model in Materialen Su berekend voor materiaal 5 en Gebruik POP true? | H122: Ja
D123: Is het Schuifsterkte model in Materialen Su berekend voor materiaal 7 en Gebruik POP false? | H123: Nee | J123: Schuifsterkte model 'Geen' en Pop 'True'
D124: Zijn de waarden in Materialen voor filter 'Piping - Ringtoets' dezelfde dat in de MDB file? | H124: Todo
B126: =B115+0.01 -> 4.03 | C126: Werkt de 'Importeren - 1D profielen van bestand' optie? | K126: x
D127: =D116 -> Is deze optie beschikbaar na het maken van een nieuwe project? | H127: Ja
D128: Importeer file soilprofiles.csv | J128: Geeft waarschuwing
D129: Is de lijst van 1D profielen zichtbaar in tab 1D Profielen? | H129: Ja
D130: Wordt de 1D profiel zichtbaar in Dwarsdoorsnede venster als je op een 1D profiel rij drukt? | H130: Ja
D131: Worden de eigenschappen zichtbaar in de Eigenschappen venster als je op een 1D profiel rij drukt? | H131: Ja
D132: Worden alle materialen zichtbaar in de Mateiralen tab? | H132: Ja
B134: =B126+0.01 -> 4.04 | C134: Werkt de 'Importeren - 2D profielen van bestand (sti)' optie? | K134: x
D135: =D116 -> Is deze optie beschikbaar na het maken van een nieuwe project? | H135: Ja
D136: Importeer file DGeoStability2D.sti | J136: Geeft waarschuwing
D137: Is het geimporteerde profiel zichtbaar in tab 2D Profielen? | H137: Ja
D138: Zijn de geimporteerde materialen zichtbaar in tab Materialen? | H138: Ja
D139: Hebben de geimporteerde materialen de goede waarden (onafhankelijk van de geselecteerde filter vóór het importeren)? | H139: Todo | J139: Hoe kan ik dit controleren?
B141: =B134+0.01 -> 4.05 | C141: Werkt de 'Importeren - 2D profielen van bestand (geo)' optie?
D142: =D135 -> Is deze optie beschikbaar na het maken van een nieuwe project? | H142: Ja
D143: Importeer file 2DGeometry.geo
D144: Is het geimporteerde profiel zichtbaar in tab 2D Profielen? | H144: Ja
D145: Zijn de geimporteerde materialen zichtbaar in tab Materialen (alleen de naam, de rest zijn default waarden)? | H145: Ja
...

Sheet Overzicht testscripts
A1: Ja | I1: REQUIREMENTS (Functional) => | J1: 3.1 | K1: 3.2 | L1: 3.3 | M1: 3.4 | N1: 4.1 | O1: 5 | P1: 5.1 | Q1: 5.2 | R1: 5.3 | S1: 5.4 | T1: 6 | U1: 6.1 | V1: 6.3 | W1: 6.4 | X1: 6.5 | Y1: 6.6 | Z1: 7 | AA1: 7.1 | AB1: 7.2 | AC1: 7.3 | AD1: 7.4 | AE1: 8 | AF1: 8.1 | AG1: 8.2 | AH1: 8.3 | AI1: 8.4 | AJ1: 8.5 | AK1: 8.6 | AL1: 8.7 | AM1: 8.8 | AN1: 8.9 | AO1: 8.10 | AP1: 8.11 | AQ1: 8.12 | AR1: 8.13 | AS1: 8.14 | AT1: 8.15 | AU1: 8.16 | AV1: 8.17 | AW1: 9 | AX1: 9.1 | AY1: 9.2 | AZ1: 9.3 | BA1: 9.4 | BB1: 9.5 | BC1: 9.7 | BD1: 9.8 | BE1: 9.9 | BF1: 9.1 | BG1: 8.13 | BH1: 9.12 | BI1: 9.14 | BJ1: 9.15 | BK1: 9.16 | BL1: 9.18 | BM1: 9.19 | BN1: 9.2 | BO1: 9.21 | BP1: 9.23 | BQ1: 9.24 | BR1: U123
A2: Nee
A3: Todo
A6: Lijst van testscripts:
A8: 1 | B8: =VLOOKUP(A8,'Test Document'!$B$63:$C$1999,2,) -> D-Soil Model - Menu-balk
B9: =A8+0.01 -> 1.01 | C9: =VLOOKUP(B9,'Test Document'!$B$63:$C$1999,2,) -> Bevat het menu-balk de volgende opties?
B10: =B9+0.01 -> 1.02 | C10: =VLOOKUP(B10,'Test Document'!$B$63:$C$1999,2,) -> #N/A
A11: 2 | B11: =VLOOKUP(A11,'Test Document'!$B$63:$C$1999,2,) -> D-Soil Model - Hoofdscherm
B12: =A11+0.01 -> 2.01 | C12: =VLOOKUP(B12,'Test Document'!$B$63:$C$1999,2,) -> Bevat het hoofdscherm bij het opstarten de volgende vensteren:
B13: =B12+0.01 -> 2.02 | C13: =VLOOKUP(B13,'Test Document'!$B$63:$C$1999,2,) -> #N/A
A14: =A11+1 -> 3 | B14: =VLOOKUP(A14,'Test Document'!$B$63:$C$1999,2,) -> D-Soil model - Toolbar
B15: =A14+0.01 -> 3.01 | C15: =VLOOKUP(B15,'Test Document'!$B$63:$C$1999,2,) -> Werken de volgende knoppen?
B16: =B15+0.01 -> 3.02 | C16: =VLOOKUP(B16,'Test Document'!$B$63:$C$1999,2,) -> Kun je selecteren in het eerste dropdown menu
B17: =B16+0.01 -> 3.03 | C17: =VLOOKUP(B17,'Test Document'!$B$63:$C$1999,2,) -> Kun je selecteren in het 2e dropdown menu
B18: =B17+0.01 -> 3.04 | C18: =VLOOKUP(B18,'Test Document'!$B$63:$C$1999,2,) -> #N/A
A19: =A14+1 -> 4 | B19: =VLOOKUP(A19,'Test Document'!$B$63:$C$1999,2,) -> D-Soil model - Bestand menu
B20: =A19+0.01 -> 4.01 | C20: =VLOOKUP(B20,'Test Document'!$B$63:$C$1999,2,) -> Werken de volgende algemene opties?
B21: =B20+0.01 -> 4.02 | C21: =VLOOKUP(B21,'Test Document'!$B$63:$C$1999,2,) -> Werkt de 'Importeren - Materialen van database' optie? | J21: X
B22: =B21+0.01 -> 4.03 | C22: =VLOOKUP(B22,'Test Document'!$B$63:$C$1999,2,) -> Werkt de 'Importeren - 1D profielen van bestand' optie? | J22: X
B23: =B22+0.01 -> 4.04 | C23: =VLOOKUP(B23,'Test Document'!$B$63:$C$1999,2,) -> Werkt de 'Importeren - 2D profielen van bestand (sti)' optie? | J23: X
B24: =B23+0.01 -> 4.05 | C24: =VLOOKUP(B24,'Test Document'!$B$63:$C$1999,2,) -> Werkt de 'Importeren - 2D profielen van bestand (geo)' optie? | J24: X
B25: =B24+0.01 -> 4.06 | C25: =VLOOKUP(B25,'Test Document'!$B$63:$C$1999,2,) -> Werkt de 'Importeren - Hoogtegeometrien van bestand' optie? | J25: X
B26: =B25+0.01 -> 4.07 | C26: =VLOOKUP(B26,'Test Document'!$B$63:$C$1999,2,) -> Werkt de 'Importeren - Karakteristieke punten van bestand' optie? | J26: X
B27: =B26+0.01 -> 4.08 | C27: =VLOOKUP(B27,'Test Document'!$B$63:$C$1999,2,) -> Werkt de 'Importeren - Bodemsegmenten van bestand(csv)'? | J27: X
B28: =B27+0.01 -> 4.09 | C28: =VLOOKUP(B28,'Test Document'!$B$63:$C$1999,2,) -> Werkt de 'Importeren - Bodemsegmenten van bestand(shape)' optie? | J28: X
B29: =B28+0.01 -> 4.1 | C29: =VLOOKUP(B29,'Test Document'!$B$63:$C$1999,2,) -> Werkt de 'Importeren - GEF Sonderingen van bestand' optie? | J29: X
B30: =B29+0.01 -> 4.11 | C30: =VLOOKUP(B30,'Test Document'!$B$63:$C$1999,2,) -> Werkt de 'Importeren - GEF Boringen van bestand' optie? | J30: X
B31: =B30+0.01 -> 4.12 | C31: =VLOOKUP(B31,'Test Document'!$B$63:$C$1999,2,) -> Werkt de 'Importeren - Oude projectdatabase' optie? | J31: X
B32: =B31+0.01 -> 4.13 | C32: =VLOOKUP(B32,'Test Document'!$B$63:$C$1999,2,) -> Werkt het volgende:
B33: =B32+0.01 -> 4.14 | C33: =VLOOKUP(B33,'Test Document'!$B$63:$C$1999,2,) -> Toont het programma oude projecten en kun je deze openen?
B34: =B33+0.01 -> 4.15 | C34: =VLOOKUP(B34,'Test Document'!$B$63:$C$1999,2,) -> #N/A
A35: =A19+1 -> 5 | B35: =VLOOKUP(A35,'Test Document'!$B$63:$C$1999,2,) -> D-Soil model - Bewerken menu
B36: =A35+0.01 -> 5.01 | C36: =VLOOKUP(B36,'Test Document'!$B$63:$C$1999,2,) -> Werkt het volgende:
B37: =B36+0.01 -> 5.02 | C37: =VLOOKUP(B37,'Test Document'!$B$63:$C$1999,2,) -> #N/A
A38: =A35+1 -> 6 | B38: =VLOOKUP(A38,'Test Document'!$B$63:$C$1999,2,) -> D-Soil model - Beeld menu
B39: =A38+0.01 -> 6.01 | C39: =VLOOKUP(B39,'Test Document'!$B$63:$C$1999,2,) -> Werkt het volgende:
B40: =B39+0.01 -> 6.02 | C40: =VLOOKUP(B40,'Test Document'!$B$63:$C$1999,2,) -> #N/A
A41: =A38+1 -> 7 | B41: =VLOOKUP(A41,'Test Document'!$B$63:$C$1999,2,) -> D-Soil Model - Gereedschap menu - Opties
B42: =A41+0.01 -> 7.01 | C42: =VLOOKUP(B42,'Test Document'!$B$63:$C$1999,2,) -> Start-project, kan je kiezen uit?
B43: =B42+0.01 -> 7.02 | C43: =VLOOKUP(B43,'Test Document'!$B$63:$C$1999,2,) -> Aantal processoren, kan je het aantal processoren kiezen?
B44: =B43+0.01 -> 7.03 | C44: =VLOOKUP(B44,'Test Document'!$B$63:$C$1999,2,) -> #N/A
A45: =A41+1 -> 8 | B45: =VLOOKUP(A45,'Test Document'!$B$63:$C$1999,2,) -> D-Soil Model - Help menu - Info
B46: =A45+0.01 -> 8.01 | C46: =VLOOKUP(B46,'Test Document'!$B$63:$C$1999,2,) -> Wordt de correcte informatie getoond?
B47: =B46+0.01 -> 8.02 | C47: =VLOOKUP(B47,'Test Document'!$B$63:$C$1999,2,) -> #N/A
A48: =A45+1 -> 9 | B48: =VLOOKUP(A48,'Test Document'!$B$63:$C$1999,2,) -> D-Soil Model - Synchronisatie
B49: =A48+0.01 -> 9.01 | C49: =VLOOKUP(B49,'Test Document'!$B$63:$C$1999,2,) -> Veranderen de schermen (tabel-grafisch scherm-eigenschappen) bij de selectie van:
B50: =B49+0.01 -> 9.02 | C50: =VLOOKUP(B50,'Test Document'!$B$63:$C$1999,2,) -> Multi Core, can you choose the Number of cores?
B51: =B50+0.01 -> 9.03 | C51: =VLOOKUP(B51,'Test Document'!$B$63:$C$1999,2,) -> #N/A
A52: =A48+1 -> 10 | B52: =VLOOKUP(A52,'Test Document'!$B$63:$C$1999,2,) -> D-Soil Model - Kaart
B53: =A52+0.01 -> 10.01 | C53: =VLOOKUP(B53,'Test Document'!$B$63:$C$1999,2,) -> Werken de volgende knoppen?
B54: =B53+0.01 -> 10.02 | C54: =VLOOKUP(B54,'Test Document'!$B$63:$C$1999,2,) -> Werken de (rechter)muis(knop) opties?
B55: =B54+0.01 -> 10.03 | C55: =VLOOKUP(B55,'Test Document'!$B$63:$C$1999,2,) -> Wordt de volgende data getoond op de kaart?
B56: =B55+0.01 -> 10.04 | C56: =VLOOKUP(B56,'Test Document'!$B$63:$C$1999,2,) -> Worden de labels volgende data getoond op de kaart? (evt. eerst inzoomen)
B57: =B56+0.01 -> 10.05 | C57: =VLOOKUP(B57,'Test Document'!$B$63:$C$1999,2,) -> #N/A
A58: =A52+1 -> 11 | B58: =VLOOKUP(A58,'Test Document'!$B$63:$C$1999,2,) -> D-Soil Model - Dwarsdoorsnede - Sondering
B59: =A58+0.01 -> 11.01 | C59: =VLOOKUP(B59,'Test Document'!$B$63:$C$1999,2,) -> Wordt de sondering getoond in het dwarsprofielscherm?
B60: =B59+0.01 -> 11.02 | C60: =VLOOKUP(B60,'Test Document'!$B$63:$C$1999,2,) -> Werken de volgende knoppen?
A61: =A58+1 -> 12 | B61: =VLOOKUP(A61,'Test Document'!$B$63:$C$1999,2,) -> D-Soil Model - Dwarsdoorsnede - Boring
B62: =A61+0.01 -> 12.01 | C62: =VLOOKUP(B62,'Test Document'!$B$63:$C$1999,2,) -> Wordt de boring getoond in het dwarsprofielscherm?
B63: =B62+0.01 -> 12.02 | C63: =VLOOKUP(B63,'Test Document'!$B$63:$C$1999,2,) -> Werken de volgende knoppen?
B64: =B63+0.01 -> 12.03 | C64: =VLOOKUP(B64,'Test Document'!$B$63:$C$1999,2,) -> Werken de (rechter)muis(knop) opties?
B65: =B64+0.01 -> 12.04 | C65: =VLOOKUP(B65,'Test Document'!$B$63:$C$1999,2,) -> Kun je een laag selecteren?
A66: =A61+1 -> 13 | B66: =VLOOKUP(A66,'Test Document'!$B$63:$C$1999,2,) -> D-Soil Model - Dwarsdoorsnede - 1D profiel
B67: =A66+0.01 -> 13.01 | C67: =VLOOKUP(B67,'Test Document'!$B$63:$C$1999,2,) -> Wordt het 1Dprofiel getoond in het dwarsprofielscherm?
B68: =B67+0.01 -> 13.02 | C68: =VLOOKUP(B68,'Test Document'!$B$63:$C$1999,2,) -> Worden de minimale en maximale waarden van laagscheidingen weergegeven?
B69: =B68+0.01 -> 13.03 | C69: =VLOOKUP(B69,'Test Document'!$B$63:$C$1999,2,) -> Werken de volgende knoppen?
B70: =B69+0.01 -> 13.04 | C70: =VLOOKUP(B70,'Test Document'!$B$63:$C$1999,2,) -> Werken de (rechter)muis(knop) opties?
B71: =B70+0.01 -> 13.05 | C71: =VLOOKUP(B71,'Test Document'!$B$63:$C$1999,2,) -> Kun je een laag selecteren?
B72: =B71+0.01 -> 13.06 | C72: =VLOOKUP(B72,'Test Document'!$B$63:$C$1999,2,) -> Kun je de laaghoogte aanpassen door verslepen?
A73: =A66+1 -> 14 | B73: =VLOOKUP(A73,'Test Document'!$B$63:$C$1999,2,) -> D-Soil Model - Dwarsdoorsnede - 2D profiel
B74: =A73+0.01 -> 14.01 | C74: =VLOOKUP(B74,'Test Document'!$B$63:$C$1999,2,) -> Wordt het 2Dprofiel getoond in het dwarsprofielscherm?
B75: =B74+0.01 -> 14.02 | C75: =VLOOKUP(B75,'Test Document'!$B$63:$C$1999,2,) -> Werken de volgende knoppen?
B76: =B75+0.01 -> 14.03 | C76: =VLOOKUP(B76,'Test Document'!$B$63:$C$1999,2,) -> Werken de (rechter)muis(knop) opties:
B77: =B76+0.01 -> 14.04 | C77: =VLOOKUP(B77,'Test Document'!$B$63:$C$1999,2,) -> Kun je een laag selecteren?
B78: =B77+0.01 -> 14.05 | C78: =VLOOKUP(B78,'Test Document'!$B$63:$C$1999,2,) -> Kun je materiaal aanpassen van de laag ?
B79: =B78+0.01 -> 14.06 | C79: =VLOOKUP(B79,'Test Document'!$B$63:$C$1999,2,) -> Kun je aquifer aanvinken?
B80: =B79+0.01 -> 14.07 | C80: =VLOOKUP(B80,'Test Document'!$B$63:$C$1999,2,) -> Kun je een grensspanning toevoegen? via Eigenschappen - Grensspanningen
B81: =B80+0.01 -> 14.08 | C81: =VLOOKUP(B81,'Test Document'!$B$63:$C$1999,2,) -> Werken de volgende knoppen?
B82: =B81+0.01 -> 14.09 | C82: =VLOOKUP(B82,'Test Document'!$B$63:$C$1999,2,) -> #N/A
B83: =B82+0.01 -> 14.1 | C83: =VLOOKUP(B83,'Test Document'!$B$63:$C$1999,2,) -> #N/A
B84: =B83+0.01 -> 14.11 | C84: =VLOOKUP(B84,'Test Document'!$B$63:$C$1999,2,) -> #N/A
A85: =A73+1 -> 15 | B85: =VLOOKUP(A85,'Test Document'!$B$63:$C$1999,2,) -> D-Soil Model - Dwarsdoorsnede - Maaiveldlijn
B86: =A85+0.01 -> 15.01 | C86: =VLOOKUP(B86,'Test Document'!$B$63:$C$1999,2,) -> Wordt de maailveldlijn getoond in het dwarsprofielscherm?
B87: =B86+0.01 -> 15.02 | C87: =VLOOKUP(B87,'Test Document'!$B$63:$C$1999,2,) -> Werken de volgende knoppen?
B88: =B87+0.01 -> 15.03 | C88: =VLOOKUP(B88,'Test Document'!$B$63:$C$1999,2,) -> Zijn de karakateristieke punten zichtbaar?
B89: =B88+0.01 -> 15.04 | C89: =VLOOKUP(B89,'Test Document'!$B$63:$C$1999,2,) -> Kun je een karakteristiek punt selecteren?
B90: =B89+0.01 -> 15.05 | C90: =VLOOKUP(B90,'Test Document'!$B$63:$C$1999,2,) -> #N/A
B91: =B90+0.01 -> 15.06 | C91: =VLOOKUP(B91,'Test Document'!$B$63:$C$1999,2,) -> #N/A
B92: =B91+0.01 -> 15.07 | C92: =VLOOKUP(B92,'Test Document'!$B$63:$C$1999,2,) -> #N/A
B93: =B92+0.01 -> 15.08 | C93: =VLOOKUP(B93,'Test Document'!$B$63:$C$1999,2,) -> #N/A
B94: =B93+0.01 -> 15.09 | C94: =VLOOKUP(B94,'Test Document'!$B$63:$C$1999,2,) -> #N/A
A95: =A85+1 -> 16 | B95: =VLOOKUP(A95,'Test Document'!$B$63:$C$1999,2,) -> D-Soil Model - Dwarsdoorsnede - Segment
B96: =A95+0.01 -> 16.01 | C96: =VLOOKUP(B96,'Test Document'!$B$63:$C$1999,2,) -> Wordt het segment getoond in het dwarsprofielscherm?
B97: =B96+0.01 -> 16.02 | C97: =VLOOKUP(B97,'Test Document'!$B$63:$C$1999,2,) -> Worden alle profielen van het segment in de filmstrip aan de onderkant van het dwarsprofielscherm op vergelijkbare hoogte?
B98: =B97+0.01 -> 16.03 | C98: =VLOOKUP(B98,'Test Document'!$B$63:$C$1999,2,) -> Werken de volgende knoppen?
B99: =B98+0.01 -> 16.04 | C99: =VLOOKUP(B99,'Test Document'!$B$63:$C$1999,2,) -> Werken de (rechter)muis(knop) opties:
B100: =B99+0.01 -> 16.05 | C100: =VLOOKUP(B100,'Test Document'!$B$63:$C$1999,2,) -> Kun je een 1 D profielen selecteren in de filmstrip?
A101: =A95+1 -> 17 | B101: =VLOOKUP(A101,'Test Document'!$B$63:$C$1999,2,) -> D-Soil Model - Lengteprofiel - Segment. Eerst sondering(en) en/of boring(en) koppelen met: Koppel aan dichtsbijzijnde…
B102: =A101+0.01 -> 17.01 | C102: =VLOOKUP(B102,'Test Document'!$B$63:$C$1999,2,) -> Zijn de gekoppelde sonderingen zichtbaar?
B103: =B102+0.01 -> 17.02 | C103: =VLOOKUP(B103,'Test Document'!$B$63:$C$1999,2,) -> Zijn de gekoppelde boringen zichtbaar?
...

Sheet Requirements
A1: Eis ID | B1: Definitieve Eis | C1: Eis omschrijving | D1: Tetsed in testscript nr. …
A3: REQ 3 | B3: Format of import data. The required import files are: geo-file, sti file, dsx file and mdb file from D-GeoStability; for subsoil schematizations (20 profiles) and strength parameters. • csv files; description of the segments and 1Dsoil profiles. shape files; location of segments, 20 profiles, CPT's, borings. | C3: Format of import data. The required import files are: geo-file, sti file, dsx file and mdb file from D-GeoStability; for subsoil schematizations (20 profiles) and strength parameters. • csv files; description of the segments and 1Dsoil profiles. shape files; location of segments, 20 profiles, CPT's, borings. | D3: ='Test Document'!B115&", "&'Test Document'!B126&", "&'Test Document'!B134&", "&'Test Document'!B147&", "&'Test Document'!B155&", "&'Test Document'!B163 -> 4,02, 4,03, 4,04, 4,06, 4,07, 4,08
A4: REQ 3.2 | B4: REQ 3.2 Import and view all SOS data. The user must be able to get an overview of all available SOS subsoil schematizations. A user must be able to import all SOS segments and browse through them. The user must get a good visual overview of all available scenarios of soil profiles. | C4: REQ 3.2 Import and view all SOS data. The user must be able to get an overview of all available SOS subsoil schematizations. A user must be able to import all SOS segments and browse through them. The user must get a good visual overview of all available scenarios of soil profiles.
A5: REQ 3.3 | B5: Select relevant SOS information for project. Only the relevant part of the SOS database needs to be read. The user defines the relevant area, a reference line, or the user specifies the segments from a list. Only the SOS data relevant data is imported into the O-Soil Model project. | C5: Select relevant SOS information for project. Only the relevant part of the SOS database needs to be read. The user defines the relevant area, a reference line, or the user specifies the segments from a list. Only the SOS data relevant data is imported into the O-Soil Model project.
A6: REQ 4.1 | B6: All existing M-SoilBase functionality must be present in D-Soil Model | C6: All existing M-SoilBase functionality must be present in D-Soil Model
A7: REQ 5 | B7: The application gathers the (stochastic) subsoil schematizations input and parameters for the following kernels: • WTI macro stability kernel, WTI piping kernel, WTI flow slide kernel. D-Soil Model can save this output into one file. | C7: The application gathers the (stochastic) subsoil schematizations input and parameters for the following kernels: • WTI macro stability kernel, WTI piping kernel, WTI flow slide kernel. D-Soil Model can save this output into one file.
A8: REQ 5.1 | B8: In order to supply the kernels with the right input, the application supports the schematisation, storage and management of the subsoil schematisation for the failure mechanism macrostability. A subsoil schematisationf or a macrostability mechanism consists of: One or more soil areas (polygons)or soil segments (polylines). Per soil area or segment per mechanism one (stochastic)soil profile schematisation. Per (stochastic) soil profile schematisation one or more 1D and/or 2D soil profiles scenarios with a probability of appearance and profile properties (e.g. preconsolidationpressure) if applicable. Per 1D or 2D soil profile scenario one or more soil layers with layer properties (e.g. aquifer yes/no) if applicable. • Per soil layer one soil material with soil material properties. • Surface line profiles related to the soil area or segment, if applicable . All inputs are defined in the technical design document of the macrosstability kernel. [5]. Within a segment, Ringtoets must be able to combine the surface lines with all (relevant) available stochastic subsoil scenarios and other schematization parameters to form all inputs for the analysis of a failure mechanism. | C8: In order to supply the kernels with the right input, the application supports the schematisation, storage and management of the subsoil schematisation for the failure mechanism macrostability. A subsoil schematisationf or a macrostability mechanism consists of: One or more soil areas (polygons)or soil segments (polylines). Per soil area or segment per mechanism one (stochastic)soil profile schematisation. Per (stochastic) soil profile schematisation one or more 1D and/or 2D soil profiles scenarios with a probability of appearance and profile properties (e.g. preconsolidationpressure) if applicable. Per 1D or 2D soil profile scenario one or more soil layers with layer properties (e.g. aquifer yes/no) if applicable. • Per soil layer one soil material with soil material properties. • Surface line profiles related to the soil area or segment, if applicable . All inputs are defined in the technical design document of the macrosstability kernel. [5]. Within a segment, Ringtoets must be able to combine the surface lines with all (relevant) available stochastic subsoil scenarios and other schematization parameters to form all inputs for the analysis of a failure mechanism.
A9: REQ 5.2 | B9: Supply the subsoil schematization and –parameters for the WTI piping kernel. A subsoil schematization for piping consists of the same type of dataset as the data for the macro stability kernel. Within a segment, each surface line must be combined with all available stochastic subsoil scenarios to form all piping input scenarios. All piping inputs are defined in the technical design document of the piping kernel. [6]. | C9: Supply the subsoil schematization and –parameters for the WTI piping kernel. A subsoil schematization for piping consists of the same type of dataset as the data for the macro stability kernel. Within a segment, each surface line must be combined with all available stochastic subsoil scenarios to form all piping input scenarios. All piping inputs are defined in the technical design document of the piping kernel. [6].
A10: REQ 5.3 | B10: Supply the subsoil schematization and -parameters for the WTI flow slide kernel. A subsoil schematization for flow slide consists of the same type of dataset as the data for the macro stability kernel. Within a segment, each surface line must be combined with all available stochastic subsoil scenarios to form all flow slide input scenarios. All flow slide inputs are defined in the technical design document of the flow slide kernel. [7]. | C10: Supply the subsoil schematization and -parameters for the WTI flow slide kernel. A subsoil schematization for flow slide consists of the same type of dataset as the data for the macro stability kernel. Within a segment, each surface line must be combined with all available stochastic subsoil scenarios to form all flow slide input scenarios. All flow slide inputs are defined in the technical design document of the flow slide kernel. [7].
A11: REQ 5.4 | B11: Each kernel has a list of variables defined in its own technical design [5, 6 and 7]. Each of these variables that have to do with subsoil information must be provided by D-Soil Model. In addition of these mechanism related variables, all general soil related properties need to be stored as well [8]. | C11: Each kernel has a list of variables defined in its own technical design [5, 6 and 7]. Each of these variables that have to do with subsoil information must be provided by D-Soil Model. In addition of these mechanism related variables, all general soil related properties need to be stored as well [8].
A12: REQ 6 | B12: For each failure mechanism the subsoil is described in soil seqrnents" consisting of one of more scenario(s) of a soil profile" with a probability of appearance. These soil profiles are described in either 10 or 20 layer schematization. A soil segment can have a combination of 10 and 20 soil profiles. Each layer is described with at least all the parameters needed for the relevant failure mechanism. This output is gathered in one file, which can be directly imported in Ringtoets. | C12: For each failure mechanism the subsoil is described in soil seqrnents" consisting of one of more scenario(s) of a soil profile" with a probability of appearance. These soil profiles are described in either 10 or 20 layer schematization. A soil segment can have a combination of 10 and 20 soil profiles. Each layer is described with at least all the parameters needed for the relevant failure mechanism. This output is gathered in one file, which can be directly imported in Ringtoets.
A13: REQ 6.1 | B13: Stochastic characterization of the variables. A stochastic variable has a distribution. All stochastic variables can be stored as a mean value with a distribution . Per mechanisms the partial factor is stored in Ringtoets such that a stochastic variable can be turned into a semi- probabilistic designvalue. Ringtoets needs to work either with stochastic parameters or design values. The design values can be derived from the stochastic parameters. | C13: Stochastic characterization of the variables. A stochastic variable has a distribution. All stochastic variables can be stored as a mean value with a distribution . Per mechanisms the partial factor is stored in Ringtoets such that a stochastic variable can be turned into a semi- probabilistic designvalue. Ringtoets needs to work either with stochastic parameters or design values. The design values can be derived from the stochastic parameters.
A14: REQ 6.3 | B14: Separate segments for each failure mechanism. The SOS segment boundaries can be different, depending upon the failure mechanism. Each mechanism has its own segment boundaries. | C14: Separate segments for each failure mechanism. The SOS segment boundaries can be different, depending upon the failure mechanism. Each mechanism has its own segment boundaries.
A15: REQ 6.4 | B15: Definition of the location of the 1D profile for Piping and DFlowSlide. 2D profiles exist for piping and flow slide analyses. The current kernels can only handle 1D schematizations. The D-Soil Model user must be able to define the location of the 1D profile per 2D profile per mechanism. | C15: Definition of the location of the 1D profile for Piping and DFlowSlide. 2D profiles exist for piping and flow slide analyses. The current kernels can only handle 1D schematizations. The D-Soil Model user must be able to define the location of the 1D profile per 2D profile per mechanism.
... A22: REQ 7.4 | B22: Overview of all available SOS scenario's in a segment. All available SOS scenarios per segment per mechanism must be presented. Preferably, available CPT's and borings can be matched with one SOS scenario. | C22: Overview of all available SOS scenario's in a segment. All available SOS scenarios per segment per mechanism must be presented. Preferably, available CPT's and borings can be matched with one SOS scenario.
A23: REQ 8
A24: REQ 8.1 | B24: A reference line can be imported form a GIS. This reference line can, for example, be used for the projection of soil investigation in longitudinal direction or to import SOS data in a relevant section. | C24: A reference line can be imported form a GIS. This reference line can, for example, be used for the projection of soil investigation in longitudinal direction or to import SOS data in a relevant section.
A25: REQ 8.2 | B25: Table view for soil parameters The application must support the several views to show (parts of) the subsoil schematisation. Table view to show all the information in a tabular format. The soil materials properties will only be shown in table view (not in graphical views). Property view to show details (information)of the selected object and if applicable the relation with other information(objects). | C25: Table view for soil parameters The application must support the several views to show (parts of) the subsoil schematisation. Table view to show all the information in a tabular format. The soil materials properties will only be shown in table view (not in graphical views). Property view to show details (information)of the selected object and if applicable the relation with other information(objects).
A26: REQ 8.4 | B26: Profile view to modify soil profiles .The application must support in profile view the drawing and modification of 10 and 20 soil profiles. 10 and 20 soil profile can be viewed in map view in case the location of the soil profile is available in RD (point or line). Modification of the location must be able in future development of the application. The application must support in profile view the drawing and modification of 10 and 20 soil profiles. Visualize the surface lines with their characteristic points. The application must give an overview in scenarios view of the soil profile scenarios for a soil area or segment. Since this might mean a major change in the software architecture an overview of the soil profile scenarios in another way than a scenarios view is acceptable if future development towards scenarios view maintain open. | C26: Profile view to modify soil profiles .The application must support in profile view the drawing and modification of 10 and 20 soil profiles. 10 and 20 soil profile can be viewed in map view in case the location of the soil profile is available in RD (point or line). Modification of the location must be able in future development of the application. The application must support in profile view the drawing and modification of 10 and 20 soil profiles. Visualize the surface lines with their characteristic points. The application must give an overview in scenarios view of the soil profile scenarios for a soil area or segment. Since this might mean a major change in the software architecture an overview of the soil profile scenarios in another way than a scenarios view is acceptable if future development towards scenarios view maintain open.
A27: REQ 8.5 | B27: Automatically project boreholes and CPT onto a cross section. Borehole and CPT can be allocated automatically to one or more soil profiles if it lies within a certain (user defined) distance of this cross section. If the location in RD is known the borehole or CPT is plotted perpendicular to the 20 profile if the borehole or CPT is within a user defined distance. This distance is set per cross section and is default 100 meter. The CPT/boring and the soilprofile are plotted on the same vertical referencelevel (e.g. NAP) and scale | C27: Automatically project boreholes and CPT onto a cross section. Borehole and CPT can be allocated automatically to one or more soil profiles if it lies within a certain (user defined) distance of this cross section. If the location in RD is known the borehole or CPT is plotted perpendicular to the 20 profile if the borehole or CPT is within a user defined distance. This distance is set per cross section and is default 100 meter. The CPT/boring and the soilprofile are plotted on the same vertical referencelevel (e.g. NAP) and scale
A28: REQ 8.6 | B28: Segments have an ID that the user can relate to. This ID must be presented in mapview | C28: Segments have an ID that the user can relate to. This ID must be presented in mapview
A29: REQ 8.7 | B29: Show all soil investigation with labels in mapview The name of the boring or CTP must be visible to the user in mapview | C29: Show all soil investigation with labels in mapview The name of the boring or CTP must be visible to the user in mapview
A30: REQ 8.8 | B30: Visualize the surface lines with their characteristic points. A user must be able to view surface lines and characteristic points on top of a 10 and/ or 20 cross section. | C30: Visualize the surface lines with their characteristic points. A user must be able to view surface lines and characteristic points on top of a 10 and/ or 20 cross section.
A31: REQ 8.9 | B31: Select boreholes and CPT's onto a cross section. If automatic plotting (RE08.5) is not possible, the borehole or CPT can be dragged by the user to the right location in the 20 profile. The height reference of a borehole or CPT is assumed to be the same as in the soil profile and plotted in the height reference of the 20 profile | C31: Select boreholes and CPT's onto a cross section. If automatic plotting (RE08.5) is not possible, the borehole or CPT can be dragged by the user to the right location in the 20 profile. The height reference of a borehole or CPT is assumed to be the same as in the soil profile and plotted in the height reference of the 20 profile
A32: REQ 8.10 | B32: The application must give an overview in scenarios view of the soil profile scenarios for a soil area or segment. Since this might mean a major change in the software architecture an overview of the soil profile scenarios in another way than a scenarios view is acceptable if future development towards scenarios view maintains open. This scenarios view is not yet required in this version of the application if an overview of the scenarios per soil area or segments is provided in another manner (see also REO 5.1). En zie plaatje in Functional design document. | C32: The application must give an overview in scenarios view of the soil profile scenarios for a soil area or segment. Since this might mean a major change in the software architecture an overview of the soil profile scenarios in another way than a scenarios view is acceptable if future development towards scenarios view maintains open. This scenarios view is not yet required in this version of the application if an overview of the scenarios per soil area or segments is provided in another manner (see also REO 5.1). En zie plaatje in Functional design document.
A33: REQ 8.11 | B33: View files in file-related software. a. CPT's and borings in GEF format can be shown in an external program like GefPlotTool by doubleclicking the names in D-Soil Model. b. Open *.sti in DGeoStability by doubleclicking the name in D-Soil Model. | C33: View files in file-related software. a. CPT's and borings in GEF format can be shown in an external program like GefPlotTool by doubleclicking the names in D-Soil Model. b. Open *.sti in DGeoStability by doubleclicking the name in D-Soil Model.
A34: REQ 8.12 | B34: In map view, relevant background information must be shown. Standard relevant information is AHN information and information from a (later to be specified) WMS server. | C34: In map view, relevant background information must be shown. Standard relevant information is AHN information and information from a (later to be specified) WMS server.
A35: REQ 7.2 | B35: Allocation of CPT's and boreholes on a map and to a segment Imported CPT's and borings are shown on a map and can be matched to a segment. This Match can be pre-defined via a GIS-file.The application must support the allocation of soil profile scenarios to a soil area or segments. A soil profile scenario consists of a collection of 1D or 2D soil profiles with a probability of appearance. | C35: Allocation of CPT's and boreholes on a map and to a segment Imported CPT's and borings are shown on a map and can be matched to a segment. This Match can be pre-defined via a GIS-file.The application must support the allocation of soil profile scenarios to a soil area or segments. A soil profile scenario consists of a collection of 1D or 2D soil profiles with a probability of appearance.
... A60: REQ 9.24 | B60: On a longitudinal cross section, the user is to be able to Table import/export. All the tables in D-Soil Model (tables in table window, yield stresses, Sigmatau curves etc.) must have an export as well as an import functionality (for table or column(s)). | C60: On a longitudinal cross section, the user is to be able to Table import/export. All the tables in D-Soil Model (tables in table window, yield stresses, Sigmatau curves etc.) must have an export as well as an import functionality (for table or column(s)).
