Workbook
Name _Toc482412773: 'Test Document'!$C$14
Name _Toc482412774: 'Test Document'!#REF!
Name list: 'Overzicht testscripts'!$A$1:$A$3

Sheet Test Document
H1: Ja of nee | K1: 3.1 | L1: 3.2 | M1: 3.3 | N1: 3.4 | O1: 4.1 | P1: 5 | Q1: 5.1 | R1: 5.2 | S1: 5.3 | T1: 5.4 | U1: 6 | V1: 6.1 | W1: 6.3 | X1: 6.4 | Y1: 6.5 | Z1: 6.6 | AA1: 7 | AB1: 7.1 | AC1: 7.2 | AD1: 7.3 | AE1: 7.4 | AF1: 8 | AG1: 8.1 | AH1: 8.2 | AI1: 8.3 | AJ1: 8.4 | AK1: 8.5 | AL1: 8.6 | AM1: 8.7 | AN1: 8.8 | AO1: 8.9 | AP1: 8.10 | AQ1: 8.11 | AR1: 8.12 | AS1: 8.13 | AT1: 8.14 | AU1: 8.15 | AV1: 8.16 | AW1: 8.17 | AX1: 9 | AY1: 9.1 | AZ1: 9.2 | BA1: 9.3 | BB1: 9.4 | BC1: 9.5 | BD1: 9.7 | BE1: 9.8 | BF1: 9.9 | BG1: 9.1 | BH1: 8.13 | BI1: 9.12 | BJ1: 9.14 | BK1: 9.15 | BL1: 9.16 | BM1: 9.18 | BN1: 9.19 | BO1: 9.2 | BP1: 9.21 | BQ1: 9.23 | BR1: 9.24 | BS1: U123
C2: ="Test Document voor D-Soil Model versie "&D32 -> Test Document voor D-Soil Model versie 16.1.3.483
C4: Auteur: | E4: =F25 -> Virginie Trompille
C5: Versie: | E5: =C25 -> 4.1
C6: Datum: | E6: =D25 -> 42590
C7: Gebaseerd op: | E7: ="D-Soil Model "&E25 -> D-Soil Model 16.1.3.414
C11: Algemeen
C12: Dit document beschrijft de test procedure van het programma D-Soil Model. De tester zal aan de hand van dit document een test uitvoeren.
C13: De test die beschreven wordt in dit document is een functionele test. De inhoudelijk test wordt door middel van verificatie
C14: sommen uitgevoerd, en wordt in een ander document beschreven.
C17: Revisie historie
C18: Versie: | D18: Datum: | E18: Gebaseerd op: | F18: Door: | H18: Aanpassingen:
C19: 0.1 | D19: 41711 | F19: Reinout de Jongh
C20: 1.0 | D20: 41946 | E20: 14.1.1.2 | F20: Daan van de Ven
C21: 1.1 | D21: 41983 | E21: 14.1.1.2 | F21: Daan van de Ven
C22: 2.1 | D22: 42131 | E22: 15.1.1.2 | F22: Lennart Keyzer
C23: 3.0 | D23: 42514 | E23: 16.1 | F23: Daan van de Ven | H23: nieuwe versie
C24: 4.0 | D24: 42552 | E24: 16.1 | F24: Irene van der Zwan
C25: 4.1 | D25: 42590 | E25: 16.1.3.414 | F25: Virginie Trompille | H25: testscripts toegevoegd volgens REQ
C31: Algemene gegevens
C32: Versie: | D32: 16.1.3.483
C34: Naam Tester: | E34: Lennart Keyzer
C36: Datum: | E36: 42597
C38: Image: | D38: Platform: | E38: Decimal: | F38: Resolutie: | H38: Kleurenschema:
D39: Win10 | E39: 1 | F39: 1920*1080
C40: Taal operating system: | E40: Engels
C42: Printers:
C44: Opmerkingen tester:
B61: Nr. | C61: Test script | H61: Voldoet ? | I61: REQ nr. | J61: Opmerkingen
B63: 1 | C63: D-Soil Model - Menu-balk | H63: Voldoet? | I63: REQ nr. | J63: Opmerkingen | K63: 3.1 | L63: 3.2 | M63: 3.3 | O63: 4.1 | P63: 5 | Q63: 5.1 | R63: 5.2 | S63: 5.3 | T63: 5.4 | U63: 6 | V63: 6.1 | W63: 6.3 | X63: 6.4 | Y63: 6.5 | Z63: 6.6 | AA63: 7 | AB63: 7.1 | AC63: 3.4 | AD63: 7.3 | AE63: 7.4 | AF63: 8 | AG63: 8.1 | AH63: 8.2 | AJ63: 8.4 | AK63: 8.5 | AL63: 8.6 | AM63: 8.7 | AN63: 8.8 | AO63: 8.9 | AP63: 8.1 | AQ63: 8.11 | AR63: 8.12 | AS63: 8.13 | AT63: 8.14 | AU63: 8.15 | AV63: 8.16 | AW63: 8.17 | AX63: 9 | AY63: 9.1 | AZ63: 9.2 | BA63: 9.3 | BB63: 9.4 | BC63: 9.5 | BD63: 9.7 | BE63: 9.8 | BF63: 9.9 | BG63: 9.1 | BH63: 8.13 | BI63: 9.12 | BJ63: 9.14 | BK63: 9.15 | BL63: 9.16 | BM63: 9.18 | BN63: 9.19 | BO63: 9.2 | BP63: 9.21 | BQ63: 9.23 | BR63: 9.24 | BS63: U123
B64: =B63+0.01 -> 1.01 | C64: Bevat het menu-balk de volgende opties?
D65: Bestand | H65: Ja
D66: Bewerken | H66: Ja
D67: Beeld | H67: Ja
D68: Gereedschap | H68: Ja
D69: Help | H69: Ja
B72: =B63+1 -> 2 | C72: D-Soil Model - Hoofdscherm | H72: Voldoet? | I72: REQ nr. | J72: Opmerkingen
B73: =B72+0.01 -> 2.01 | C73: Bevat het hoofdscherm bij het opstarten de volgende vensteren:
D74: Algemene venster:
E75: Dwarsdoorsnede | H75: Ja
...

Sheet Overzicht testscripts
A1: Ja | I1: REQUIREMENTS (Functional) => | J1: 3.1 | K1: 3.2 | L1: 3.3 | M1: 3.4 | N1: 4.1 | O1: 5 | P1: 5.1 | Q1: 5.2 | R1: 5.3 | S1: 5.4 | T1: 6 | U1: 6.1 | V1: 6.3 | W1: 6.4 | X1: 6.5 | Y1: 6.6 | Z1: 7 | AA1: 7.1 | AB1: 7.2 | AC1: 7.3 | AD1: 7.4 | AE1: 8 | AF1: 8.1 | AG1: 8.2 | AH1: 8.3 | AI1: 8.4 | AJ1: 8.5 | AK1: 8.6 | AL1: 8.7 | AM1: 8.8 | AN1: 8.9 | AO1: 8.10 | AP1: 8.11 | AQ1: 8.12 | AR1: 8.13 | AS1: 8.14 | AT1: 8.15 | AU1: 8.16 | AV1: 8.17 | AW1: 9 | AX1: 9.1 | AY1: 9.2 | AZ1: 9.3 | BA1: 9.4 | BB1: 9.5 | BC1: 9.7 | BD1: 9.8 | BE1: 9.9 | BF1: 9.1 | BG1: 8.13 | BH1: 9.12 | BI1: 9.14 | BJ1: 9.15 | BK1: 9.16 | BL1: 9.18 | BM1: 9.19 | BN1: 9.2 | BO1: 9.21 | BP1: 9.23 | BQ1: 9.24 | BR1: U123
A2: Nee
A3: Todo
A6: Lijst van testscripts:
A8: 1 | B8: =VLOOKUP(A8,'Test Document'!$B$63:$C$1999,2,) -> D-Soil Model - Menu-balk
B9: =A8+0.01 -> 1.01 | C9: =VLOOKUP(B9,'Test Document'!$B$63:$C$1999,2,) -> Bevat het menu-balk de volgende opties?
B10: =B9+0.01 -> 1.02 | C10: =VLOOKUP(B10,'Test Document'!$B$63:$C$1999,2,) -> #N/A
A11: 2 | B11: =VLOOKUP(A11,'Test Document'!$B$63:$C$1999,2,) -> D-Soil Model - Hoofdscherm
B12: =A11+0.01 -> 2.01 | C12: =VLOOKUP(B12,'Test Document'!$B$63:$C$1999,2,) -> Bevat het hoofdscherm bij het opstarten de volgende vensteren:
B13: =B12+0.01 -> 2.02 | C13: =VLOOKUP(B13,'Test Document'!$B$63:$C$1999,2,) -> #N/A
A14: =A11+1 -> 3 | B14: =VLOOKUP(A14,'Test Document'!$B$63:$C$1999,2,) -> D-Soil model - Toolbar
B15: =A14+0.01 -> 3.01 | C15: =VLOOKUP(B15,'Test Document'!$B$63:$C$1999,2,) -> Werken de volgende knoppen?
B16: =B15+0.01 -> 3.02 | C16: =VLOOKUP(B16,'Test Document'!$B$63:$C$1999,2,) -> Kun je selecteren in het eerste dropdown menu
B17: =B16+0.01 -> 3.03 | C17: =VLOOKUP(B17,'Test Document'!$B$63:$C$1999,2,) -> Kun je selecteren in het 2e dropdown menu
B18: =B17+0.01 -> 3.04 | C18: =VLOOKUP(B18,'Test Document'!$B$63:$C$1999,2,) -> #N/A
A19: =A14+1 -> 4 | B19: =VLOOKUP(A19,'Test Document'!$B$63:$C$1999,2,) -> D-Soil model - Bestand menu
B20: =A19+0.01 -> 4.01 | C20: =VLOOKUP(B20,'Test Document'!$B$63:$C$1999,2,) -> Werken de volgende algemene opties?
B21: =B20+0.01 -> 4.02 | C21: =VLOOKUP(B21,'Test Document'!$B$63:$C$1999,2,) -> Werkt de 'Importeren - Materialen van database' optie? | J21: X
B22: =B21+0.01 -> 4.03 | C22: =VLOOKUP(B22,'Test Document'!$B$63:$C$1999,2,) -> Werkt de 'Importeren - 1D profielen van bestand' optie? | J22: X
B23: =B22+0.01 -> 4.04 | C23: =VLOOKUP(B23,'Test Document'!$B$63:$C$1999,2,) -> Werkt de 'Importeren - 2D profielen van bestand (sti)' optie? | J23: X
B24: =B23+0.01 -> 4.05 | C24: =VLOOKUP(B24,'Test Document'!$B$63:$C$1999,2,) -> Werkt de 'Importeren - 2D profielen van bestand (geo)' optie? | J24: X
B25: =B24+0.01 -> 4.06 | C25: =VLOOKUP(B25,'Test Document'!$B$63:$C$1999,2,) -> Werkt de 'Importeren - Hoogtegeometrien van bestand' optie? | J25: X
B26: =B25+0.01 -> 4.07 | C26: =VLOOKUP(B26,'Test Document'!$B$63:$C$1999,2,) -> Werkt de 'Importeren - Karakteristieke punten van bestand' optie? | J26: X
B27: =B26+0.01 -> 4.08 | C27: =VLOOKUP(B27,'Test Document'!$B$63:$C$1999,2,) -> Werkt de 'Importeren - Bodemsegmenten van bestand(csv)'? | J27: X
B28: =B27+0.01 -> 4.09 | C28: =VLOOKUP(B28,'Test Document'!$B$63:$C$1999,2,) -> Werkt de 'Importeren - Bodemsegmenten van bestand(shape)' optie? | J28: X
B29: =B28+0.01 -> 4.1 | C29: =VLOOKUP(B29,'Test Document'!$B$63:$C$1999,2,) -> Werkt de 'Importeren - GEF Sonderingen van bestand' optie? | J29: X
B30: =B29+0.01 -> 4.11 | C30: =VLOOKUP(B30,'Test Document'!$B$63:$C$1999,2,) -> Werkt de 'Importeren - GEF Boringen van bestand' optie? | J30: X
B31: =B30+0.01 -> 4.12 | C31: =VLOOKUP(B31,'Test Document'!$B$63:$C$1999,2,) -> Werkt de 'Importeren - Oude projectdatabase' optie? | J31: X
B32: =B31+0.01 -> 4.13 | C32: =VLOOKUP(B32,'Test Document'!$B$63:$C$1999,2,) -> Werkt het volgende:
B33: =B32+0.01 -> 4.14 | C33: =VLOOKUP(B33,'Test Document'!$B$63:$C$1999,2,) -> Toont het programma oude projecten en kun je deze openen?
B34: =B33+0.01 -> 4.15 | C34: =VLOOKUP(B34,'Test Document'!$B$63:$C$1999,2,) -> #N/A
A35: =A19+1 -> 5 | B35: =VLOOKUP(A35,'Test Document'!$B$63:$C$1999,2,) -> D-Soil model - Bewerken menu
B36: =A35+0.01 -> 5.01 | C36: =VLOOKUP(B36,'Test Document'!$B$63:$C$1999,2,) -> Werkt het volgende:
B37: =B36+0.01 -> 5.02 | C37: =VLOOKUP(B37,'Test Document'!$B$63:$C$1999,2,) -> #N/A
A38: =A35+1 -> 6 | B38: =VLOOKUP(A38,'Test Document'!$B$63:$C$1999,2,) -> D-Soil model - Beeld menu
B39: =A38+0.01 -> 6.01 | C39: =VLOOKUP(B39,'Test Document'!$B$63:$C$1999,2,) -> Werkt het volgende:
B40: =B39+0.01 -> 6.02 | C40: =VLOOKUP(B40,'Test Document'!$B$63:$C$1999,2,) -> #N/A
A41: =A38+1 -> 7 | B41: =VLOOKUP(A41,'Test Document'!$B$63:$C$1999,2,) -> D-Soil Model - Gereedschap menu - Opties
B42: =A41+0.01 -> 7.01 | C42: =VLOOKUP(B42,'Test Document'!$B$63:$C$1999,2,) -> Start-project, kan je kiezen uit?
B43: =B42+0.01 -> 7.02 | C43: =VLOOKUP(B43,'Test Document'!$B$63:$C$1999,2,) -> Aantal processoren, kan je het aantal processoren kiezen?
...

Sheet Requirements
A1: Eis ID | B1: Definitieve Eis | C1: Eis omschrijving | D1: Tetsed in testscript nr. …
A3: REQ 3 | B3: Format of import data. The required import files are: geo-file, sti file, dsx file and mdb file from D-GeoStability; for subsoil schematizations (20 profiles) and strength parameters. • csv files; description of the segments and 1Dsoil profiles. shape files; location of segments, 20 profiles, CPT's, borings. | C3: Format of import data. The required import files are: geo-file, sti file, dsx file and mdb file from D-GeoStability; for subsoil schematizations (20 profiles) and strength parameters. • csv files; description of the segments and 1Dsoil profiles. shape files; location of segments, 20 profiles, CPT's, borings. | D3: ='Test Document'!B115&", "&'Test Document'!B126&", "&'Test Document'!B134&", "&'Test Document'!B147&", "&'Test Document'!B155&", "&'Test Document'!B163 -> 4,02, 4,03, 4,04, 4,06, 4,07, 4,08
A4: REQ 3.2 | B4: REQ 3.2 Import and view all SOS data. The user must be able to get an overview of all available SOS subsoil schematizations. A user must be able to import all SOS segments and browse through them. The user must get a good visual overview of all available scenarios of soil profiles. | C4: REQ 3.2 Import and view all SOS data. The user must be able to get an overview of all available SOS subsoil schematizations. A user must be able to import all SOS segments and browse through them. The user must get a good visual overview of all available scenarios of soil profiles.
A5: REQ 3.3 | B5: Select relevant SOS information for project. Only the relevant part of the SOS database needs to be read. The user defines the relevant area, a reference line, or the user specifies the segments from a list. Only the SOS data relevant data is imported into the O-Soil Model project. | C5: Select relevant SOS information for project. Only the relevant part of the SOS database needs to be read. The user defines the relevant area, a reference line, or the user specifies the segments from a list. Only the SOS data relevant data is imported into the O-Soil Model project.
A6: REQ 4.1 | B6: All existing M-SoilBase functionality must be present in D-Soil Model | C6: All existing M-SoilBase functionality must be present in D-Soil Model
A7: REQ 5 | B7: The application gathers the (stochastic) subsoil schematizations input and parameters for the following kernels: • WTI macro stability kernel, WTI piping kernel, WTI flow slide kernel. D-Soil Model can save this output into one file. | C7: The application gathers the (stochastic) subsoil schematizations input and parameters for the following kernels: • WTI macro stability kernel, WTI piping kernel, WTI flow slide kernel. D-Soil Model can save this output into one file.
A8: REQ 5.1 | B8: In order to supply the kernels with the right input, the application supports the schematisation, storage and management of the subsoil schematisation for the failure mechanism macrostability. A subsoil schematisationf or a macrostability mechanism consists of: One or more soil areas (polygons)or soil segments (polylines). Per soil area or segment per mechanism one (stochastic)soil profile schematisation. Per (stochastic) soil profile schematisation one or more 1D and/or 2D soil profiles scenarios with a probability of appearance and profile properties (e.g. preconsolidationpressure) if applicable. Per 1D or 2D soil profile scenario one or more soil layers with layer properties (e.g. aquifer yes/no) if applicable. • Per soil layer one soil material with soil material properties. • Surface line profiles related to the soil area or segment, if applicable . All inputs are defined in the technical design document of the macrosstability kernel. [5]. Within a segment, Ringtoets must be able to combine the surface lines with all (relevant) available stochastic subsoil scenarios and other schematization parameters to form all inputs for the analysis of a failure mechanism. | C8: In order to supply the kernels with the right input, the application supports the schematisation, storage and management of the subsoil schematisation for the failure mechanism macrostability. A subsoil schematisationf or a macrostability mechanism consists of: One or more soil areas (polygons)or soil segments (polylines). Per soil area or segment per mechanism one (stochastic)soil profile schematisation. Per (stochastic) soil profile schematisation one or more 1D and/or 2D soil profiles scenarios with a probability of appearance and profile properties (e.g. preconsolidationpressure) if applicable. Per 1D or 2D soil profile scenario one or more soil layers with layer properties (e.g. aquifer yes/no) if applicable. • Per soil layer one soil material with soil material properties. • Surface line profiles related to the soil area or segment, if applicable . All inputs are defined in the technical design document of the macrosstability kernel. [5]. Within a segment, Ringtoets must be able to combine the surface lines with all (relevant) available stochastic subsoil scenarios and other schematization parameters to form all inputs for the analysis of a failure mechanism.
A9: REQ 5.2 | B9: Supply the subsoil schematization and –parameters for the WTI piping kernel. A subsoil schematization for piping consists of the same type of dataset as the data for the macro stability kernel. Within a segment, each surface line must be combined with all available stochastic subsoil scenarios to form all piping input scenarios. All piping inputs are defined in the technical design document of the piping kernel. [6]. | C9: Supply the subsoil schematization and –parameters for the WTI piping kernel. A subsoil schematization for piping consists of the same type of dataset as the data for the macro stability kernel. Within a segment, each surface line must be combined with all available stochastic subsoil scenarios to form all piping input scenarios. All piping inputs are defined in the technical design document of the piping kernel. [6].
A10: REQ 5.3 | B10: Supply the subsoil schematization and -parameters for the WTI flow slide kernel. A subsoil schematization for flow slide consists of the same type of dataset as the data for the macro stability kernel. Within a segment, each surface line must be combined with all available stochastic subsoil scenarios to form all flow slide input scenarios. All flow slide inputs are defined in the technical design document of the flow slide kernel. [7]. | C10: Supply the subsoil schematization and -parameters for the WTI flow slide kernel. A subsoil schematization for flow slide consists of the same type of dataset as the data for the macro stability kernel. Within a segment, each surface line must be combined with all available stochastic subsoil scenarios to form all flow slide input scenarios. All flow slide inputs are defined in the technical design document of the flow slide kernel. [7].
A11: REQ 5.4 | B11: Each kernel has a list of variables defined in its own technical design [5, 6 and 7]. Each of these variables that have to do with subsoil information must be provided by D-Soil Model. In addition of these mechanism related variables, all general soil related properties need to be stored as well [8]. | C11: Each kernel has a list of variables defined in its own technical design [5, 6 and 7]. Each of these variables that have to do with subsoil information must be provided by D-Soil Model. In addition of these mechanism related variables, all general soil related properties need to be stored as well [8].
A12: REQ 6 | B12: For each failure mechanism the subsoil is described in soil seqrnents" consisting of one of more scenario(s) of a soil profile" with a probability of appearance. These soil profiles are described in either 10 or 20 layer schematization. A soil segment can have a combination of 10 and 20 soil profiles. Each layer is described with at least all the parameters needed for the relevant failure mechanism. This output is gathered in one file, which can be directly imported in Ringtoets. | C12: For each failure mechanism the subsoil is described in soil seqrnents" consisting of one of more scenario(s) of a soil profile" with a probability of appearance. These soil profiles are described in either 10 or 20 layer schematization. A soil segment can have a combination of 10 and 20 soil profiles. Each layer is described with at least all the parameters needed for the relevant failure mechanism. This output is gathered in one file, which can be directly imported in Ringtoets.
A13: REQ 6.1 | B13: Stochastic characterization of the variables. A stochastic variable has a distribution. All stochastic variables can be stored as a mean value with a distribution . Per mechanisms the partial factor is stored in Ringtoets such that a stochastic variable can be turned into a semi- probabilistic designvalue. Ringtoets needs to work either with stochastic parameters or design values. The design values can be derived from the stochastic parameters. | C13: Stochastic characterization of the variables. A stochastic variable has a distribution. All stochastic variables can be stored as a mean value with a distribution . Per mechanisms the partial factor is stored in Ringtoets such that a stochastic variable can be turned into a semi- probabilistic designvalue. Ringtoets needs to work either with stochastic parameters or design values. The design values can be derived from the stochastic parameters.
A14: REQ 6.3 | B14: Separate segments for each failure mechanism. The SOS segment boundaries can be different, depending upon the failure mechanism. Each mechanism has its own segment boundaries. | C14: Separate segments for each failure mechanism. The SOS segment boundaries can be different, depending upon the failure mechanism. Each mechanism has its own segment boundaries.
A15: REQ 6.4 | B15: Definition of the location of the 1D profile for Piping and DFlowSlide. 2D profiles exist for piping and flow slide analyses. The current kernels can only handle 1D schematizations. The D-Soil Model user must be able to define the location of the 1D profile per 2D profile per mechanism. | C15: Definition of the location of the 1D profile for Piping and DFlowSlide. 2D profiles exist for piping and flow slide analyses. The current kernels can only handle 1D schematizations. The D-Soil Model user must be able to define the location of the 1D profile per 2D profile per mechanism.
... A22: REQ 7.4 | B22: Overview of all available SOS scenario's in a segment. All available SOS scenarios per segment per mechanism must be presented. Preferably, available CPT's and borings can be matched with one SOS scenario. | C22: Overview of all available SOS scenario's in a segment. All available SOS scenarios per segment per mechanism must be presented. Preferably, available CPT's and borings can be matched with one SOS scenario.
A23: REQ 8
A24: REQ 8.1 | B24: A reference line can be imported form a GIS. This reference line can, for example, be used for the projection of soil investigation in longitudinal direction or to import SOS data in a relevant section. | C24: A reference line can be imported form a GIS. This reference line can, for example, be used for the projection of soil investigation in longitudinal direction or to import SOS data in a relevant section.
A25: REQ 8.2 | B25: Table view for soil parameters The application must support the several views to show (parts of) the subsoil schematisation. Table view to show all the information in a tabular format. The soil materials properties will only be shown in table view (not in graphical views). Property view to show details (information)of the selected object and if applicable the relation with other information(objects). | C25: Table view for soil parameters The application must support the several views to show (parts of) the subsoil schematisation. Table view to show all the information in a tabular format. The soil materials properties will only be shown in table view (not in graphical views). Property view to show details (information)of the selected object and if applicable the relation with other information(objects).
A26: REQ 8.4 | B26: Profile view to modify soil profiles .The application must support in profile view the drawing and modification of 10 and 20 soil profiles. 10 and 20 soil profile can be viewed in map view in case the location of the soil profile is available in RD (point or line). Modification of the location must be able in future development of the application. The application must support in profile view the drawing and modification of 10 and 20 soil profiles. Visualize the surface lines with their characteristic points. The application must give an overview in scenarios view of the soil profile scenarios for a soil area or segment. Since this might mean a major change in the software architecture an overview of the soil profile scenarios in another way than a scenarios view is acceptable if future development towards scenarios view maintain open. | C26: Profile view to modify soil profiles .The application must support in profile view the drawing and modification of 10 and 20 soil profiles. 10 and 20 soil profile can be viewed in map view in case the location of the soil profile is available in RD (point or line). Modification of the location must be able in future development of the application. The application must support in profile view the drawing and modification of 10 and 20 soil profiles. Visualize the surface lines with their characteristic points. The application must give an overview in scenarios view of the soil profile scenarios for a soil area or segment. Since this might mean a major change in the software architecture an overview of the soil profile scenarios in another way than a scenarios view is acceptable if future development towards scenarios view maintain open.
A27: REQ 8.5 | B27: Automatically project boreholes and CPT onto a cross section. Borehole and CPT can be allocated automatically to one or more soil profiles if it lies within a certain (user defined) distance of this cross section. If the location in RD is known the borehole or CPT is plotted perpendicular to the 20 profile if the borehole or CPT is within a user defined distance. This distance is set per cross section and is default 100 meter. The CPT/boring and the soilprofile are plotted on the same vertical referencelevel (e.g. NAP) and scale | C27: Automatically project boreholes and CPT onto a cross section. Borehole and CPT can be allocated automatically to one or more soil profiles if it lies within a certain (user defined) distance of this cross section. If the location in RD is known the borehole or CPT is plotted perpendicular to the 20 profile if the borehole or CPT is within a user defined distance. This distance is set per cross section and is default 100 meter. The CPT/boring and the soilprofile are plotted on the same vertical referencelevel (e.g. NAP) and scale
A28: REQ 8.6 | B28: Segments have an ID that the user can relate to. This ID must be presented in mapview | C28: Segments have an ID that the user can relate to. This ID must be presented in mapview
A29: REQ 8.7 | B29: Show all soil investigation with labels in mapview The name of the boring or CTP must be visible to the user in mapview | C29: Show all soil investigation with labels in mapview The name of the boring or CTP must be visible to the user in mapview
A30: REQ 8.8 | B30: Visualize the surface lines with their characteristic points. A user must be able to view surface lines and characteristic points on top of a 10 and/ or 20 cross section. | C30: Visualize the surface lines with their characteristic points. A user must be able to view surface lines and characteristic points on top of a 10 and/ or 20 cross section.
A31: REQ 8.9 | B31: Select boreholes and CPT's onto a cross section. If automatic plotting (RE08.5) is not possible, the borehole or CPT can be dragged by the user to the right location in the 20 profile. The height reference of a borehole or CPT is assumed to be the same as in the soil profile and plotted in the height reference of the 20 profile | C31: Select boreholes and CPT's onto a cross section. If automatic plotting (RE08.5) is not possible, the borehole or CPT can be dragged by the user to the right location in the 20 profile. The height reference of a borehole or CPT is assumed to be the same as in the soil profile and plotted in the height reference of the 20 profile
A32: REQ 8.10 | B32: The application must give an overview in scenarios view of the soil profile scenarios for a soil area or segment. Since this might mean a major change in the software architecture an overview of the soil profile scenarios in another way than a scenarios view is acceptable if future development towards scenarios view maintains open. This scenarios view is not yet required in this version of the application if an overview of the scenarios per soil area or segments is provided in another manner (see also REO 5.1). En zie plaatje in Functional design document. | C32: The application must give an overview in scenarios view of the soil profile scenarios for a soil area or segment. Since this might mean a major change in the software architecture an overview of the soil profile scenarios in another way than a scenarios view is acceptable if future development towards scenarios view maintains open. This scenarios view is not yet required in this version of the application if an overview of the scenarios per soil area or segments is provided in another manner (see also REO 5.1). En zie plaatje in Functional design document.
A33: REQ 8.11 | B33: View files in file-related software. a. CPT's and borings in GEF format can be shown in an external program like GefPlotTool by doubleclicking the names in D-Soil Model. b. Open *.sti in DGeoStability by doubleclicking the name in D-Soil Model. | C33: View files in file-related software. a. CPT's and borings in GEF format can be shown in an external program like GefPlotTool by doubleclicking the names in D-Soil Model. b. Open *.sti in DGeoStability by doubleclicking the name in D-Soil Model.
A34: REQ 8.12 | B34: In map view, relevant background information must be shown. Standard relevant information is AHN information and information from a (later to be specified) WMS server. | C34: In map view, relevant background information must be shown. Standard relevant information is AHN information and information from a (later to be specified) WMS server.
A35: REQ 7.2 | B35: Allocation of CPT's and boreholes on a map and to a segment Imported CPT's and borings are shown on a map and can be matched to a segment. This Match can be pre-defined via a GIS-file.The application must support the allocation of soil profile scenarios to a soil area or segments. A soil profile scenario consists of a collection of 1D or 2D soil profiles with a probability of appearance. | C35: Allocation of CPT's and boreholes on a map and to a segment Imported CPT's and borings are shown on a map and can be matched to a segment. This Match can be pre-defined via a GIS-file.The application must support the allocation of soil profile scenarios to a soil area or segments. A soil profile scenario consists of a collection of 1D or 2D soil profiles with a probability of appearance.
... A60: REQ 9.24 | B60: On a longitudinal cross section, the user is to be able to Table import/export. All the tables in D-Soil Model (tables in table window, yield stresses, Sigmatau curves etc.) must have an export as well as an import functionality (for table or column(s)). | C60: On a longitudinal cross section, the user is to be able to Table import/export. All the tables in D-Soil Model (tables in table window, yield stresses, Sigmatau curves etc.) must have an export as well as an import functionality (for table or column(s)).
