Workbook

Sheet Invoer
A1: Map | B1: Naam project | C1: Gebied | D1: defx | E1: Inlezen | F1: Locations | G1: Surfacelines/char | H1: Soilprofiles | I1: Bijzonderheden | J1: Inlezen | K1: Damx | L1: Opmerkingen
A2: Invoer1 | B2: RPS-STBI | C2: Delfland | D2: Actualisatie | E2: Toets/Reg | F2: csv&shape | G2: RD | H2: 1D | I2: stress tables | J2: ok | K2: Actualisatie
A3: Invoer1 | B3: RPS-STBU | C3: Delfland | D3: Actualisatie | E3: Ontwerp/Reg | F3: csv&shape | G3: RD | H3: 1D | I3: stress tables | J3: ok | K3: Actualisatie | L3: Grid naar handmatig gezet
A4: Invoer2 | B4: Tutorial Design | C4: HSSK | D4: DAM Tutorial Design | E4: Ontwerp/Prim | F4: csv | G4: lokaal | H4: 2D | I4: oorsprong sti bestand <>0 | J4: ok | K4: DAM Tutorial Design | L4: Let op: Use slope top shouder op FALSE zetten
A5: Invoer3 | B5: DeltaDijk normal | C5: Friesland | D5: DeltaDijk normal | E5: Ontwerp/Prim | F5: csv | G5: lokaal | H5: 1D | J5: ok | K5: DeltaDijk normal
A6: Invoer4 | B6: Balgzandkanaal | C6: HHNK | D6: HHNK | E6: Toets/Reg | F6: csv | G6: RD | H6: 1D | J6: ok (Balgzandkanaal) | K6: Balgzandkanaal | L6: 230, 890, 980 en 1080 kunnen niet rekenen.
A7: Invoer5 | B7: Rijnland | C7: Rijnland -Testset 1 | D7: binnenwaarts | E7: Ontwerp/Reg | F7: csv | G7: lokaal | H7: 2D | J7: ok | K7: binnenwaarts
A8: Invoer5 | B8: Rijnland | C8: Rijnland -Testset 2 | D8: buitenwaarts | E8: Ontwerp/Reg | F8: csv | G8: lokaal | H8: 2D | J8: ok | K8: buitenwaarts
A9: Invoer6 | B9: Rijnland | C9: Rijnland | D9: Piping.defx | E9: Ontwerp/Prim | F9: csv | G9: lokaal | H9: 2D | I9: Piping zonder piping ondergrond | J9: ok | K9: piping | L9: Piping zonder pipingsegmenten niet mogelijk, check op foutmelding. NB damx openen veroorzaakt crash
A10: Invoer7 | B10: Tutorial - Toetsing | C10: HHNK | D10: Voorbeeldtraject1 | E10: Toets/Reg | F10: csv&shape | G10: RD | H10: 1D | I10: vanaf bestaande damx | J10: ok | K10: Voorbeeldtraject1
A11: Invoer8 | B11: Tutorial - Waterspanningen | D11: CIP_waterspanningen | E11: Ontwerp/Prim | F11: csv | G11: lokaal | H11: 2D | J11: ok | K11: CIP_waterspanningen | L11: The dike has an improper shape (p.e. dike top below dike toe) -223-17
A12: Invoer9 | B12: Groningen | C12: Groningen | D12: Groningen | E12: Ontwerp/Prim | F12: csv | G12: RD | H12: 2D | J12: ok | K12: Groningen
A13: Invoer10 | B13: Tutorial Design | C13: HSSK | D13: Zonetype | E13: Ontwerp/Prim | F13: csv | G13: lokaal | H13: 2D | I13: 1 profiel voor testen Zonetype | J13: ok | K13: Zonetype
A14: Invoer11 | B14: RPS-STBI-24km | C14: Delfland | D14: 24km | E14: Toets/Reg | F14: csv&shape | G14: RD | H14: 1D | I14: stress tables | J14: ok | K14: 24km
A15: Invoer12 | B15: 1b. RDD DAM Pilot Gevoeligheidsanalyse - STBI - Bishop - WS standen - Run Toetsing | C15: Aa en Maas | D15: Rechter Diezedijk | E15: Ontwerp/Prim | F15: csv | G15: RD | H15: 1D | I15: testdag | J15: ok | K15: Rechter Diezedijk | L15: damx leest in in 15, niet in 18. vanaf defx melding; geen dijkringen

Sheet Gerekend
A1: =Invoer!A1 -> Map | B1: =Invoer!B1 -> Naam project | C1: =Invoer!C1 -> Gebied | D1: =Invoer!E1 -> Inlezen | E1: =Invoer!K1 -> Damx | F1: =Invoer!L1 -> Opmerkingen | G1: Geometrieaanpassing | H1: Systeem type faalmechanisme | I1: Berekeningsmethode | J1: Rekentijd 15-15 | K1: Log 15-15 | L1: Rekentijd 15-18 | M1: Log 15-18 | N1: Rekentijd 18-18 | O1: Log 18-18 | P1: Bevinding | Q1: Accoord (verschil opgenomen in Differences with previous release.txt)
A2: Gerekend1a | B2: =Invoer!B2 -> RPS-STBI | C2: =Invoer!C2 -> Delfland | D2: =Invoer!E2 -> Toets/Reg | E2: =Invoer!K2 -> Actualisatie | F2: =Invoer!L2 -> 0 | G2: nvt | H2: VNK-spec1m-Automatic | I2: div | K2: Subject RK215-830: Cannot generate scenarios: Level (-2.32 m) should NOT be higher than surface line (-2.46)) | L2: 1u37 | M2: Subject RK215-830: Cannot generate scenarios: Level (-2.32 m) should NOT be higher than surface line (-2.46)) | N2: 1u30 | P2: 1.object not set to a reference (issue MWDAM-1216) 2. ander scenario (MWDAM-1219) | Q2: ok (28-3-18)
A3: Gerekend1b | B3: =Invoer!B3 -> RPS-STBU | C3: =Invoer!C3 -> Delfland | D3: =Invoer!E3 -> Ontwerp/Reg | E3: =Invoer!K3 -> Actualisatie | F3: =Invoer!L3 -> Grid naar handmatig gezet | G3: nee | H3: buitenwaarts | I3: Bishop | J3: 9 min | K3: Het aanpassen van de helling van het dijkprofiel is mislukt. Waarschijnlijk is de nieuwe helling te steil of te flauw. RK215-830 en RK215-1020 | L3: 30min | M3: Adapting the slope of the dike failed. Probably the slope is too steep or too shallow. in location 'RK215-1020 (en 830)' scenario '1' soilprofile 'Segment_8_1D1' | N3: 40min | P3: verschil door ontbreken van 'Unexpected error' door use new shoulder top slope | Q3: ok (19-4-18)
A4: Gerekend2 | B4: =Invoer!B4 -> Tutorial Design | C4: =Invoer!C4 -> HSSK | D4: =Invoer!E4 -> Ontwerp/Prim | E4: =Invoer!K4 -> DAM Tutorial Design | F4: =Invoer!L4 -> Let op: Use slope top shouder op FALSE zetten | G4: ja | H4: Binnenwaartse stabiliteit | I4: Bishop | J4: 4 min | K4: DWP_13, scenario 1, DWP_13.sti FAIL: De nieuwe hoogte van de berm met afschot is groter dan de maximaal toegestane hoogte. DWP_14, scenario 1, DWP_14.sti FAIL: De nieuwe hoogte van de berm met afschot is groter dan de maximaal toegestane hoogte. DWP_16, scenario 1, DWP_16.sti FAIL: De nieuwe hoogte van de berm met afschot is groter dan de maximaal toegestane hoogte. DWP_22, scenario 1, DWP_22.sti FAIL: De nieuwe hoogte van de berm met afschot is groter dan de maximaal toegestane hoogte. DWP_15, scenario 1, DWP_15.sti FAIL: De nieuwe hoogte van de berm met afschot is groter dan de maximaal toegestane hoogte. DWP_9, scenario 1, DWP_9.sti FAIL: De nieuwe hoogte van de berm met afschot is groter dan de maximaal toegestane hoogte. DWP_8, scenario 1, DWP_8.sti FAIL: De nieuwe hoogte van de berm met afschot is groter dan de maximaal toegestane hoogte. | L4: 20min | M4: DWP_13, scenario 1, DWP_13.sti FAIL: De nieuwe hoogte van de berm met afschot is groter dan de maximaal toegestane hoogte. DWP_14, scenario 1, DWP_14.sti FAIL: De nieuwe hoogte van de berm met afschot is groter dan de maximaal toegestane hoogte. DWP_16, scenario 1, DWP_16.sti FAIL: De nieuwe hoogte van de berm met afschot is groter dan de maximaal toegestane hoogte. DWP_22, scenario 1, DWP_22.sti FAIL: De nieuwe hoogte van de berm met afschot is groter dan de maximaal toegestane hoogte. DWP_15, scenario 1, DWP_15.sti FAIL: De nieuwe hoogte van de berm met afschot is groter dan de maximaal toegestane hoogte. DWP_9, scenario 1, DWP_9.sti FAIL: De nieuwe hoogte van de berm met afschot is groter dan de maximaal toegestane hoogte. DWP_8, scenario 1, DWP_8.sti FAIL: De nieuwe hoogte van de berm met afschot is groter dan de maximaal toegestane hoogte. | N4: 14min | Q4: ok (1-5-18)
A5: Gerekend3 | B5: =Invoer!B5 -> DeltaDijk normal | C5: =Invoer!C5 -> Friesland | D5: =Invoer!E5 -> Ontwerp/Prim | E5: =Invoer!K5 -> DeltaDijk normal | F5: =Invoer!L5 -> 0 | G5: ja | H5: Binnenwaartse stabiliteit | I5: Bishop | J5: 24min | L5: 53min | N5: 30min | Q5: ok (29-3-18)
A6: Gerekend4 | B6: =Invoer!B6 -> Balgzandkanaal | C6: =Invoer!C6 -> HHNK | D6: =Invoer!E6 -> Toets/Reg | E6: =Invoer!K6 -> Balgzandkanaal | F6: =Invoer!L6 -> 230, 890, 980 en 1080 kunnen niet rekenen. | G6: nvt | H6: scenario 3,4,7,8,10 | I6: nvt | J6: 2 uur | L6: 24 uur (printerprobrobleem) | N6: 7uur | P6: verschil door MWDAM-1219 | Q6: ok (3-5-2018)
A7: Gerekend5a | B7: =Invoer!B7 -> Rijnland | C7: =Invoer!C7 -> Rijnland -Testset 1 | D7: =Invoer!E7 -> Ontwerp/Reg | E7: =Invoer!K7 -> binnenwaarts | F7: =Invoer!L7 -> 0 | G7: ja | H7: Binnenwaartse stabiliteit | I7: Bishop/Liftvan. Rekent alleen met Bishop | J7: 2 min | L7: 1u7 | N7: 10 min | O7: todo | P7: verschil door verwijdren optie Bishop/LiftVan (MWDAM-1220) | Q7: ok (3-5-2018)
A8: Gerekend5b | B8: =Invoer!B8 -> Rijnland | C8: =Invoer!C8 -> Rijnland -Testset 2 | D8: =Invoer!E8 -> Ontwerp/Reg | E8: =Invoer!K8 -> buitenwaarts | F8: =Invoer!L8 -> 0 | G8: ja | H8: Binnenwaartse stabiliteit | J8: 1 min | L8: 2min | O8: 2min | Q8: ok (1-5-2018)
A9: Gerekend6 | B9: =Invoer!B9 -> Rijnland | C9: =Invoer!C9 -> Rijnland | D9: =Invoer!E9 -> Ontwerp/Prim | E9: =Invoer!K9 -> piping | F9: =Invoer!L9 -> Piping zonder pipingsegmenten niet mogelijk, check op foutmelding. NB damx openen veroorzaakt crash | G9: ja | H9: Piping | I9: Sellmeijer4krachten | J9: nvt | L9: nvt | M9: nvt | O9: nvt | Q9: nvt
A10: Gerekend7 | B10: =Invoer!B10 -> Tutorial - Toetsing | C10: =Invoer!C10 -> HHNK | D10: =Invoer!E10 -> Toets/Reg | E10: =Invoer!K10 -> Voorbeeldtraject1 | F10: =Invoer!L10 -> 0 | G10: nvt | H10: scenario 3,4,7,8,10 | I10: nvt | J10: 1u22 | K10: Cannot generate scenarios: Level (-0.15 m) should NOT be higher than surface line (-0.40)) | L10: 5uur | O10: 3uur | P10: verschil in initieel (automatisch grid LiftVan): MWDAM-1227 | Q10: ok (1-5-2018)
A11: Gerekend8 | B11: =Invoer!B11 -> Tutorial - Waterspanningen | C11: =Invoer!C11 -> 0 | D11: =Invoer!E11 -> Ontwerp/Prim | E11: =Invoer!K11 -> CIP_waterspanningen | F11: =Invoer!L11 -> The dike has an improper shape (p.e. dike top below dike toe) -223-17 | G11: ja | I11: bishop | J11: 1u00 | L11: 1u58 | N11: 1u46 | Q11: ok(3-5-2018)
A12: Gerekend9 | B12: =Invoer!B12 -> Groningen | C12: =Invoer!C12 -> Groningen | D12: =Invoer!E12 -> Ontwerp/Prim | E12: =Invoer!K12 -> Groningen | F12: =Invoer!L12 -> 0 | G12: ja | I12: upliftvan | J12: 38 min | L12: 2u50 | N12: 4u | Q12: ok(1-5-2018) | R12: verschil door oplossen bug 15
A13: Gerekend10 | B13: =Invoer!B13 -> Tutorial Design | C13: =Invoer!C13 -> HSSK | D13: =Invoer!E13 -> Ontwerp/Prim | E13: =Invoer!K13 -> Zonetype | F13: =Invoer!L13 -> 0 | G13: nee | H13: zoneringvariatie | I13: Bishop | J13: 39 sec | L13: 19min | Q13: ok(3-5-2018)
A14: Gerekend11 | B14: =Invoer!B14 -> RPS-STBI-24km | C14: =Invoer!C14 -> Delfland | D14: =Invoer!E14 -> Toets/Reg | E14: =Invoer!K14 -> 24km | F14: =Invoer!L14 -> 0 | G14: nvt | H14: scenario 1,3,5,6,7,8,9,10,11 | I14: nvt
A15: Gerekend12 | B15: =Invoer!B15 -> 1b. RDD DAM Pilot Gevoeligheidsanalyse - STBI - Bishop - WS standen - Run Toetsing | C15: =Invoer!C15 -> Aa en Maas | D15: =Invoer!E15 -> Ontwerp/Prim | E15: =Invoer!K15 -> Rechter Diezedijk | F15: =Invoer!L15 -> damx leest in in 15, niet in 18. vanaf defx melding; geen dijkringen | G15: nvt | I15: nvt | O15: todo | Q15: ok (24-5-18)

Sheet Oude projecten
A1: Map | B1: Naam | C1: dijktype | D1: calc type | E1: faalmechanisem | F1: aantal locaties | G1: 1D/2D | H1: shapes | I1: Opmerking 1 | J1: Opmerking 2 | K1: Bishop | L1: LiftVan | M1: Bishop/Liftvan | N1: Bligh | O1: Sellmeijer (4 forces | P1: VNK
A2: DamEngineTestProjects | B2: Larenstein_AaenMaas/Rechter Diezedijk | C2: regionaal | D2: ontwerp | E2: piping | F2: 64 | G2: 1D | H2: ja | K2: nvt | L2: nvt | M2: _BishopLiftvan.damx | N2: _bligh.damx
A3: DamEngineTestProjects | B3: Larenstein_AaenMaas/Rechter Diezedijk_stab | C3: regionaal | D3: ontwerp | E3: stabiliteit | F3: 64 | G3: 1D | H3: ja | I3: geeft onverwachte fout bij Liftvan voor locaties 29,30,99,100 | K3: nvt | L3: op rekennode WCF226 | M3: nvt | N3: nvt | O3: nvt | P3: nvt
A4: DamEngineTestProjects | B4: DAM Tutorial Design | C4: primair | D4: ontwerp | E4: stabiliteit | F4: 23 | G4: 2D | H4: nee
A5: DamEngineTestProjects | B5: Delfland_DSM_toets | C5: regionaal | D5: toets | E5: stabiliteit | F5: 26 | G5: 1D | H5: ja | I5: Surfacelines in RD coordinaten | J5: SigmaTau curves
A6: DamEngineTestProjects | B6: HHNK_WILMKEBREEK | C6: regionaal | D6: ontwerp | E6: stabiliteit | F6: 29 | G6: 2D | H6: ja | I6: ophoogmateriaal handmatig toegevoegd aan DAMX
A7: DamEngineTestProjects | B7: Delfland_DSM_ontw_BU | C7: regionaal | D7: ontwerp | E7: stabiliteit | F7: 26 | G7: 1D | H7: ja | I7: idem toets, maar dan buitenwaartsc | J7: handmatig grid binnen grenzen van geometrie zetten
A9: DamEngineTestProjects | B9: HHNK_STARNMEER | C9: regionaal | D9: toets | F9: 70 | I9: geeft nog fouten, niet ingecheckt (irene, 24 okt)

Sheet Sheet1
A1: Map | B1: Naam project | C1: Gebied | D1: Inlezen | E1: Locations | F1: Surfacelines/char | G1: Soilprofiles | H1: Bijzonderheden | I1: Opmerkingen
A2: Invoer1 | B2: RPS-STBI | C2: Delfland | D2: Toets/Reg | E2: csv&shape | F2: RD | G2: 1D | H2: stress tables
A3: Invoer1 | B3: RPS-STBU | C3: Delfland | D3: Ontwerp/Reg | E3: csv&shape | F3: RD | G3: 1D | H3: stress tables | I3: Grid naar handmatig gezet
A4: Invoer2 | B4: Tutorial Design | C4: HSSK | D4: Ontwerp/Prim | E4: csv | F4: lokaal | G4: 2D | H4: oorsprong sti bestand <>0 | I4: Let op: Use slope top shouder op FALSE zetten
A5: Invoer3 | B5: DeltaDijk normal | C5: Friesland | D5: Ontwerp/Prim | E5: csv | F5: lokaal | G5: 1D
A6: Invoer4 | B6: Balgzandkanaal | C6: HHNK | D6: Toets/Reg | E6: csv | F6: RD | G6: 1D | I6: 230, 890, 980 en 1080 kunnen niet rekenen.
A7: Invoer5 | B7: Rijnland | C7: Rijnland -Testset 1 | D7: Ontwerp/Reg | E7: csv | F7: lokaal | G7: 2D
A8: Invoer5 | B8: Rijnland | C8: Rijnland -Testset 2 | D8: Ontwerp/Reg | E8: csv | F8: lokaal | G8: 2D
A9: Invoer6 | B9: Rijnland | C9: Rijnland | D9: Ontwerp/Prim | E9: csv | F9: lokaal | G9: 2D | H9: Piping zonder piping ondergrond | I9: Piping zonder pipingsegmenten niet mogelijk, check op foutmelding. NB damx openen veroorzaakt crash
A10: Invoer7 | B10: Tutorial - Toetsing | C10: HHNK | D10: Toets/Reg | E10: csv&shape | F10: RD | G10: 1D | H10: vanaf bestaande damx
A11: Invoer8 | B11: Tutorial - Waterspanningen | D11: Ontwerp/Prim | E11: csv | F11: lokaal | G11: 2D | I11: The dike has an improper shape (p.e. dike top below dike toe) -223-17
A12: Invoer9 | B12: Groningen | C12: Groningen | D12: Ontwerp/Prim | E12: csv | F12: RD | G12: 2D
A13: Invoer10 | B13: Tutorial Design | C13: HSSK | D13: Ontwerp/Prim | E13: csv | F13: lokaal | G13: 2D | H13: 1 profiel voor testen Zonetype
A14: Invoer11 | B14: RPS-STBI-24km | C14: Delfland | D14: Toets/Reg | E14: csv&shape | F14: RD | G14: 1D | H14: stress tables
A15: Invoer12 | B15: 1b. RDD DAM Pilot Gevoeligheidsanalyse - STBI - Bishop - WS standen - Run Toetsing | C15: Aa en Maas | D15: Ontwerp/Prim | E15: csv | F15: RD | G15: 1D
